{"text_format":"3","workbook":"xlsx","n_sheets":1,"sheets":["最终"],"not_rendered":{"external_links":1,"defined_names":2},"read":"whole","date_system":"1900"}

{"sheet":"最终","index":0,"n_rows":1508,"n_cols":4,"rows_kept":1508,"merged":[[0,0,0,1],[1,0,1,3],[1507,0,1507,3]]}
["附件"]
["四川省第二批创新型中小企业名单"]
["序号","市州","企业名称","统一社会信用代码"]
[1,"成都","成都凌感科技有限公司",{"$f":"VLOOKUP(C4,[1]Sheet1!$A$2:$C$4597,2,FALSE)","v":"91510100099711872L"}]
[2,"成都","四川千行你我科技股份有限公司",{"$f":"VLOOKUP(C5,[1]Sheet1!$A$2:$C$4597,2,FALSE)","v":"915101003215689407"}]
[3,"成都","四川淘金你我信息技术有限公司",{"$f":"VLOOKUP(C6,[1]Sheet1!$A$2:$C$4597,2,FALSE)","v":"915101003320345734"}]
[4,"成都","成都卫讯科技有限公司",{"$f":"VLOOKUP(C7,[1]Sheet1!$A$2:$C$4597,2,FALSE)","v":"915101003320526751"}]
[5,"成都","成都丽凯手性技术有限公司",{"$f":"VLOOKUP(C8,[1]Sheet1!$A$2:$C$4597,2,FALSE)","v":"9151010063312883XH"}]
[6,"成都","四川太锦信息技术有限公司",{"$f":"VLOOKUP(C9,[1]Sheet1!$A$2:$C$4597,2,FALSE)","v":"91510100MA61RD95XT"}]
[7,"成都","成都奇恩生物科技有限公司",{"$f":"VLOOKUP(C10,[1]Sheet1!$A$2:$C$4597,2,FALSE)","v":"91510100MA61U0WP01"}]
[8,"成都","四川中德禄江装备科技有限公司",{"$f":"VLOOKUP(C11,[1]Sheet1!$A$2:$C$4597,2,FALSE)","v":"91510100MA61XT4U94"}]
[9,"成都","成都蓉视通科技有限公司",{"$f":"VLOOKUP(C12,[1]Sheet1!$A$2:$C$4597,2,FALSE)","v":"91510100MA62LN1B30"}]
[10,"成都","成都初心互动科技有限公司",{"$f":"VLOOKUP(C13,[1]Sheet1!$A$2:$C$4597,2,FALSE)","v":"91510100MA62P8DY9C"}]
[11,"成都","航天科工微电子系统研究院有限公司",{"$f":"VLOOKUP(C14,[1]Sheet1!$A$2:$C$4597,2,FALSE)","v":"91510100MA62PTMA71"}]
[12,"成都","四川典奥科技有限公司",{"$f":"VLOOKUP(C15,[1]Sheet1!$A$2:$C$4597,2,FALSE)","v":"91510100MA63LM7N88"}]
[13,"成都","四川康美新瑞健康管理有限公司",{"$f":"VLOOKUP(C16,[1]Sheet1!$A$2:$C$4597,2,FALSE)","v":"91510100MA643U9T4M"}]
[14,"成都","四川思极科技有限公司",{"$f":"VLOOKUP(C17,[1]Sheet1!$A$2:$C$4597,2,FALSE)","v":"91510100MA64842C79"}]
[15,"成都","四川工达信息科技有限公司",{"$f":"VLOOKUP(C18,[1]Sheet1!$A$2:$C$4597,2,FALSE)","v":"91510100MA651C14XM"}]
[16,"成都","成都华动科技有限公司",{"$f":"VLOOKUP(C19,[1]Sheet1!$A$2:$C$4597,2,FALSE)","v":"91510100MA66B0951N"}]
[17,"成都","四川雨云慧垒科技有限公司",{"$f":"VLOOKUP(C20,[1]Sheet1!$A$2:$C$4597,2,FALSE)","v":"91510100MA66F6FP1M"}]
[18,"成都","成都宏恒信息科技有限公司",{"$f":"VLOOKUP(C21,[1]Sheet1!$A$2:$C$4597,2,FALSE)","v":"91510100MA673WKA76"}]
[19,"成都","四川先美电子有限公司",{"$f":"VLOOKUP(C22,[1]Sheet1!$A$2:$C$4597,2,FALSE)","v":"91510100MA674H0456"}]
[20,"成都","昶艾科技（成都）有限公司",{"$f":"VLOOKUP(C23,[1]Sheet1!$A$2:$C$4597,2,FALSE)","v":"91510100MA674TNT97"}]
[21,"成都","四川众见天成科技有限公司",{"$f":"VLOOKUP(C24,[1]Sheet1!$A$2:$C$4597,2,FALSE)","v":"91510100MA679F24X4"}]
[22,"成都","四川中创华视科技有限公司",{"$f":"VLOOKUP(C25,[1]Sheet1!$A$2:$C$4597,2,FALSE)","v":"91510100MA67GNFL1G"}]
[23,"成都","成都趣乐柒科技有限公司",{"$f":"VLOOKUP(C26,[1]Sheet1!$A$2:$C$4597,2,FALSE)","v":"91510100MA685CLE32"}]
[24,"成都","成都小软科技有限公司",{"$f":"VLOOKUP(C27,[1]Sheet1!$A$2:$C$4597,2,FALSE)","v":"91510100MA68PRPH3F"}]
[25,"成都","四川许多云数字科技有限公司",{"$f":"VLOOKUP(C28,[1]Sheet1!$A$2:$C$4597,2,FALSE)","v":"91510100MA68RG8N54"}]
[26,"成都","成都晶格智汇科技有限公司",{"$f":"VLOOKUP(C29,[1]Sheet1!$A$2:$C$4597,2,FALSE)","v":"91510100MA69DTHF74"}]
[27,"成都","成都铭志于心科技有限公司",{"$f":"VLOOKUP(C30,[1]Sheet1!$A$2:$C$4597,2,FALSE)","v":"91510100MA69GA4G7Y"}]
[28,"成都","成都乐扬电子技术有限公司",{"$f":"VLOOKUP(C31,[1]Sheet1!$A$2:$C$4597,2,FALSE)","v":"91510100MA69QJHD44"}]
[29,"成都","成都自我实现科技有限公司",{"$f":"VLOOKUP(C32,[1]Sheet1!$A$2:$C$4597,2,FALSE)","v":"91510100MA6A06YD66"}]
[30,"成都","山知科技（成都）有限公司",{"$f":"VLOOKUP(C33,[1]Sheet1!$A$2:$C$4597,2,FALSE)","v":"91510100MA6A56MG1D"}]
[31,"成都","成都天鹰锐视科技有限公司",{"$f":"VLOOKUP(C34,[1]Sheet1!$A$2:$C$4597,2,FALSE)","v":"91510100MA6AB4K99K"}]
[32,"成都","成都精正检测技术有限公司",{"$f":"VLOOKUP(C35,[1]Sheet1!$A$2:$C$4597,2,FALSE)","v":"91510100MA6AR2HU36"}]
[33,"成都","成都美慧云科技有限公司",{"$f":"VLOOKUP(C36,[1]Sheet1!$A$2:$C$4597,2,FALSE)","v":"91510100MA6AR5EU2P"}]
[34,"成都","成都初晰互动科技有限公司",{"$f":"VLOOKUP(C37,[1]Sheet1!$A$2:$C$4597,2,FALSE)","v":"91510100MA6AX1616X"}]
[35,"成都","成都普适云电电气有限公司",{"$f":"VLOOKUP(C38,[1]Sheet1!$A$2:$C$4597,2,FALSE)","v":"91510100MA6AXH0Y1X"}]
[36,"成都","成都卓码数智数字科技有限公司",{"$f":"VLOOKUP(C39,[1]Sheet1!$A$2:$C$4597,2,FALSE)","v":"91510100MA6AXR3421"}]
[37,"成都","成都终身成长科技有限公司",{"$f":"VLOOKUP(C40,[1]Sheet1!$A$2:$C$4597,2,FALSE)","v":"91510100MA6B2YDX4F"}]
[38,"成都","成都中科翼能科技有限公司",{"$f":"VLOOKUP(C41,[1]Sheet1!$A$2:$C$4597,2,FALSE)","v":"91510100MA6B9LEB3D"}]
[39,"成都","成都商高智能科技有限公司",{"$f":"VLOOKUP(C42,[1]Sheet1!$A$2:$C$4597,2,FALSE)","v":"91510100MA6BG8P9XE"}]
[40,"成都","四川赛虎科技有限公司",{"$f":"VLOOKUP(C43,[1]Sheet1!$A$2:$C$4597,2,FALSE)","v":"91510100MA6C7E1W3W"}]
[41,"成都","四川文韬工程技术有限公司",{"$f":"VLOOKUP(C44,[1]Sheet1!$A$2:$C$4597,2,FALSE)","v":"91510100MA6C8E545Q"}]
[42,"成都","四川乐度软件有限公司",{"$f":"VLOOKUP(C45,[1]Sheet1!$A$2:$C$4597,2,FALSE)","v":"91510100MA6C8KLT82"}]
[43,"成都","四川两只蜗牛健康产业发展有限责任公司",{"$f":"VLOOKUP(C46,[1]Sheet1!$A$2:$C$4597,2,FALSE)","v":"91510100MA6C8Q9X02"}]
[44,"成都","联创基业科技成都有限公司",{"$f":"VLOOKUP(C47,[1]Sheet1!$A$2:$C$4597,2,FALSE)","v":"91510100MA6C9AD161"}]
[45,"成都","成都虚谷伟业科技有限公司",{"$f":"VLOOKUP(C48,[1]Sheet1!$A$2:$C$4597,2,FALSE)","v":"91510100MA6C9RGQ66"}]
[46,"成都","四川跃顺科技有限公司",{"$f":"VLOOKUP(C49,[1]Sheet1!$A$2:$C$4597,2,FALSE)","v":"91510100MA6CAG4C0R"}]
[47,"成都","成都集思鸣智科技有限公司",{"$f":"VLOOKUP(C50,[1]Sheet1!$A$2:$C$4597,2,FALSE)","v":"91510100MA6CCWW48Q"}]
[48,"成都","成都云电乐享科技有限公司",{"$f":"VLOOKUP(C51,[1]Sheet1!$A$2:$C$4597,2,FALSE)","v":"91510100MA6CHKFYXG"}]
[49,"成都","成都卓讯云网科技有限公司",{"$f":"VLOOKUP(C52,[1]Sheet1!$A$2:$C$4597,2,FALSE)","v":"91510100MA6CP1NK88"}]
[50,"成都","成都宜昇网络科技有限公司",{"$f":"VLOOKUP(C53,[1]Sheet1!$A$2:$C$4597,2,FALSE)","v":"91510100MA6CQ3QQ7U"}]
[51,"成都","成都雅信安科技服务有限公司",{"$f":"VLOOKUP(C54,[1]Sheet1!$A$2:$C$4597,2,FALSE)","v":"91510100MA6CU6P08D"}]
[52,"成都","成都慕林创新科技有限公司",{"$f":"VLOOKUP(C55,[1]Sheet1!$A$2:$C$4597,2,FALSE)","v":"91510100MA6CY52K4D"}]
[53,"成都","成都深蓝思维信息技术有限公司",{"$f":"VLOOKUP(C56,[1]Sheet1!$A$2:$C$4597,2,FALSE)","v":"91510100MA6DFGHL5L"}]
[54,"成都","钢研纳克成都检测认证有限公司",{"$f":"VLOOKUP(C57,[1]Sheet1!$A$2:$C$4597,2,FALSE)","v":"91510100MA6DG3MR6D"}]
[55,"成都","成都微讯网络科技有限公司",{"$f":"VLOOKUP(C58,[1]Sheet1!$A$2:$C$4597,2,FALSE)","v":"91510104MA64GCNK11"}]
[56,"成都","成都四锋信息技术有限公司",{"$f":"VLOOKUP(C59,[1]Sheet1!$A$2:$C$4597,2,FALSE)","v":"91510106MA66A4H158"}]
[57,"成都","成都图翎新能源科技有限公司",{"$f":"VLOOKUP(C60,[1]Sheet1!$A$2:$C$4597,2,FALSE)","v":"91510122MA6CW06287"}]
[58,"成都","三康（成都）机械设备有限责任公司",{"$f":"VLOOKUP(C61,[1]Sheet1!$A$2:$C$4597,2,FALSE)","v":"91510100MA61WEQT4N"}]
[59,"成都","四川百平机电设备有限公司",{"$f":"VLOOKUP(C62,[1]Sheet1!$A$2:$C$4597,2,FALSE)","v":"91512081MA62K21G1L"}]
[60,"成都","四川凯电建设工程有限公司",{"$f":"VLOOKUP(C63,[1]Sheet1!$A$2:$C$4597,2,FALSE)","v":"91510000089883582L"}]
[61,"成都","四川省松泽安全技术有限公司",{"$f":"VLOOKUP(C64,[1]Sheet1!$A$2:$C$4597,2,FALSE)","v":"91510000309409621M"}]
[62,"成都","四川川锅环保工程有限公司",{"$f":"VLOOKUP(C65,[1]Sheet1!$A$2:$C$4597,2,FALSE)","v":"91510000582192910R"}]
[63,"成都","四川华环电子技术有限公司",{"$f":"VLOOKUP(C66,[1]Sheet1!$A$2:$C$4597,2,FALSE)","v":"91510000667431087U"}]
[64,"成都","西南联合产权交易所有限责任公司",{"$f":"VLOOKUP(C67,[1]Sheet1!$A$2:$C$4597,2,FALSE)","v":"915100006991591611"}]
[65,"成都","四川航天信息有限公司",{"$f":"VLOOKUP(C68,[1]Sheet1!$A$2:$C$4597,2,FALSE)","v":"915100007118832331"}]
[66,"成都","四川雷盾科技有限公司",{"$f":"VLOOKUP(C69,[1]Sheet1!$A$2:$C$4597,2,FALSE)","v":"91510000752332964J"}]
[67,"成都","四川科瑞源信息科技有限公司",{"$f":"VLOOKUP(C70,[1]Sheet1!$A$2:$C$4597,2,FALSE)","v":"91510000MA63R1289H"}]
[68,"成都","成都中弘轨道交通环保产业股份有限公司",{"$f":"VLOOKUP(C71,[1]Sheet1!$A$2:$C$4597,2,FALSE)","v":"91510100050096637L"}]
[69,"成都","成都艾威机械有限公司",{"$f":"VLOOKUP(C72,[1]Sheet1!$A$2:$C$4597,2,FALSE)","v":"915101000525057806"}]
[70,"成都","成都华创电科信息技术有限公司",{"$f":"VLOOKUP(C73,[1]Sheet1!$A$2:$C$4597,2,FALSE)","v":"91510100057456201Y"}]
[71,"成都","成都和航科技有限公司",{"$f":"VLOOKUP(C74,[1]Sheet1!$A$2:$C$4597,2,FALSE)","v":"915101000574639622"}]
[72,"成都","成都兰途网络科技有限公司",{"$f":"VLOOKUP(C75,[1]Sheet1!$A$2:$C$4597,2,FALSE)","v":"9151010005747256XF"}]
[73,"成都","成都力比科技有限公司",{"$f":"VLOOKUP(C76,[1]Sheet1!$A$2:$C$4597,2,FALSE)","v":"91510100060054764Q"}]
[74,"成都","成都市喜爱科技有限公司",{"$f":"VLOOKUP(C77,[1]Sheet1!$A$2:$C$4597,2,FALSE)","v":"91510100060055572F"}]
[75,"成都","成都同创伟业新能源科技有限公司",{"$f":"VLOOKUP(C78,[1]Sheet1!$A$2:$C$4597,2,FALSE)","v":"91510100060082941H"}]
[76,"成都","成都品为道电子技术有限公司",{"$f":"VLOOKUP(C79,[1]Sheet1!$A$2:$C$4597,2,FALSE)","v":"91510100066958537W"}]
[77,"成都","成都蜀郡微电子有限公司",{"$f":"VLOOKUP(C80,[1]Sheet1!$A$2:$C$4597,2,FALSE)","v":"91510100066998037F"}]
[78,"成都","成都索贝视频云计算有限公司",{"$f":"VLOOKUP(C81,[1]Sheet1!$A$2:$C$4597,2,FALSE)","v":"91510100069760200E"}]
[79,"成都","成都游戏工场科技有限公司",{"$f":"VLOOKUP(C82,[1]Sheet1!$A$2:$C$4597,2,FALSE)","v":"915101000724348280"}]
[80,"成都","四川杰诺创科技有限公司",{"$f":"VLOOKUP(C83,[1]Sheet1!$A$2:$C$4597,2,FALSE)","v":"915101000724429408"}]
[81,"成都","成都云雅信息技术有限公司",{"$f":"VLOOKUP(C84,[1]Sheet1!$A$2:$C$4597,2,FALSE)","v":"91510100075369291T"}]
[82,"成都","成都影指科技有限公司",{"$f":"VLOOKUP(C85,[1]Sheet1!$A$2:$C$4597,2,FALSE)","v":"9151010007767023X6"}]
[83,"成都","成都瑞博慧窗信息技术有限公司",{"$f":"VLOOKUP(C86,[1]Sheet1!$A$2:$C$4597,2,FALSE)","v":"9151010007767250XJ"}]
[84,"成都","成都前程在线网络科技有限责任公司",{"$f":"VLOOKUP(C87,[1]Sheet1!$A$2:$C$4597,2,FALSE)","v":"91510100077688712E"}]
[85,"成都","成都华邻科技有限公司",{"$f":"VLOOKUP(C88,[1]Sheet1!$A$2:$C$4597,2,FALSE)","v":"91510100080615629A"}]
[86,"成都","成都市必诚数控机械有限公司",{"$f":"VLOOKUP(C89,[1]Sheet1!$A$2:$C$4597,2,FALSE)","v":"91510100080634723M"}]
[87,"成都","四川焱飞科技有限公司",{"$f":"VLOOKUP(C90,[1]Sheet1!$A$2:$C$4597,2,FALSE)","v":"9151010008333542X7"}]
[88,"成都","中科厚立信息技术（成都）有限公司",{"$f":"VLOOKUP(C91,[1]Sheet1!$A$2:$C$4597,2,FALSE)","v":"91510100086699165M"}]
[89,"成都","成都通威文化传媒有限公司",{"$f":"VLOOKUP(C92,[1]Sheet1!$A$2:$C$4597,2,FALSE)","v":"91510100091291324Q"}]
[90,"成都","成都塔斯克信息技术有限公司",{"$f":"VLOOKUP(C93,[1]Sheet1!$A$2:$C$4597,2,FALSE)","v":"915101000912917115"}]
[91,"成都","成都龙象科技股份有限公司",{"$f":"VLOOKUP(C94,[1]Sheet1!$A$2:$C$4597,2,FALSE)","v":"915101000928375951"}]
[92,"成都","成都富宏科技有限公司",{"$f":"VLOOKUP(C95,[1]Sheet1!$A$2:$C$4597,2,FALSE)","v":"91510100094659307P"}]
[93,"成都","成都德杉科技有限公司",{"$f":"VLOOKUP(C96,[1]Sheet1!$A$2:$C$4597,2,FALSE)","v":"91510100095727922F"}]
[94,"成都","成都杰仕德科技有限公司",{"$f":"VLOOKUP(C97,[1]Sheet1!$A$2:$C$4597,2,FALSE)","v":"91510100096145086N"}]
[95,"成都","成都市高博汇科信息科技有限公司",{"$f":"VLOOKUP(C98,[1]Sheet1!$A$2:$C$4597,2,FALSE)","v":"91510100096783459K"}]
[96,"成都","成都贝发信息技术有限公司",{"$f":"VLOOKUP(C99,[1]Sheet1!$A$2:$C$4597,2,FALSE)","v":"91510100098314496H"}]
[97,"成都","成都署信科技有限公司",{"$f":"VLOOKUP(C100,[1]Sheet1!$A$2:$C$4597,2,FALSE)","v":"915101000992321851"}]
[98,"成都","四川众信互联科技有限公司",{"$f":"VLOOKUP(C101,[1]Sheet1!$A$2:$C$4597,2,FALSE)","v":"91510100099719997M"}]
[99,"成都","四川福济生鸿医疗科技有限公司",{"$f":"VLOOKUP(C102,[1]Sheet1!$A$2:$C$4597,2,FALSE)","v":"91510100099872262R"}]
[100,"成都","成都日炙科技有限公司",{"$f":"VLOOKUP(C103,[1]Sheet1!$A$2:$C$4597,2,FALSE)","v":"9151010032156419XU"}]
[101,"成都","四川翔讯通信技术有限公司",{"$f":"VLOOKUP(C104,[1]Sheet1!$A$2:$C$4597,2,FALSE)","v":"915101003215709014"}]
[102,"成都","成都瀚笙时代建筑设计有限公司",{"$f":"VLOOKUP(C105,[1]Sheet1!$A$2:$C$4597,2,FALSE)","v":"91510100321583315W"}]
[103,"成都","成都小豹科技有限公司",{"$f":"VLOOKUP(C106,[1]Sheet1!$A$2:$C$4597,2,FALSE)","v":"91510100327422221Q"}]
[104,"成都","成都迪真计算机科技有限公司",{"$f":"VLOOKUP(C107,[1]Sheet1!$A$2:$C$4597,2,FALSE)","v":"91510100327426521N"}]
[105,"成都","四川君诚互动科技有限公司",{"$f":"VLOOKUP(C108,[1]Sheet1!$A$2:$C$4597,2,FALSE)","v":"9151010033194425XA"}]
[106,"成都","成都二十三魔方生物科技有限公司",{"$f":"VLOOKUP(C109,[1]Sheet1!$A$2:$C$4597,2,FALSE)","v":"915101003319859750"}]
[107,"成都","成都博思微科技有限公司",{"$f":"VLOOKUP(C110,[1]Sheet1!$A$2:$C$4597,2,FALSE)","v":"91510100331993780F"}]
[108,"成都","成都微上行科技有限公司",{"$f":"VLOOKUP(C111,[1]Sheet1!$A$2:$C$4597,2,FALSE)","v":"91510100332051533R"}]
[109,"成都","成都鼎铸信息技术有限公司",{"$f":"VLOOKUP(C112,[1]Sheet1!$A$2:$C$4597,2,FALSE)","v":"915101003321059414"}]
[110,"成都","成都劲普科技有限公司",{"$f":"VLOOKUP(C113,[1]Sheet1!$A$2:$C$4597,2,FALSE)","v":"915101003430260180"}]
[111,"成都","成都忆享科技有限公司",{"$f":"VLOOKUP(C114,[1]Sheet1!$A$2:$C$4597,2,FALSE)","v":"915101003430717832"}]
[112,"成都","凌顶世纪科技成都有限公司",{"$f":"VLOOKUP(C115,[1]Sheet1!$A$2:$C$4597,2,FALSE)","v":"91510100343141569J"}]
[113,"成都","四川集思数源信息技术有限公司",{"$f":"VLOOKUP(C116,[1]Sheet1!$A$2:$C$4597,2,FALSE)","v":"91510100350522124R"}]
[114,"成都","四川快医科技有限责任公司",{"$f":"VLOOKUP(C117,[1]Sheet1!$A$2:$C$4597,2,FALSE)","v":"915101003505270134"}]
[115,"成都","成都天桁科技有限公司",{"$f":"VLOOKUP(C118,[1]Sheet1!$A$2:$C$4597,2,FALSE)","v":"915101003505456339"}]
[116,"成都","四川旅鸽科技有限公司",{"$f":"VLOOKUP(C119,[1]Sheet1!$A$2:$C$4597,2,FALSE)","v":"915101003506690033"}]
[117,"成都","四川科瑞远航信息技术有限公司",{"$f":"VLOOKUP(C120,[1]Sheet1!$A$2:$C$4597,2,FALSE)","v":"9151010035797406XG"}]
[118,"成都","成都英蓝威科技有限公司",{"$f":"VLOOKUP(C121,[1]Sheet1!$A$2:$C$4597,2,FALSE)","v":"91510100357990529D"}]
[119,"成都","成都趣点科技有限公司",{"$f":"VLOOKUP(C122,[1]Sheet1!$A$2:$C$4597,2,FALSE)","v":"915101003942882885"}]
[120,"成都","成都极企科技有限公司",{"$f":"VLOOKUP(C123,[1]Sheet1!$A$2:$C$4597,2,FALSE)","v":"91510100394350221T"}]
[121,"成都","成都超爱学习科技有限公司",{"$f":"VLOOKUP(C124,[1]Sheet1!$A$2:$C$4597,2,FALSE)","v":"9151010039435234XP"}]
[122,"成都","成都合盛高科科技有限公司",{"$f":"VLOOKUP(C125,[1]Sheet1!$A$2:$C$4597,2,FALSE)","v":"91510100394383728R"}]
[123,"成都","四川世轩科技有限公司",{"$f":"VLOOKUP(C126,[1]Sheet1!$A$2:$C$4597,2,FALSE)","v":"9151010039438793X4"}]
[124,"成都","四川省卓创本草生物科技有限公司",{"$f":"VLOOKUP(C127,[1]Sheet1!$A$2:$C$4597,2,FALSE)","v":"91510100394433334K"}]
[125,"成都","成都起业科技有限公司",{"$f":"VLOOKUP(C128,[1]Sheet1!$A$2:$C$4597,2,FALSE)","v":"91510100394606434W"}]
[126,"成都","成都零壹众科技有限公司",{"$f":"VLOOKUP(C129,[1]Sheet1!$A$2:$C$4597,2,FALSE)","v":"91510100394618195B"}]
[127,"成都","成都山地环安科技有限公司",{"$f":"VLOOKUP(C130,[1]Sheet1!$A$2:$C$4597,2,FALSE)","v":"915101003950700371"}]
[128,"成都","成都掌中全景信息技术有限公司",{"$f":"VLOOKUP(C131,[1]Sheet1!$A$2:$C$4597,2,FALSE)","v":"91510100395622751F"}]
[129,"成都","成都全时云信息技术有限公司",{"$f":"VLOOKUP(C132,[1]Sheet1!$A$2:$C$4597,2,FALSE)","v":"91510100396596559K"}]
[130,"成都","成都讯领科技有限公司",{"$f":"VLOOKUP(C133,[1]Sheet1!$A$2:$C$4597,2,FALSE)","v":"91510100396919653Q"}]
[131,"成都","成都天翼空间科技有限公司",{"$f":"VLOOKUP(C134,[1]Sheet1!$A$2:$C$4597,2,FALSE)","v":"915101003972722734"}]
[132,"成都","成都乐曼多科技有限公司",{"$f":"VLOOKUP(C135,[1]Sheet1!$A$2:$C$4597,2,FALSE)","v":"91510100397278499F"}]
[133,"成都","四川多享信息技术有限公司",{"$f":"VLOOKUP(C136,[1]Sheet1!$A$2:$C$4597,2,FALSE)","v":"915101003976315638"}]
[134,"成都","四川函钛科技有限公司",{"$f":"VLOOKUP(C137,[1]Sheet1!$A$2:$C$4597,2,FALSE)","v":"91510100399143635N"}]
[135,"成都","成都诺赛信息技术有限公司",{"$f":"VLOOKUP(C138,[1]Sheet1!$A$2:$C$4597,2,FALSE)","v":"91510100399420997N"}]
[136,"成都","成都市肆零肆网络科技有限公司",{"$f":"VLOOKUP(C139,[1]Sheet1!$A$2:$C$4597,2,FALSE)","v":"91510100399428219N"}]
[137,"成都","四川阿么鞋业有限公司",{"$f":"VLOOKUP(C140,[1]Sheet1!$A$2:$C$4597,2,FALSE)","v":"91510100399613078P"}]
[138,"成都","四川启昌管道工程有限责任公司",{"$f":"VLOOKUP(C141,[1]Sheet1!$A$2:$C$4597,2,FALSE)","v":"91510100399928846F"}]
[139,"成都","西南化工研究设计院有限公司",{"$f":"VLOOKUP(C142,[1]Sheet1!$A$2:$C$4597,2,FALSE)","v":"91510100450723986B"}]
[140,"成都","成都朗速科技有限公司",{"$f":"VLOOKUP(C143,[1]Sheet1!$A$2:$C$4597,2,FALSE)","v":"91510100551086955Q"}]
[141,"成都","成都安恒信息技术有限公司",{"$f":"VLOOKUP(C144,[1]Sheet1!$A$2:$C$4597,2,FALSE)","v":"91510100553554003X"}]
[142,"成都","成都药王科技股份有限公司",{"$f":"VLOOKUP(C145,[1]Sheet1!$A$2:$C$4597,2,FALSE)","v":"915101005535751115"}]
[143,"成都","厚普智慧物联科技有限公司",{"$f":"VLOOKUP(C146,[1]Sheet1!$A$2:$C$4597,2,FALSE)","v":"915101005589917126"}]
[144,"成都","成都品果科技有限公司",{"$f":"VLOOKUP(C147,[1]Sheet1!$A$2:$C$4597,2,FALSE)","v":"91510100562036267R"}]
[145,"成都","四川爱信诺航天信息有限公司",{"$f":"VLOOKUP(C148,[1]Sheet1!$A$2:$C$4597,2,FALSE)","v":"915101005620414616"}]
[146,"成都","成都超有爱科技有限公司",{"$f":"VLOOKUP(C149,[1]Sheet1!$A$2:$C$4597,2,FALSE)","v":"91510100567152152P"}]
[147,"成都","成都天成电科科技有限公司",{"$f":"VLOOKUP(C150,[1]Sheet1!$A$2:$C$4597,2,FALSE)","v":"91510100567156110A"}]
[148,"成都","成都云晖航空科技股份有限公司",{"$f":"VLOOKUP(C151,[1]Sheet1!$A$2:$C$4597,2,FALSE)","v":"91510100567184509L"}]
[149,"成都","成都卓杭网络科技股份有限公司",{"$f":"VLOOKUP(C152,[1]Sheet1!$A$2:$C$4597,2,FALSE)","v":"91510100569651852H"}]
[150,"成都","成都天翼铭士电子科技有限公司",{"$f":"VLOOKUP(C153,[1]Sheet1!$A$2:$C$4597,2,FALSE)","v":"91510100569690296P"}]
[151,"成都","成都智慧数联信息技术有限公司",{"$f":"VLOOKUP(C154,[1]Sheet1!$A$2:$C$4597,2,FALSE)","v":"91510100569698650H"}]
[152,"成都","成都定为电子技术有限公司",{"$f":"VLOOKUP(C155,[1]Sheet1!$A$2:$C$4597,2,FALSE)","v":"91510100574607629G"}]
[153,"成都","成都数字天空科技有限公司",{"$f":"VLOOKUP(C156,[1]Sheet1!$A$2:$C$4597,2,FALSE)","v":"915101005800471893"}]
[154,"成都","成都精机自动化技术有限公司",{"$f":"VLOOKUP(C157,[1]Sheet1!$A$2:$C$4597,2,FALSE)","v":"9151010058260548XG"}]
[155,"成都","成都国为生物医药有限公司",{"$f":"VLOOKUP(C158,[1]Sheet1!$A$2:$C$4597,2,FALSE)","v":"91510100584954173H"}]
[156,"成都","成都新舟锐视科技有限公司",{"$f":"VLOOKUP(C159,[1]Sheet1!$A$2:$C$4597,2,FALSE)","v":"915101005875597857"}]
[157,"成都","四川特伦特科技股份有限公司",{"$f":"VLOOKUP(C160,[1]Sheet1!$A$2:$C$4597,2,FALSE)","v":"91510100590247707X"}]
[158,"成都","成都朴华科技有限公司",{"$f":"VLOOKUP(C161,[1]Sheet1!$A$2:$C$4597,2,FALSE)","v":"9151010059205081X5"}]
[159,"成都","成都赤橙数字娱乐有限公司",{"$f":"VLOOKUP(C162,[1]Sheet1!$A$2:$C$4597,2,FALSE)","v":"91510100592083881J"}]
[160,"成都","四川银利华应用科技有限责任公司",{"$f":"VLOOKUP(C163,[1]Sheet1!$A$2:$C$4597,2,FALSE)","v":"91510100663036522Q"}]
[161,"成都","成都锐理数据处理技术股份有限公司",{"$f":"VLOOKUP(C164,[1]Sheet1!$A$2:$C$4597,2,FALSE)","v":"91510100665327526Q"}]
[162,"成都","成都伟航科技有限公司",{"$f":"VLOOKUP(C165,[1]Sheet1!$A$2:$C$4597,2,FALSE)","v":"915101006818075036"}]
[163,"成都","成都登辉科技有限公司",{"$f":"VLOOKUP(C166,[1]Sheet1!$A$2:$C$4597,2,FALSE)","v":"91510100686317714F"}]
[164,"成都","成都布络软件技术有限公司",{"$f":"VLOOKUP(C167,[1]Sheet1!$A$2:$C$4597,2,FALSE)","v":"91510100686323970F"}]
[165,"成都","四川众森同越科技有限公司",{"$f":"VLOOKUP(C168,[1]Sheet1!$A$2:$C$4597,2,FALSE)","v":"91510100686334768T"}]
[166,"成都","四川路博信息科技有限公司",{"$f":"VLOOKUP(C169,[1]Sheet1!$A$2:$C$4597,2,FALSE)","v":"91510100690908904M"}]
[167,"成都","成都恒图科技有限责任公司",{"$f":"VLOOKUP(C170,[1]Sheet1!$A$2:$C$4597,2,FALSE)","v":"915101006936680453"}]
[168,"成都","成都中天泰瑞科技有限公司",{"$f":"VLOOKUP(C171,[1]Sheet1!$A$2:$C$4597,2,FALSE)","v":"915101006962624897"}]
[169,"成都","四川中高电气股份有限公司",{"$f":"VLOOKUP(C172,[1]Sheet1!$A$2:$C$4597,2,FALSE)","v":"91510100696265188Q"}]
[170,"成都","成都润泰茂成科技有限公司",{"$f":"VLOOKUP(C173,[1]Sheet1!$A$2:$C$4597,2,FALSE)","v":"91510100696272572X"}]
[171,"成都","成都汇码科技有限公司",{"$f":"VLOOKUP(C174,[1]Sheet1!$A$2:$C$4597,2,FALSE)","v":"915101006962970839"}]
[172,"成都","成都传晟信息技术有限公司",{"$f":"VLOOKUP(C175,[1]Sheet1!$A$2:$C$4597,2,FALSE)","v":"915101006988506206"}]
[173,"成都","四川瑞进特科技有限公司",{"$f":"VLOOKUP(C176,[1]Sheet1!$A$2:$C$4597,2,FALSE)","v":"91510100698852538Q"}]
[174,"成都","四川建设网有限责任公司",{"$f":"VLOOKUP(C177,[1]Sheet1!$A$2:$C$4597,2,FALSE)","v":"91510100709238358T"}]
[175,"成都","四川万升智能科技有限公司",{"$f":"VLOOKUP(C178,[1]Sheet1!$A$2:$C$4597,2,FALSE)","v":"915101007130422866"}]
[176,"成都","四川通信建设工程有限公司",{"$f":"VLOOKUP(C179,[1]Sheet1!$A$2:$C$4597,2,FALSE)","v":"91510100728050238H"}]
[177,"成都","成都贝斯特数码科技有限责任公司",{"$f":"VLOOKUP(C180,[1]Sheet1!$A$2:$C$4597,2,FALSE)","v":"915101007302101737"}]
[178,"成都","成都天基科技有限公司",{"$f":"VLOOKUP(C181,[1]Sheet1!$A$2:$C$4597,2,FALSE)","v":"91510100730222959B"}]
[179,"成都","成都四威高科技产业园有限公司",{"$f":"VLOOKUP(C182,[1]Sheet1!$A$2:$C$4597,2,FALSE)","v":"91510100732380192B"}]
[180,"成都","四川优机实业股份有限公司",{"$f":"VLOOKUP(C183,[1]Sheet1!$A$2:$C$4597,2,FALSE)","v":"91510100732386818Q"}]
[181,"成都","成都飞鱼星科技股份有限公司",{"$f":"VLOOKUP(C184,[1]Sheet1!$A$2:$C$4597,2,FALSE)","v":"91510100737716847U"}]
[182,"成都","成都比斯特科技有限责任公司",{"$f":"VLOOKUP(C185,[1]Sheet1!$A$2:$C$4597,2,FALSE)","v":"915101007403271648"}]
[183,"成都","成都梦工厂网络信息有限公司",{"$f":"VLOOKUP(C186,[1]Sheet1!$A$2:$C$4597,2,FALSE)","v":"915101007559989809"}]
[184,"成都","成都雅途生物技术有限公司",{"$f":"VLOOKUP(C187,[1]Sheet1!$A$2:$C$4597,2,FALSE)","v":"9151010076862550X5"}]
[185,"成都","成都慢城酒店设计有限公司",{"$f":"VLOOKUP(C188,[1]Sheet1!$A$2:$C$4597,2,FALSE)","v":"915101007686456669"}]
[186,"成都","声泰特（成都）科技有限公司",{"$f":"VLOOKUP(C189,[1]Sheet1!$A$2:$C$4597,2,FALSE)","v":"915101007712378908"}]
[187,"成都","成都亿科环境科技有限公司",{"$f":"VLOOKUP(C190,[1]Sheet1!$A$2:$C$4597,2,FALSE)","v":"9151010078543940XG"}]
[188,"成都","成都开能科技发展有限公司",{"$f":"VLOOKUP(C191,[1]Sheet1!$A$2:$C$4597,2,FALSE)","v":"91510100788124593X"}]
[189,"成都","成都菲奥特科技有限公司",{"$f":"VLOOKUP(C192,[1]Sheet1!$A$2:$C$4597,2,FALSE)","v":"91510100788130870E"}]
[190,"成都","成都西格码精密部件有限公司",{"$f":"VLOOKUP(C193,[1]Sheet1!$A$2:$C$4597,2,FALSE)","v":"9151010079003532XQ"}]
[191,"成都","四川索牌科技股份有限公司",{"$f":"VLOOKUP(C194,[1]Sheet1!$A$2:$C$4597,2,FALSE)","v":"91510100794904772J"}]
[192,"成都","成都齐联微波科技有限公司",{"$f":"VLOOKUP(C195,[1]Sheet1!$A$2:$C$4597,2,FALSE)","v":"91510100794927771L"}]
[193,"成都","成都希德光安全科技有限公司",{"$f":"VLOOKUP(C196,[1]Sheet1!$A$2:$C$4597,2,FALSE)","v":"91510100797816508Q"}]
[194,"成都","成都国科微电子有限公司",{"$f":"VLOOKUP(C197,[1]Sheet1!$A$2:$C$4597,2,FALSE)","v":"91510100MA61RA2G7L"}]
[195,"成都","四川常成源昇科技有限公司",{"$f":"VLOOKUP(C198,[1]Sheet1!$A$2:$C$4597,2,FALSE)","v":"91510100MA61RJ358U"}]
[196,"成都","成都英鑫光电科技有限公司",{"$f":"VLOOKUP(C199,[1]Sheet1!$A$2:$C$4597,2,FALSE)","v":"91510100MA61RNKM6X"}]
[197,"成都","四川博文讯通科技有限公司",{"$f":"VLOOKUP(C200,[1]Sheet1!$A$2:$C$4597,2,FALSE)","v":"91510100MA61RPR14C"}]
[198,"成都","成都材智科技有限公司",{"$f":"VLOOKUP(C201,[1]Sheet1!$A$2:$C$4597,2,FALSE)","v":"91510100MA61RR632T"}]
[199,"成都","成都德而塔生物科技有限公司",{"$f":"VLOOKUP(C202,[1]Sheet1!$A$2:$C$4597,2,FALSE)","v":"91510100MA61T9255K"}]
[200,"成都","成都睿码科技有限责任公司",{"$f":"VLOOKUP(C203,[1]Sheet1!$A$2:$C$4597,2,FALSE)","v":"91510100MA61TDHA2H"}]
[201,"成都","四川拓璞环保科技有限公司",{"$f":"VLOOKUP(C204,[1]Sheet1!$A$2:$C$4597,2,FALSE)","v":"91510100MA61TJPAXB"}]
[202,"成都","成都海光微电子技术有限公司",{"$f":"VLOOKUP(C205,[1]Sheet1!$A$2:$C$4597,2,FALSE)","v":"91510100MA61TL6Q5D"}]
[203,"成都","成都瑞达物联科技有限公司",{"$f":"VLOOKUP(C206,[1]Sheet1!$A$2:$C$4597,2,FALSE)","v":"91510100MA61TNLG40"}]
[204,"成都","成都量之星科技有限公司",{"$f":"VLOOKUP(C207,[1]Sheet1!$A$2:$C$4597,2,FALSE)","v":"91510100MA61TPGJ2C"}]
[205,"成都","四川仕虹腾飞信息技术有限公司",{"$f":"VLOOKUP(C208,[1]Sheet1!$A$2:$C$4597,2,FALSE)","v":"91510100MA61TWX04X"}]
[206,"成都","成都云策数据科技有限公司",{"$f":"VLOOKUP(C209,[1]Sheet1!$A$2:$C$4597,2,FALSE)","v":"91510100MA61U9H211"}]
[207,"成都","成都欧督系统科技有限公司",{"$f":"VLOOKUP(C210,[1]Sheet1!$A$2:$C$4597,2,FALSE)","v":"91510100MA61UABXXQ"}]
[208,"成都","成都华银医学检验所有限公司",{"$f":"VLOOKUP(C211,[1]Sheet1!$A$2:$C$4597,2,FALSE)","v":"91510100MA61UBFY6G"}]
[209,"成都","硅科锐达信息技术成都有限公司",{"$f":"VLOOKUP(C212,[1]Sheet1!$A$2:$C$4597,2,FALSE)","v":"91510100MA61UBYH8E"}]
[210,"成都","四川边缘算力科技有限公司",{"$f":"VLOOKUP(C213,[1]Sheet1!$A$2:$C$4597,2,FALSE)","v":"91510100MA61UE5X20"}]
[211,"成都","成都码邻蜀科技有限公司",{"$f":"VLOOKUP(C214,[1]Sheet1!$A$2:$C$4597,2,FALSE)","v":"91510100MA61UE6178"}]
[212,"成都","成都心吉康科技有限公司",{"$f":"VLOOKUP(C215,[1]Sheet1!$A$2:$C$4597,2,FALSE)","v":"91510100MA61UFJ124"}]
[213,"成都","四川蜀宁科技有限公司",{"$f":"VLOOKUP(C216,[1]Sheet1!$A$2:$C$4597,2,FALSE)","v":"91510100MA61UGXKX0"}]
[214,"成都","四川远航华诚机械有限公司",{"$f":"VLOOKUP(C217,[1]Sheet1!$A$2:$C$4597,2,FALSE)","v":"91510100MA61UGY7X9"}]
[215,"成都","成都众乐泰科技有限公司",{"$f":"VLOOKUP(C218,[1]Sheet1!$A$2:$C$4597,2,FALSE)","v":"91510100MA61UGYM24"}]
[216,"成都","第六镜科技（成都）有限公司",{"$f":"VLOOKUP(C219,[1]Sheet1!$A$2:$C$4597,2,FALSE)","v":"91510100MA61UJ4L1T"}]
[217,"成都","成都亿微科技有限公司",{"$f":"VLOOKUP(C220,[1]Sheet1!$A$2:$C$4597,2,FALSE)","v":"91510100MA61UUPR46"}]
[218,"成都","成都数据天空科技有限公司",{"$f":"VLOOKUP(C221,[1]Sheet1!$A$2:$C$4597,2,FALSE)","v":"91510100MA61UW0937"}]
[219,"成都","成都云格致力科技有限公司",{"$f":"VLOOKUP(C222,[1]Sheet1!$A$2:$C$4597,2,FALSE)","v":"91510100MA61W1YB25"}]
[220,"成都","成都迪迈沃克光电科技有限公司",{"$f":"VLOOKUP(C223,[1]Sheet1!$A$2:$C$4597,2,FALSE)","v":"91510100MA61W2L290"}]
[221,"成都","成都慢游科技有限公司",{"$f":"VLOOKUP(C224,[1]Sheet1!$A$2:$C$4597,2,FALSE)","v":"91510100MA61W8RD3G"}]
[222,"成都","四川凯发计量检测有限公司",{"$f":"VLOOKUP(C225,[1]Sheet1!$A$2:$C$4597,2,FALSE)","v":"91510100MA61WCTQ3E"}]
[223,"成都","四川西交路安科技有限公司",{"$f":"VLOOKUP(C226,[1]Sheet1!$A$2:$C$4597,2,FALSE)","v":"91510100MA61WPXJ75"}]
[224,"成都","四川巨棠科技有限公司",{"$f":"VLOOKUP(C227,[1]Sheet1!$A$2:$C$4597,2,FALSE)","v":"91510100MA61WRAQ3H"}]
[225,"成都","四川医枢科技股份有限公司",{"$f":"VLOOKUP(C228,[1]Sheet1!$A$2:$C$4597,2,FALSE)","v":"91510100MA61WT1M95"}]
[226,"成都","成都珂睿科技有限公司",{"$f":"VLOOKUP(C229,[1]Sheet1!$A$2:$C$4597,2,FALSE)","v":"91510100MA61X2GD2N"}]
[227,"成都","成都金控征信有限公司",{"$f":"VLOOKUP(C230,[1]Sheet1!$A$2:$C$4597,2,FALSE)","v":"91510100MA61X3E302"}]
[228,"成都","成都智客迅科技有限公司",{"$f":"VLOOKUP(C231,[1]Sheet1!$A$2:$C$4597,2,FALSE)","v":"91510100MA61X3Q10Q"}]
[229,"成都","成都筑猎科技有限公司",{"$f":"VLOOKUP(C232,[1]Sheet1!$A$2:$C$4597,2,FALSE)","v":"91510100MA61XEXP1E"}]
[230,"成都","四川省西格林科技有限公司",{"$f":"VLOOKUP(C233,[1]Sheet1!$A$2:$C$4597,2,FALSE)","v":"91510100MA61XH8W8P"}]
[231,"成都","成都鸿睿光电科技有限公司",{"$f":"VLOOKUP(C234,[1]Sheet1!$A$2:$C$4597,2,FALSE)","v":"91510100MA627D2576"}]
[232,"成都","成都贝诺科成生物科技有限公司",{"$f":"VLOOKUP(C235,[1]Sheet1!$A$2:$C$4597,2,FALSE)","v":"91510100MA62CBX805"}]
[233,"成都","成都芯跳医疗科技有限责任公司",{"$f":"VLOOKUP(C236,[1]Sheet1!$A$2:$C$4597,2,FALSE)","v":"91510100MA62DJH35M"}]
[234,"成都","成都电科星拓科技有限公司",{"$f":"VLOOKUP(C237,[1]Sheet1!$A$2:$C$4597,2,FALSE)","v":"91510100MA62DJWJ17"}]
[235,"成都","四川芯测电子技术有限公司",{"$f":"VLOOKUP(C238,[1]Sheet1!$A$2:$C$4597,2,FALSE)","v":"91510100MA62JQBY28"}]
[236,"成都","四川中诚润德科技有限公司",{"$f":"VLOOKUP(C239,[1]Sheet1!$A$2:$C$4597,2,FALSE)","v":"91510100MA62L2U869"}]
[237,"成都","成都海迪之光科技有限公司",{"$f":"VLOOKUP(C240,[1]Sheet1!$A$2:$C$4597,2,FALSE)","v":"91510100MA62L41U7T"}]
[238,"成都","四川远成通达售电有限公司",{"$f":"VLOOKUP(C241,[1]Sheet1!$A$2:$C$4597,2,FALSE)","v":"91510100MA62LABQ4J"}]
[239,"成都","成都珑微系统科技有限公司",{"$f":"VLOOKUP(C242,[1]Sheet1!$A$2:$C$4597,2,FALSE)","v":"91510100MA62LD8C9A"}]
[240,"成都","成都市卫莱科技有限公司",{"$f":"VLOOKUP(C243,[1]Sheet1!$A$2:$C$4597,2,FALSE)","v":"91510100MA62LU6716"}]
[241,"成都","正成卫星网络集团有限公司",{"$f":"VLOOKUP(C244,[1]Sheet1!$A$2:$C$4597,2,FALSE)","v":"91510100MA62LY4L47"}]
[242,"成都","四川镁合医疗器械有限责任公司",{"$f":"VLOOKUP(C245,[1]Sheet1!$A$2:$C$4597,2,FALSE)","v":"91510100MA62M3PA9W"}]
[243,"成都","成都屿西半导体科技有限公司",{"$f":"VLOOKUP(C246,[1]Sheet1!$A$2:$C$4597,2,FALSE)","v":"91510100MA62MT2CXU"}]
[244,"成都","成都亿盛峰通信工程股份有限公司",{"$f":"VLOOKUP(C247,[1]Sheet1!$A$2:$C$4597,2,FALSE)","v":"91510100MA62MYF085"}]
[245,"成都","成都艾之尚科技有限公司",{"$f":"VLOOKUP(C248,[1]Sheet1!$A$2:$C$4597,2,FALSE)","v":"91510100MA62NCFE89"}]
[246,"成都","中科天衡（成都）科技有限公司",{"$f":"VLOOKUP(C249,[1]Sheet1!$A$2:$C$4597,2,FALSE)","v":"91510100MA62NGQX4C"}]
[247,"成都","四川旅发环保科技有限公司",{"$f":"VLOOKUP(C250,[1]Sheet1!$A$2:$C$4597,2,FALSE)","v":"91510100MA62NM830E"}]
[248,"成都","成都七柱智慧科技有限公司",{"$f":"VLOOKUP(C251,[1]Sheet1!$A$2:$C$4597,2,FALSE)","v":"91510100MA62NP2H5Q"}]
[249,"成都","四川格锐恩科技有限公司",{"$f":"VLOOKUP(C252,[1]Sheet1!$A$2:$C$4597,2,FALSE)","v":"91510100MA62P2JF5H"}]
[250,"成都","成都聚梦天下科技有限公司",{"$f":"VLOOKUP(C253,[1]Sheet1!$A$2:$C$4597,2,FALSE)","v":"91510100MA62QA6G89"}]
[251,"成都","成都易会天下信息科技有限公司",{"$f":"VLOOKUP(C254,[1]Sheet1!$A$2:$C$4597,2,FALSE)","v":"91510100MA62TMTD9R"}]
[252,"成都","成都中邦智能科技有限责任公司",{"$f":"VLOOKUP(C255,[1]Sheet1!$A$2:$C$4597,2,FALSE)","v":"91510100MA62U8M56M"}]
[253,"成都","四川省有色矿冶科技有限公司",{"$f":"VLOOKUP(C256,[1]Sheet1!$A$2:$C$4597,2,FALSE)","v":"91510100MA62X76D3P"}]
[254,"成都","成都正态铠甲科技有限公司",{"$f":"VLOOKUP(C257,[1]Sheet1!$A$2:$C$4597,2,FALSE)","v":"91510100MA63807M9M"}]
[255,"成都","成都爱众云算科技有限公司",{"$f":"VLOOKUP(C258,[1]Sheet1!$A$2:$C$4597,2,FALSE)","v":"91510100MA63CQB585"}]
[256,"成都","神州绿盟成都科技有限公司",{"$f":"VLOOKUP(C259,[1]Sheet1!$A$2:$C$4597,2,FALSE)","v":"91510100MA63D8DJ1C"}]
[257,"成都","成都谦为知识产权服务有限公司",{"$f":"VLOOKUP(C260,[1]Sheet1!$A$2:$C$4597,2,FALSE)","v":"91510100MA63DJX033"}]
[258,"成都","四川交达预应力工程检测科技有限公司",{"$f":"VLOOKUP(C261,[1]Sheet1!$A$2:$C$4597,2,FALSE)","v":"91510100MA63K91HXK"}]
[259,"成都","成都导胜生物技术有限公司",{"$f":"VLOOKUP(C262,[1]Sheet1!$A$2:$C$4597,2,FALSE)","v":"91510100MA63PNCL81"}]
[260,"成都","四川署信驱动科技有限公司",{"$f":"VLOOKUP(C263,[1]Sheet1!$A$2:$C$4597,2,FALSE)","v":"91510100MA641EXD13"}]
[261,"成都","四川创知康科技有限公司",{"$f":"VLOOKUP(C264,[1]Sheet1!$A$2:$C$4597,2,FALSE)","v":"91510100MA64P7B07R"}]
[262,"成都","成都商链科技有限公司",{"$f":"VLOOKUP(C265,[1]Sheet1!$A$2:$C$4597,2,FALSE)","v":"91510100MA64PJAQ69"}]
[263,"成都","四川东为氢源科技有限公司",{"$f":"VLOOKUP(C266,[1]Sheet1!$A$2:$C$4597,2,FALSE)","v":"91510100MA64Q28D6N"}]
[264,"成都","成都鼎和泰达科技有限公司",{"$f":"VLOOKUP(C267,[1]Sheet1!$A$2:$C$4597,2,FALSE)","v":"91510100MA6510T618"}]
[265,"成都","成都欣波生物医药有限公司",{"$f":"VLOOKUP(C268,[1]Sheet1!$A$2:$C$4597,2,FALSE)","v":"91510100MA651FDCXP"}]
[266,"成都","成都国智明予科技有限公司",{"$f":"VLOOKUP(C269,[1]Sheet1!$A$2:$C$4597,2,FALSE)","v":"91510100MA652EEP5Y"}]
[267,"成都","成都本原聚能科技有限公司",{"$f":"VLOOKUP(C270,[1]Sheet1!$A$2:$C$4597,2,FALSE)","v":"91510100MA65QGWB1E"}]
[268,"成都","成都心游良品科技有限公司",{"$f":"VLOOKUP(C271,[1]Sheet1!$A$2:$C$4597,2,FALSE)","v":"91510100MA65TAER87"}]
[269,"成都","成都尼科源电子科技有限公司",{"$f":"VLOOKUP(C272,[1]Sheet1!$A$2:$C$4597,2,FALSE)","v":"91510100MA65UYD60D"}]
[270,"成都","成都波矢量科技有限公司",{"$f":"VLOOKUP(C273,[1]Sheet1!$A$2:$C$4597,2,FALSE)","v":"91510100MA65WA4A1Q"}]
[271,"成都","成都吉莱芯科技有限公司",{"$f":"VLOOKUP(C274,[1]Sheet1!$A$2:$C$4597,2,FALSE)","v":"91510100MA65WCA46J"}]
[272,"成都","四川易铁必肯科技有限公司",{"$f":"VLOOKUP(C275,[1]Sheet1!$A$2:$C$4597,2,FALSE)","v":"91510100MA65YLLP3Y"}]
[273,"成都","成都优赛诺生物科技有限公司",{"$f":"VLOOKUP(C276,[1]Sheet1!$A$2:$C$4597,2,FALSE)","v":"91510100MA661WJG8P"}]
[274,"成都","成都睿芯行科技有限公司",{"$f":"VLOOKUP(C277,[1]Sheet1!$A$2:$C$4597,2,FALSE)","v":"91510100MA663T703A"}]
[275,"成都","成都百年贝雅医疗科技有限公司",{"$f":"VLOOKUP(C278,[1]Sheet1!$A$2:$C$4597,2,FALSE)","v":"91510100MA664EJ04W"}]
[276,"成都","中钧技术服务有限公司",{"$f":"VLOOKUP(C279,[1]Sheet1!$A$2:$C$4597,2,FALSE)","v":"91510100MA664U5L09"}]
[277,"成都","成都米大科技有限公司",{"$f":"VLOOKUP(C280,[1]Sheet1!$A$2:$C$4597,2,FALSE)","v":"91510100MA6669ME5T"}]
[278,"成都","四川未来智脑科技有限公司",{"$f":"VLOOKUP(C281,[1]Sheet1!$A$2:$C$4597,2,FALSE)","v":"91510100MA66PA4M23"}]
[279,"成都","成都天翔动力技术研究院有限公司",{"$f":"VLOOKUP(C282,[1]Sheet1!$A$2:$C$4597,2,FALSE)","v":"91510100MA671TJ69L"}]
[280,"成都","四川电安智能科技有限公司",{"$f":"VLOOKUP(C283,[1]Sheet1!$A$2:$C$4597,2,FALSE)","v":"91510100MA674TC448"}]
[281,"成都","成都赛莫斯科技有限公司",{"$f":"VLOOKUP(C284,[1]Sheet1!$A$2:$C$4597,2,FALSE)","v":"91510100MA678P5G9M"}]
[282,"成都","四川新光众卫科技有限公司",{"$f":"VLOOKUP(C285,[1]Sheet1!$A$2:$C$4597,2,FALSE)","v":"91510100MA67ABT460"}]
[283,"成都","成都景合亿家科技有限公司",{"$f":"VLOOKUP(C286,[1]Sheet1!$A$2:$C$4597,2,FALSE)","v":"91510100MA67EACJXX"}]
[284,"成都","四川聚川诚名网络科技有限公司",{"$f":"VLOOKUP(C287,[1]Sheet1!$A$2:$C$4597,2,FALSE)","v":"91510100MA67HXWP54"}]
[285,"成都","成都福马智行科技有限公司",{"$f":"VLOOKUP(C288,[1]Sheet1!$A$2:$C$4597,2,FALSE)","v":"91510100MA67J1E69W"}]
[286,"成都","成都交拓科技有限公司",{"$f":"VLOOKUP(C289,[1]Sheet1!$A$2:$C$4597,2,FALSE)","v":"91510100MA67K0E10C"}]
[287,"成都","成都市安比科技有限公司",{"$f":"VLOOKUP(C290,[1]Sheet1!$A$2:$C$4597,2,FALSE)","v":"91510100MA67K1PF8X"}]
[288,"成都","凡游在线科技（成都）有限公司",{"$f":"VLOOKUP(C291,[1]Sheet1!$A$2:$C$4597,2,FALSE)","v":"91510100MA67L9142L"}]
[289,"成都","四川旅投数字信息产业发展有限责任公司",{"$f":"VLOOKUP(C292,[1]Sheet1!$A$2:$C$4597,2,FALSE)","v":"91510100MA67R0E19N"}]
[290,"成都","成都卓讯智安科技有限公司",{"$f":"VLOOKUP(C293,[1]Sheet1!$A$2:$C$4597,2,FALSE)","v":"91510100MA67T1P048"}]
[291,"成都","四川中科路通科技有限公司",{"$f":"VLOOKUP(C294,[1]Sheet1!$A$2:$C$4597,2,FALSE)","v":"91510100MA681436X1"}]
[292,"成都","成都尺物科技有限公司",{"$f":"VLOOKUP(C295,[1]Sheet1!$A$2:$C$4597,2,FALSE)","v":"91510100MA68B38E9X"}]
[293,"成都","成都高新物联网科技有限公司",{"$f":"VLOOKUP(C296,[1]Sheet1!$A$2:$C$4597,2,FALSE)","v":"91510100MA68ETB94P"}]
[294,"成都","四川旅鸽医信信息技术有限公司",{"$f":"VLOOKUP(C297,[1]Sheet1!$A$2:$C$4597,2,FALSE)","v":"91510100MA68G87L0D"}]
[295,"成都","四川易智停科技有限公司",{"$f":"VLOOKUP(C298,[1]Sheet1!$A$2:$C$4597,2,FALSE)","v":"91510100MA68JGGL6C"}]
[296,"成都","四川鑫川丰越科技有限公司",{"$f":"VLOOKUP(C299,[1]Sheet1!$A$2:$C$4597,2,FALSE)","v":"91510100MA68KY4C0A"}]
[297,"成都","四川国君科技有限公司",{"$f":"VLOOKUP(C300,[1]Sheet1!$A$2:$C$4597,2,FALSE)","v":"91510100MA68N9XR6P"}]
[298,"成都","成都稳海半导体有限公司",{"$f":"VLOOKUP(C301,[1]Sheet1!$A$2:$C$4597,2,FALSE)","v":"91510100MA691BWM59"}]
[299,"成都","四川云起老和科技有限公司",{"$f":"VLOOKUP(C302,[1]Sheet1!$A$2:$C$4597,2,FALSE)","v":"91510100MA693P9Q07"}]
[300,"成都","成都云览科技有限公司",{"$f":"VLOOKUP(C303,[1]Sheet1!$A$2:$C$4597,2,FALSE)","v":"91510100MA698G4X90"}]
[301,"成都","成都航盛智行科技有限公司",{"$f":"VLOOKUP(C304,[1]Sheet1!$A$2:$C$4597,2,FALSE)","v":"91510100MA6995076H"}]
[302,"成都","成都爱旗科技有限公司",{"$f":"VLOOKUP(C305,[1]Sheet1!$A$2:$C$4597,2,FALSE)","v":"91510100MA69G10Q9M"}]
[303,"成都","成都凌泰氪生物技术有限公司",{"$f":"VLOOKUP(C306,[1]Sheet1!$A$2:$C$4597,2,FALSE)","v":"91510100MA69J71U0D"}]
[304,"成都","四川聚塔峰汇数据服务有限公司",{"$f":"VLOOKUP(C307,[1]Sheet1!$A$2:$C$4597,2,FALSE)","v":"91510100MA69J92B7N"}]
[305,"成都","质像（成都）科技有限公司",{"$f":"VLOOKUP(C308,[1]Sheet1!$A$2:$C$4597,2,FALSE)","v":"91510100MA69L4PC9G"}]
[306,"成都","四川惟景科技有限公司",{"$f":"VLOOKUP(C309,[1]Sheet1!$A$2:$C$4597,2,FALSE)","v":"91510100MA69LLMX87"}]
[307,"成都","成都智源易行科技有限公司",{"$f":"VLOOKUP(C310,[1]Sheet1!$A$2:$C$4597,2,FALSE)","v":"91510100MA69NLBF1R"}]
[308,"成都","成都汉科数联科技有限公司",{"$f":"VLOOKUP(C311,[1]Sheet1!$A$2:$C$4597,2,FALSE)","v":"91510100MA69XRTP9A"}]
[309,"成都","成都蓉通微链科技有限公司",{"$f":"VLOOKUP(C312,[1]Sheet1!$A$2:$C$4597,2,FALSE)","v":"91510100MA69YEAP8L"}]
[310,"成都","四川开物信息技术有限公司",{"$f":"VLOOKUP(C313,[1]Sheet1!$A$2:$C$4597,2,FALSE)","v":"91510100MA6A3DW10M"}]
[311,"成都","成都数字家园科技有限公司",{"$f":"VLOOKUP(C314,[1]Sheet1!$A$2:$C$4597,2,FALSE)","v":"91510100MA6AA4GQ74"}]
[312,"成都","成都快锐科技有限公司",{"$f":"VLOOKUP(C315,[1]Sheet1!$A$2:$C$4597,2,FALSE)","v":"91510100MA6AF6XN3L"}]
[313,"成都","成都德森磐固机械有限公司",{"$f":"VLOOKUP(C316,[1]Sheet1!$A$2:$C$4597,2,FALSE)","v":"91510100MA6AF9RL7X"}]
[314,"成都","成都方昇科技有限公司",{"$f":"VLOOKUP(C317,[1]Sheet1!$A$2:$C$4597,2,FALSE)","v":"91510100MA6AGEQF09"}]
[315,"成都","成都能斯特新材料科技有限公司",{"$f":"VLOOKUP(C318,[1]Sheet1!$A$2:$C$4597,2,FALSE)","v":"91510100MA6APD7F6A"}]
[316,"成都","成都深瑞同华科技有限公司",{"$f":"VLOOKUP(C319,[1]Sheet1!$A$2:$C$4597,2,FALSE)","v":"91510100MA6AYJMK8E"}]
[317,"成都","成都芯曌科技有限公司",{"$f":"VLOOKUP(C320,[1]Sheet1!$A$2:$C$4597,2,FALSE)","v":"91510100MA6B0M8094"}]
[318,"成都","达闼机器人（成都）有限公司",{"$f":"VLOOKUP(C321,[1]Sheet1!$A$2:$C$4597,2,FALSE)","v":"91510100MA6B22YC9K"}]
[319,"成都","四川凌翔科技发展有限公司",{"$f":"VLOOKUP(C322,[1]Sheet1!$A$2:$C$4597,2,FALSE)","v":"91510100MA6B3K4C2W"}]
[320,"成都","四川智数宝科技有限公司",{"$f":"VLOOKUP(C323,[1]Sheet1!$A$2:$C$4597,2,FALSE)","v":"91510100MA6B5EY93U"}]
[321,"成都","成都安讯智服科技有限公司",{"$f":"VLOOKUP(C324,[1]Sheet1!$A$2:$C$4597,2,FALSE)","v":"91510100MA6BCK1Q7D"}]
[322,"成都","成都加速脱单科技有限公司",{"$f":"VLOOKUP(C325,[1]Sheet1!$A$2:$C$4597,2,FALSE)","v":"91510100MA6BJFEP6L"}]
[323,"成都","四川土地说科技有限公司",{"$f":"VLOOKUP(C326,[1]Sheet1!$A$2:$C$4597,2,FALSE)","v":"91510100MA6BX17X50"}]
[324,"成都","成都励合创联科技有限公司",{"$f":"VLOOKUP(C327,[1]Sheet1!$A$2:$C$4597,2,FALSE)","v":"91510100MA6C50H47N"}]
[325,"成都","成都中慧科技有限公司",{"$f":"VLOOKUP(C328,[1]Sheet1!$A$2:$C$4597,2,FALSE)","v":"91510100MA6C52XH01"}]
[326,"成都","四川红岸基地智能科技有限公司",{"$f":"VLOOKUP(C329,[1]Sheet1!$A$2:$C$4597,2,FALSE)","v":"91510100MA6C56KP4P"}]
[327,"成都","成都市精锐天诚信息技术有限公司",{"$f":"VLOOKUP(C330,[1]Sheet1!$A$2:$C$4597,2,FALSE)","v":"91510100MA6C58P58N"}]
[328,"成都","成都科美迪检验检测有限公司",{"$f":"VLOOKUP(C331,[1]Sheet1!$A$2:$C$4597,2,FALSE)","v":"91510100MA6C5MG08P"}]
[329,"成都","成都雨云科技有限公司",{"$f":"VLOOKUP(C332,[1]Sheet1!$A$2:$C$4597,2,FALSE)","v":"91510100MA6C6NK95P"}]
[330,"成都","成都脉衡网络科技有限公司",{"$f":"VLOOKUP(C333,[1]Sheet1!$A$2:$C$4597,2,FALSE)","v":"91510100MA6C6UGB5W"}]
[331,"成都","成都翡铭科技有限公司",{"$f":"VLOOKUP(C334,[1]Sheet1!$A$2:$C$4597,2,FALSE)","v":"91510100MA6C73PJXG"}]
[332,"成都","成都仲诚博创科技有限公司",{"$f":"VLOOKUP(C335,[1]Sheet1!$A$2:$C$4597,2,FALSE)","v":"91510100MA6C8B4J3M"}]
[333,"成都","成都蓝蜻蜓生物技术有限公司",{"$f":"VLOOKUP(C336,[1]Sheet1!$A$2:$C$4597,2,FALSE)","v":"91510100MA6C8QA15A"}]
[334,"成都","四川中英智慧质量工程技术研究院有限公司",{"$f":"VLOOKUP(C337,[1]Sheet1!$A$2:$C$4597,2,FALSE)","v":"91510100MA6C8QE02N"}]
[335,"成都","四川欣新创艺科技有限公司",{"$f":"VLOOKUP(C338,[1]Sheet1!$A$2:$C$4597,2,FALSE)","v":"91510100MA6C8X6F30"}]
[336,"成都","四川中元联合化学有限责任公司",{"$f":"VLOOKUP(C339,[1]Sheet1!$A$2:$C$4597,2,FALSE)","v":"91510100MA6C91Y238"}]
[337,"成都","四川省品重钢构股份有限公司",{"$f":"VLOOKUP(C340,[1]Sheet1!$A$2:$C$4597,2,FALSE)","v":"91510100MA6C93AQ2Q"}]
[338,"成都","同星数据产业有限公司",{"$f":"VLOOKUP(C341,[1]Sheet1!$A$2:$C$4597,2,FALSE)","v":"91510100MA6C9M3QXN"}]
[339,"成都","汇睿信通成都科技有限公司",{"$f":"VLOOKUP(C342,[1]Sheet1!$A$2:$C$4597,2,FALSE)","v":"91510100MA6CATW819"}]
[340,"成都","四川唯正洋环保科技有限公司",{"$f":"VLOOKUP(C343,[1]Sheet1!$A$2:$C$4597,2,FALSE)","v":"91510100MA6CATXJ8Y"}]
[341,"成都","成都云鼎丝路信息技术有限公司",{"$f":"VLOOKUP(C344,[1]Sheet1!$A$2:$C$4597,2,FALSE)","v":"91510100MA6CB22P1F"}]
[342,"成都","成都忆能科技有限公司",{"$f":"VLOOKUP(C345,[1]Sheet1!$A$2:$C$4597,2,FALSE)","v":"91510100MA6CB24P44"}]
[343,"成都","成都蓉创智汇知识产权代理有限公司",{"$f":"VLOOKUP(C346,[1]Sheet1!$A$2:$C$4597,2,FALSE)","v":"91510100MA6CBTM67R"}]
[344,"成都","成都交大大数据科技有限公司",{"$f":"VLOOKUP(C347,[1]Sheet1!$A$2:$C$4597,2,FALSE)","v":"91510100MA6CBYHY8U"}]
[345,"成都","联通高新大数据人工智能科技（成都）有限公司",{"$f":"VLOOKUP(C348,[1]Sheet1!$A$2:$C$4597,2,FALSE)","v":"91510100MA6CCB5Q93"}]
[346,"成都","四川若斌生物科技有限责任公司",{"$f":"VLOOKUP(C349,[1]Sheet1!$A$2:$C$4597,2,FALSE)","v":"91510100MA6CDEDM0Y"}]
[347,"成都","成都玖粤信息技术有限公司",{"$f":"VLOOKUP(C350,[1]Sheet1!$A$2:$C$4597,2,FALSE)","v":"91510100MA6CE4L265"}]
[348,"成都","成都蜂鸟未来科技有限公司",{"$f":"VLOOKUP(C351,[1]Sheet1!$A$2:$C$4597,2,FALSE)","v":"91510100MA6CEBY95L"}]
[349,"成都","成都安智视云科技有限公司",{"$f":"VLOOKUP(C352,[1]Sheet1!$A$2:$C$4597,2,FALSE)","v":"91510100MA6CELU110"}]
[350,"成都","成都文新视界科技有限公司",{"$f":"VLOOKUP(C353,[1]Sheet1!$A$2:$C$4597,2,FALSE)","v":"91510100MA6CG9HY7P"}]
[351,"成都","文博安全科技有限公司",{"$f":"VLOOKUP(C354,[1]Sheet1!$A$2:$C$4597,2,FALSE)","v":"91510100MA6CGNAK6F"}]
[352,"成都","创想智控科技（成都）有限公司",{"$f":"VLOOKUP(C355,[1]Sheet1!$A$2:$C$4597,2,FALSE)","v":"91510100MA6CGUHE0K"}]
[353,"成都","四川威名科技有限公司",{"$f":"VLOOKUP(C356,[1]Sheet1!$A$2:$C$4597,2,FALSE)","v":"91510100MA6CHLET5K"}]
[354,"成都","成都银霆科技有限公司",{"$f":"VLOOKUP(C357,[1]Sheet1!$A$2:$C$4597,2,FALSE)","v":"91510100MA6CHNW91K"}]
[355,"成都","成都阿帕克生物科技有限公司",{"$f":"VLOOKUP(C358,[1]Sheet1!$A$2:$C$4597,2,FALSE)","v":"91510100MA6CL3BP6Y"}]
[356,"成都","四川科路泰交通科技有限公司",{"$f":"VLOOKUP(C359,[1]Sheet1!$A$2:$C$4597,2,FALSE)","v":"91510100MA6CL99A7L"}]
[357,"成都","成都小蓝科技有限责任公司",{"$f":"VLOOKUP(C360,[1]Sheet1!$A$2:$C$4597,2,FALSE)","v":"91510100MA6CLA1U2G"}]
[358,"成都","成都胜达百川科技有限公司",{"$f":"VLOOKUP(C361,[1]Sheet1!$A$2:$C$4597,2,FALSE)","v":"91510100MA6CLR6N37"}]
[359,"成都","成都奥北环保科技有限公司",{"$f":"VLOOKUP(C362,[1]Sheet1!$A$2:$C$4597,2,FALSE)","v":"91510100MA6CM89D4Y"}]
[360,"成都","四川政资汇智能科技有限公司",{"$f":"VLOOKUP(C363,[1]Sheet1!$A$2:$C$4597,2,FALSE)","v":"91510100MA6CMDFW1B"}]
[361,"成都","成都车晓科技有限公司",{"$f":"VLOOKUP(C364,[1]Sheet1!$A$2:$C$4597,2,FALSE)","v":"91510100MA6CNL2B4K"}]
[362,"成都","四川广蜀电力工程有限公司",{"$f":"VLOOKUP(C365,[1]Sheet1!$A$2:$C$4597,2,FALSE)","v":"91510100MA6CNP9MXQ"}]
[363,"成都","成都其联科技有限公司",{"$f":"VLOOKUP(C366,[1]Sheet1!$A$2:$C$4597,2,FALSE)","v":"91510100MA6CR5DK6B"}]
[364,"成都","成都迈科科技有限公司",{"$f":"VLOOKUP(C367,[1]Sheet1!$A$2:$C$4597,2,FALSE)","v":"91510100MA6CT6AJ2U"}]
[365,"成都","成都栩哲医药科技有限公司",{"$f":"VLOOKUP(C368,[1]Sheet1!$A$2:$C$4597,2,FALSE)","v":"91510100MA6CTQ1JXE"}]
[366,"成都","成都明壹自动化技术有限公司",{"$f":"VLOOKUP(C369,[1]Sheet1!$A$2:$C$4597,2,FALSE)","v":"91510100MA6CTUB33W"}]
[367,"成都","成都国信云位数据技术股份有限公司",{"$f":"VLOOKUP(C370,[1]Sheet1!$A$2:$C$4597,2,FALSE)","v":"91510100MA6CU6500E"}]
[368,"成都","四川华软慧医科技有限公司",{"$f":"VLOOKUP(C371,[1]Sheet1!$A$2:$C$4597,2,FALSE)","v":"91510100MA6CU8D90K"}]
[369,"成都","成都市众诚坦途网络科技有限公司",{"$f":"VLOOKUP(C372,[1]Sheet1!$A$2:$C$4597,2,FALSE)","v":"91510100MA6CW8CM15"}]
[370,"成都","成都美云智享智能科技有限公司",{"$f":"VLOOKUP(C373,[1]Sheet1!$A$2:$C$4597,2,FALSE)","v":"91510100MA6CWBE7XE"}]
[371,"成都","成都开心音符科技有限公司",{"$f":"VLOOKUP(C374,[1]Sheet1!$A$2:$C$4597,2,FALSE)","v":"91510100MA6CWGHPX4"}]
[372,"成都","成都全景德康医学影像诊断中心有限公司",{"$f":"VLOOKUP(C375,[1]Sheet1!$A$2:$C$4597,2,FALSE)","v":"91510100MA6CXRJN1T"}]
[373,"成都","四川海梦智森生物制药有限公司",{"$f":"VLOOKUP(C376,[1]Sheet1!$A$2:$C$4597,2,FALSE)","v":"91510100MA6CY3JC19"}]
[374,"成都","成都优迅医学检验实验室有限公司",{"$f":"VLOOKUP(C377,[1]Sheet1!$A$2:$C$4597,2,FALSE)","v":"91510100MA6CY51R51"}]
[375,"成都","成都云智未来科技有限公司",{"$f":"VLOOKUP(C378,[1]Sheet1!$A$2:$C$4597,2,FALSE)","v":"91510100MA6DE0N455"}]
[376,"成都","成都承和富山机电有限公司",{"$f":"VLOOKUP(C379,[1]Sheet1!$A$2:$C$4597,2,FALSE)","v":"91510100MA6DER2H19"}]
[377,"成都","成都鬼脸科技有限公司",{"$f":"VLOOKUP(C380,[1]Sheet1!$A$2:$C$4597,2,FALSE)","v":"91510100MA6DF65A1H"}]
[378,"成都","四川中科华兴数字科技有限公司",{"$f":"VLOOKUP(C381,[1]Sheet1!$A$2:$C$4597,2,FALSE)","v":"91510100MA6DGNP5XL"}]
[379,"成都","东方电气（成都）工程设计咨询有限公司",{"$f":"VLOOKUP(C382,[1]Sheet1!$A$2:$C$4597,2,FALSE)","v":"91510100MA6DHJPJ9Y"}]
[380,"成都","四川众行者科技有限公司",{"$f":"VLOOKUP(C383,[1]Sheet1!$A$2:$C$4597,2,FALSE)","v":"91510100MA6DHXTC5W"}]
[381,"成都","智通税创（成都）科技服务有限公司",{"$f":"VLOOKUP(C384,[1]Sheet1!$A$2:$C$4597,2,FALSE)","v":"91510100MAACE27J8C"}]
[382,"成都","成都视海芯图微电子有限公司",{"$f":"VLOOKUP(C385,[1]Sheet1!$A$2:$C$4597,2,FALSE)","v":"91510100MAACE2ED3F"}]
[383,"成都","成都阿加犀智能科技有限公司",{"$f":"VLOOKUP(C386,[1]Sheet1!$A$2:$C$4597,2,FALSE)","v":"91510100MAACEBWC42"}]
[384,"成都","软安科技有限公司",{"$f":"VLOOKUP(C387,[1]Sheet1!$A$2:$C$4597,2,FALSE)","v":"91510100MAACJ537X0"}]
[385,"成都","成都省心配科技有限公司",{"$f":"VLOOKUP(C388,[1]Sheet1!$A$2:$C$4597,2,FALSE)","v":"91510100MAACL7E172"}]
[386,"成都","成都微芯新域生物技术有限公司",{"$f":"VLOOKUP(C389,[1]Sheet1!$A$2:$C$4597,2,FALSE)","v":"91510100MAACM9DH2K"}]
[387,"成都","成都慧晶机械设备有限公司",{"$f":"VLOOKUP(C390,[1]Sheet1!$A$2:$C$4597,2,FALSE)","v":"9151010474640559X3"}]
[388,"成都","四川天人能源科技有限公司",{"$f":"VLOOKUP(C391,[1]Sheet1!$A$2:$C$4597,2,FALSE)","v":"91510106052531559L"}]
[389,"成都","四川虎马文化传媒有限公司",{"$f":"VLOOKUP(C392,[1]Sheet1!$A$2:$C$4597,2,FALSE)","v":"915101067826853307"}]
[390,"成都","四川和润达科技有限公司",{"$f":"VLOOKUP(C393,[1]Sheet1!$A$2:$C$4597,2,FALSE)","v":"915101073319629763"}]
[391,"成都","成都金鼎时代网络科技有限公司",{"$f":"VLOOKUP(C394,[1]Sheet1!$A$2:$C$4597,2,FALSE)","v":"91510107350565132E"}]
[392,"成都","成都铭峰新源科技有限公司",{"$f":"VLOOKUP(C395,[1]Sheet1!$A$2:$C$4597,2,FALSE)","v":"91510108MA61T1R01E"}]
[393,"成都","成都贡爵微电子有限公司",{"$f":"VLOOKUP(C396,[1]Sheet1!$A$2:$C$4597,2,FALSE)","v":"91510112MA6AEFPA52"}]
[394,"成都","成都见海科技有限公司",{"$f":"VLOOKUP(C397,[1]Sheet1!$A$2:$C$4597,2,FALSE)","v":"91510116MA6BAR567K"}]
[395,"成都","成都晨电智能科技有限公司",{"$f":"VLOOKUP(C398,[1]Sheet1!$A$2:$C$4597,2,FALSE)","v":"91510122394478823T"}]
[396,"成都","四川政采招投标咨询有限公司",{"$f":"VLOOKUP(C399,[1]Sheet1!$A$2:$C$4597,2,FALSE)","v":"91510131332006193K"}]
[397,"成都","成都数联云算科技有限公司",{"$f":"VLOOKUP(C400,[1]Sheet1!$A$2:$C$4597,2,FALSE)","v":"91510184MA61U9CQ6G"}]
[398,"成都","熙睿健康管理（成都）有限公司",{"$f":"VLOOKUP(C401,[1]Sheet1!$A$2:$C$4597,2,FALSE)","v":"91530112MA6PCMN61H"}]
[399,"成都","成都慧成科技有限责任公司",{"$f":"VLOOKUP(C402,[1]Sheet1!$A$2:$C$4597,2,FALSE)","v":"9151010057737834XP"}]
[400,"成都","四川华鲲振宇智能科技有限责任公司",{"$f":"VLOOKUP(C403,[1]Sheet1!$A$2:$C$4597,2,FALSE)","v":"91510100MA67G71FX6"}]
[401,"成都","四川同咨工程咨询有限公司",{"$f":"VLOOKUP(C404,[1]Sheet1!$A$2:$C$4597,2,FALSE)","v":"915101043943843688"}]
[402,"成都","成都花娃网络科技有限公司",{"$f":"VLOOKUP(C405,[1]Sheet1!$A$2:$C$4597,2,FALSE)","v":"915101043969136146"}]
[403,"成都","成都嘉瑜信息技术有限公司",{"$f":"VLOOKUP(C406,[1]Sheet1!$A$2:$C$4597,2,FALSE)","v":"915101043974354823"}]
[404,"成都","成都曦和数地科技有限公司",{"$f":"VLOOKUP(C407,[1]Sheet1!$A$2:$C$4597,2,FALSE)","v":"915101045510883285"}]
[405,"成都","成都神鸟数据咨询有限公司",{"$f":"VLOOKUP(C408,[1]Sheet1!$A$2:$C$4597,2,FALSE)","v":"915101046675831285"}]
[406,"成都","四川泰合泰环境工程有限公司",{"$f":"VLOOKUP(C409,[1]Sheet1!$A$2:$C$4597,2,FALSE)","v":"91510000073970788G"}]
[407,"成都","四川数字出版传媒有限公司",{"$f":"VLOOKUP(C410,[1]Sheet1!$A$2:$C$4597,2,FALSE)","v":"91510000201852592U"}]
[408,"成都","四川文鼎文化科技有限责任公司",{"$f":"VLOOKUP(C411,[1]Sheet1!$A$2:$C$4597,2,FALSE)","v":"91510000744699619Y"}]
[409,"成都","四川泰格尔系统集成有限公司",{"$f":"VLOOKUP(C412,[1]Sheet1!$A$2:$C$4597,2,FALSE)","v":"91510000752307056H"}]
[410,"成都","四川神龙科技股份有限公司",{"$f":"VLOOKUP(C413,[1]Sheet1!$A$2:$C$4597,2,FALSE)","v":"91510000759749121P"}]
[411,"成都","中创远大信息技术股份有限公司",{"$f":"VLOOKUP(C414,[1]Sheet1!$A$2:$C$4597,2,FALSE)","v":"91510100713005397N"}]
[412,"成都","四川智能建造科技股份有限公司",{"$f":"VLOOKUP(C415,[1]Sheet1!$A$2:$C$4597,2,FALSE)","v":"91510100MAACJE4C15"}]
[413,"成都","成都潘朵拉科技有限公司",{"$f":"VLOOKUP(C416,[1]Sheet1!$A$2:$C$4597,2,FALSE)","v":"91510104091285354T"}]
[414,"成都","成都世纪飞扬广告有限公司",{"$f":"VLOOKUP(C417,[1]Sheet1!$A$2:$C$4597,2,FALSE)","v":"91510104574608680U"}]
[415,"成都","四川多语信息技术有限公司",{"$f":"VLOOKUP(C418,[1]Sheet1!$A$2:$C$4597,2,FALSE)","v":"91510104582601710D"}]
[416,"成都","四川省国环环境工程咨询有限公司",{"$f":"VLOOKUP(C419,[1]Sheet1!$A$2:$C$4597,2,FALSE)","v":"91510104629518181P"}]
[417,"成都","四川科瑞种业有限公司",{"$f":"VLOOKUP(C420,[1]Sheet1!$A$2:$C$4597,2,FALSE)","v":"91510104758783766R"}]
[418,"成都","成都鹰皇科技有限公司",{"$f":"VLOOKUP(C421,[1]Sheet1!$A$2:$C$4597,2,FALSE)","v":"91510104788111864B"}]
[419,"成都","成都恒鑫和环保科技有限公司",{"$f":"VLOOKUP(C422,[1]Sheet1!$A$2:$C$4597,2,FALSE)","v":"91510104MA61RQ672H"}]
[420,"成都","极客信安（成都）科技有限公司",{"$f":"VLOOKUP(C423,[1]Sheet1!$A$2:$C$4597,2,FALSE)","v":"91510104MA63BLPX74"}]
[421,"成都","成都借宝科技有限公司",{"$f":"VLOOKUP(C424,[1]Sheet1!$A$2:$C$4597,2,FALSE)","v":"91510104MA63FTK92K"}]
[422,"成都","四川龙马溪能源技术有限公司",{"$f":"VLOOKUP(C425,[1]Sheet1!$A$2:$C$4597,2,FALSE)","v":"91510104MA64LUBP25"}]
[423,"成都","成都悦刻通信技术有限公司",{"$f":"VLOOKUP(C426,[1]Sheet1!$A$2:$C$4597,2,FALSE)","v":"91510104MA655KY510"}]
[424,"成都","慕学星凡 (成都) 科技有限公司","91510104MA66YA0W86"]
[425,"成都","四川乐恩乐达信息技术有限公司",{"$f":"VLOOKUP(C428,[1]Sheet1!$A$2:$C$4597,2,FALSE)","v":"91510104MA67JEFM11"}]
[426,"成都","成都海风锐智科技有限责任公司",{"$f":"VLOOKUP(C429,[1]Sheet1!$A$2:$C$4597,2,FALSE)","v":"91510104MA68B1BN69"}]
[427,"成都","成都禾鼎云创安全科技有限公司",{"$f":"VLOOKUP(C430,[1]Sheet1!$A$2:$C$4597,2,FALSE)","v":"91510104MA68B9BP4X"}]
[428,"成都","四川发展中恒能环境科技有限公司",{"$f":"VLOOKUP(C431,[1]Sheet1!$A$2:$C$4597,2,FALSE)","v":"91510104MA6C69NE70"}]
[429,"成都","四川瑞拓电力工程有限公司",{"$f":"VLOOKUP(C432,[1]Sheet1!$A$2:$C$4597,2,FALSE)","v":"91510104MA6C7CKB79"}]
[430,"成都","成都数智锦融科技有限公司",{"$f":"VLOOKUP(C433,[1]Sheet1!$A$2:$C$4597,2,FALSE)","v":"91510104MA6C8M0R38"}]
[431,"成都","成都纵横双创企业管理咨询有限公司",{"$f":"VLOOKUP(C434,[1]Sheet1!$A$2:$C$4597,2,FALSE)","v":"91510104MA6CN96T44"}]
[432,"成都","四川福摩数字科技有限公司",{"$f":"VLOOKUP(C435,[1]Sheet1!$A$2:$C$4597,2,FALSE)","v":"91510104MA6CNABR2G"}]
[433,"成都","四川封面传媒科技有限责任公司",{"$f":"VLOOKUP(C436,[1]Sheet1!$A$2:$C$4597,2,FALSE)","v":"91510104MAACKEBU9N"}]
[434,"成都","四川大熊猫数字科技发展有限公司",{"$f":"VLOOKUP(C437,[1]Sheet1!$A$2:$C$4597,2,FALSE)","v":"91510107MA62R2W57T"}]
[435,"成都","四川文轩教育科技有限公司",{"$f":"VLOOKUP(C438,[1]Sheet1!$A$2:$C$4597,2,FALSE)","v":"91510108777474045C"}]
[436,"成都","四川科库科技有限公司",{"$f":"VLOOKUP(C439,[1]Sheet1!$A$2:$C$4597,2,FALSE)","v":"9151110034575748X8"}]
[437,"成都","四川正中能源有限公司",{"$f":"VLOOKUP(C440,[1]Sheet1!$A$2:$C$4597,2,FALSE)","v":"915100003269544107"}]
[438,"成都","中恒工程设计院有限公司",{"$f":"VLOOKUP(C441,[1]Sheet1!$A$2:$C$4597,2,FALSE)","v":"915100007650948118"}]
[439,"成都","成都朗瑞深冷科技有限公司",{"$f":"VLOOKUP(C442,[1]Sheet1!$A$2:$C$4597,2,FALSE)","v":"915101055849656142"}]
[440,"成都","成都品游科技有限公司",{"$f":"VLOOKUP(C443,[1]Sheet1!$A$2:$C$4597,2,FALSE)","v":"915101055920834436"}]
[441,"成都","四川福地旅游投资管理有限公司",{"$f":"VLOOKUP(C444,[1]Sheet1!$A$2:$C$4597,2,FALSE)","v":"91510000553464008D"}]
[442,"成都","四川益丰电子科技有限公司",{"$f":"VLOOKUP(C445,[1]Sheet1!$A$2:$C$4597,2,FALSE)","v":"9151000067837409XB"}]
[443,"成都","四川中成煤田物探工程院有限公司",{"$f":"VLOOKUP(C446,[1]Sheet1!$A$2:$C$4597,2,FALSE)","v":"91510000793955009U"}]
[444,"成都","中储粮成都储藏研究院有限公司",{"$f":"VLOOKUP(C447,[1]Sheet1!$A$2:$C$4597,2,FALSE)","v":"91510100091281994A"}]
[445,"成都","成都坤洋实业发展有限公司",{"$f":"VLOOKUP(C448,[1]Sheet1!$A$2:$C$4597,2,FALSE)","v":"91510100633143327B"}]
[446,"成都","四川军昊科技有限公司",{"$f":"VLOOKUP(C449,[1]Sheet1!$A$2:$C$4597,2,FALSE)","v":"91510100MA61UHHJ2E"}]
[447,"成都","成都奇微科技有限公司",{"$f":"VLOOKUP(C450,[1]Sheet1!$A$2:$C$4597,2,FALSE)","v":"9151010509889139XG"}]
[448,"成都","成都炎龙天地网络科技有限公司",{"$f":"VLOOKUP(C451,[1]Sheet1!$A$2:$C$4597,2,FALSE)","v":"91510105396148035E"}]
[449,"成都","四川阿尔西制冷工程技术有限公司",{"$f":"VLOOKUP(C452,[1]Sheet1!$A$2:$C$4597,2,FALSE)","v":"91510105675795542T"}]
[450,"成都","中国铁建电气化局集团第五工程有限公司",{"$f":"VLOOKUP(C453,[1]Sheet1!$A$2:$C$4597,2,FALSE)","v":"9151010578212420X7"}]
[451,"成都","成都鱼爪智云知识产权代理有限公司",{"$f":"VLOOKUP(C454,[1]Sheet1!$A$2:$C$4597,2,FALSE)","v":"91510105MA69UR273P"}]
[452,"成都","四川仟众生物科技有限公司",{"$f":"VLOOKUP(C455,[1]Sheet1!$A$2:$C$4597,2,FALSE)","v":"91510105MA6C74NM40"}]
[453,"成都","四川金时为开网络科技有限公司",{"$f":"VLOOKUP(C456,[1]Sheet1!$A$2:$C$4597,2,FALSE)","v":"91510106MA643H2L9M"}]
[454,"成都","成都长波仪器有限公司",{"$f":"VLOOKUP(C457,[1]Sheet1!$A$2:$C$4597,2,FALSE)","v":"91510112MA63PF3L9T"}]
[455,"成都","四川交大工程检测咨询有限公司",{"$f":"VLOOKUP(C458,[1]Sheet1!$A$2:$C$4597,2,FALSE)","v":"915100006899296365"}]
[456,"成都","成都蜀光石油化学有限公司",{"$f":"VLOOKUP(C459,[1]Sheet1!$A$2:$C$4597,2,FALSE)","v":"915101002019099900"}]
[457,"成都","四川云图信息技术有限公司",{"$f":"VLOOKUP(C460,[1]Sheet1!$A$2:$C$4597,2,FALSE)","v":"915101060574698896"}]
[458,"成都","四川逸名环保科技有限公司",{"$f":"VLOOKUP(C461,[1]Sheet1!$A$2:$C$4597,2,FALSE)","v":"915101066818295934"}]
[459,"成都","四川阳晨环境工程投资有限公司",{"$f":"VLOOKUP(C462,[1]Sheet1!$A$2:$C$4597,2,FALSE)","v":"915101067587982477"}]
[460,"成都","四川中图三维信息技术有限公司",{"$f":"VLOOKUP(C463,[1]Sheet1!$A$2:$C$4597,2,FALSE)","v":"91510000089888367T"}]
[461,"成都","四川消安智能工程有限公司",{"$f":"VLOOKUP(C464,[1]Sheet1!$A$2:$C$4597,2,FALSE)","v":"91510000560706466B"}]
[462,"成都","中远交科设计咨询有限公司",{"$f":"VLOOKUP(C465,[1]Sheet1!$A$2:$C$4597,2,FALSE)","v":"91510000565664904P"}]
[463,"成都","四川艾德瑞电气有限公司",{"$f":"VLOOKUP(C466,[1]Sheet1!$A$2:$C$4597,2,FALSE)","v":"91510100054901672F"}]
[464,"成都","四川智绘地理信息科技有限公司",{"$f":"VLOOKUP(C467,[1]Sheet1!$A$2:$C$4597,2,FALSE)","v":"91510100395455332H"}]
[465,"成都","成都交大工程建设集团有限公司",{"$f":"VLOOKUP(C468,[1]Sheet1!$A$2:$C$4597,2,FALSE)","v":"91510100709228299L"}]
[466,"成都","成都戎盛科技有限公司",{"$f":"VLOOKUP(C469,[1]Sheet1!$A$2:$C$4597,2,FALSE)","v":"91510100MA6CDML03W"}]
[467,"成都","四川川测研地科技有限公司",{"$f":"VLOOKUP(C470,[1]Sheet1!$A$2:$C$4597,2,FALSE)","v":"9151010609283356X2"}]
[468,"成都","成都汉羿科技有限公司",{"$f":"VLOOKUP(C471,[1]Sheet1!$A$2:$C$4597,2,FALSE)","v":"91510106331938108A"}]
[469,"成都","成都维星科技有限公司",{"$f":"VLOOKUP(C472,[1]Sheet1!$A$2:$C$4597,2,FALSE)","v":"91510106394386793X"}]
[470,"成都","成都瑞安云科技股份有限公司",{"$f":"VLOOKUP(C473,[1]Sheet1!$A$2:$C$4597,2,FALSE)","v":"91510106584983898H"}]
[471,"成都","成都市锦华实用电器研究所有限公司",{"$f":"VLOOKUP(C474,[1]Sheet1!$A$2:$C$4597,2,FALSE)","v":"91510106621753830J"}]
[472,"成都","成都中大华瑞科技有限公司",{"$f":"VLOOKUP(C475,[1]Sheet1!$A$2:$C$4597,2,FALSE)","v":"91510106698864379H"}]
[473,"成都","四川鲲鹏交通设施制造有限公司",{"$f":"VLOOKUP(C476,[1]Sheet1!$A$2:$C$4597,2,FALSE)","v":"91510106749737979N"}]
[474,"成都","成都博一医药设计有限公司",{"$f":"VLOOKUP(C477,[1]Sheet1!$A$2:$C$4597,2,FALSE)","v":"9151010675280604X9"}]
[475,"成都","丽芯微电子有限公司",{"$f":"VLOOKUP(C478,[1]Sheet1!$A$2:$C$4597,2,FALSE)","v":"91510106782661582H"}]
[476,"成都","成都天佑安全技术有限公司",{"$f":"VLOOKUP(C479,[1]Sheet1!$A$2:$C$4597,2,FALSE)","v":"91510106MA61R22H36"}]
[477,"成都","成都真信智能科技有限公司",{"$f":"VLOOKUP(C480,[1]Sheet1!$A$2:$C$4597,2,FALSE)","v":"91510106MA61WDPY6T"}]
[478,"成都","成都合瑞达机电设备有限公司",{"$f":"VLOOKUP(C481,[1]Sheet1!$A$2:$C$4597,2,FALSE)","v":"91510106MA61XDQL1E"}]
[479,"成都","成都西部硅谷科技有限公司",{"$f":"VLOOKUP(C482,[1]Sheet1!$A$2:$C$4597,2,FALSE)","v":"91510106MA62L6PY83"}]
[480,"成都","成都金易数据湖信息技术有限责任公司",{"$f":"VLOOKUP(C483,[1]Sheet1!$A$2:$C$4597,2,FALSE)","v":"91510106MA643R3M0A"}]
[481,"成都","东方电气新能科技（成都）有限公司",{"$f":"VLOOKUP(C484,[1]Sheet1!$A$2:$C$4597,2,FALSE)","v":"91510106MA64TEGY8Q"}]
[482,"成都","成都轨道交通产业技术研究院有限公司",{"$f":"VLOOKUP(C485,[1]Sheet1!$A$2:$C$4597,2,FALSE)","v":"91510106MA6CHD6L7A"}]
[483,"成都","四川中测仪器科技有限公司",{"$f":"VLOOKUP(C486,[1]Sheet1!$A$2:$C$4597,2,FALSE)","v":"91510108MA6CEQU90M"}]
[484,"成都","成都颉达科技有限公司",{"$f":"VLOOKUP(C487,[1]Sheet1!$A$2:$C$4597,2,FALSE)","v":"91510114MA61RRAT0C"}]
[485,"成都","四川汇松教育科技有限责任公司",{"$f":"VLOOKUP(C488,[1]Sheet1!$A$2:$C$4597,2,FALSE)","v":"91510000673511091N"}]
[486,"成都","四川宜科纯水设备有限公司",{"$f":"VLOOKUP(C489,[1]Sheet1!$A$2:$C$4597,2,FALSE)","v":"91510000675766477A"}]
[487,"成都","四川江源工程咨询有限公司",{"$f":"VLOOKUP(C490,[1]Sheet1!$A$2:$C$4597,2,FALSE)","v":"915100006823987486"}]
[488,"成都","四川维度电子科技有限公司",{"$f":"VLOOKUP(C491,[1]Sheet1!$A$2:$C$4597,2,FALSE)","v":"91510000686120428N"}]
[489,"成都","四川大智电力有限公司",{"$f":"VLOOKUP(C492,[1]Sheet1!$A$2:$C$4597,2,FALSE)","v":"915100006861262804"}]
[490,"成都","四川联智科技有限责任公司",{"$f":"VLOOKUP(C493,[1]Sheet1!$A$2:$C$4597,2,FALSE)","v":"91510000772996522G"}]
[491,"成都","科学出版社成都有限责任公司",{"$f":"VLOOKUP(C494,[1]Sheet1!$A$2:$C$4597,2,FALSE)","v":"915101002019961662"}]
[492,"成都","四川弘和通讯集团有限公司",{"$f":"VLOOKUP(C495,[1]Sheet1!$A$2:$C$4597,2,FALSE)","v":"91510100556445136F"}]
[493,"成都","成都顶智时代信息技术有限公司",{"$f":"VLOOKUP(C496,[1]Sheet1!$A$2:$C$4597,2,FALSE)","v":"915101005800300100"}]
[494,"成都","成都大开应用技术研究所",{"$f":"VLOOKUP(C497,[1]Sheet1!$A$2:$C$4597,2,FALSE)","v":"915101006331644000"}]
[495,"成都","四川爱筑建设工程有限公司",{"$f":"VLOOKUP(C498,[1]Sheet1!$A$2:$C$4597,2,FALSE)","v":"915101006675848176"}]
[496,"成都","四川空间座标信息科技有限公司",{"$f":"VLOOKUP(C499,[1]Sheet1!$A$2:$C$4597,2,FALSE)","v":"915101006743352964"}]
[497,"成都","成都东方盛行电子有限责任公司",{"$f":"VLOOKUP(C500,[1]Sheet1!$A$2:$C$4597,2,FALSE)","v":"9151010072536213X8"}]
[498,"成都","四川纵横六合科技股份有限公司",{"$f":"VLOOKUP(C501,[1]Sheet1!$A$2:$C$4597,2,FALSE)","v":"91510100743643162Y"}]
[499,"成都","四川众力拓科技有限公司",{"$f":"VLOOKUP(C502,[1]Sheet1!$A$2:$C$4597,2,FALSE)","v":"91510100MA6CHCP469"}]
[500,"成都","成都椒云电子商务股份有限公司",{"$f":"VLOOKUP(C503,[1]Sheet1!$A$2:$C$4597,2,FALSE)","v":"91510100MA6CU20AX9"}]
[501,"成都","四川省仁华科技有限公司",{"$f":"VLOOKUP(C504,[1]Sheet1!$A$2:$C$4597,2,FALSE)","v":"91510107052545379E"}]
[502,"成都","成都力方视觉科技有限公司",{"$f":"VLOOKUP(C505,[1]Sheet1!$A$2:$C$4597,2,FALSE)","v":"91510107057455436T"}]
[503,"成都","成都英商电子科技有限公司",{"$f":"VLOOKUP(C506,[1]Sheet1!$A$2:$C$4597,2,FALSE)","v":"91510107080605551C"}]
[504,"成都","四川诺恒通信技术有限公司",{"$f":"VLOOKUP(C507,[1]Sheet1!$A$2:$C$4597,2,FALSE)","v":"91510107091281812B"}]
[505,"成都","成都贝克思防雷科技有限公司",{"$f":"VLOOKUP(C508,[1]Sheet1!$A$2:$C$4597,2,FALSE)","v":"915101070912942857"}]
[506,"成都","成都吉联达科技有限公司",{"$f":"VLOOKUP(C509,[1]Sheet1!$A$2:$C$4597,2,FALSE)","v":"91510107095722144B"}]
[507,"成都","成都铁路通信设备有限责任公司",{"$f":"VLOOKUP(C510,[1]Sheet1!$A$2:$C$4597,2,FALSE)","v":"91510107202369746C"}]
[508,"成都","四川苏净机电设备有限公司",{"$f":"VLOOKUP(C511,[1]Sheet1!$A$2:$C$4597,2,FALSE)","v":"91510107321590208N"}]
[509,"成都","成都中达佳创智能科技有限公司",{"$f":"VLOOKUP(C512,[1]Sheet1!$A$2:$C$4597,2,FALSE)","v":"915101073274302217"}]
[510,"成都","四川蓝欣弘科技有限公司",{"$f":"VLOOKUP(C513,[1]Sheet1!$A$2:$C$4597,2,FALSE)","v":"91510107327501595E"}]
[511,"成都","四川通航智源航空科技有限公司",{"$f":"VLOOKUP(C514,[1]Sheet1!$A$2:$C$4597,2,FALSE)","v":"91510107331933024L"}]
[512,"成都","四川宏盛鼎兴建材有限公司",{"$f":"VLOOKUP(C515,[1]Sheet1!$A$2:$C$4597,2,FALSE)","v":"915101073319436606"}]
[513,"成都","四川厚加源科技有限公司",{"$f":"VLOOKUP(C516,[1]Sheet1!$A$2:$C$4597,2,FALSE)","v":"915101073320786487"}]
[514,"成都","四川云舜信息技术有限公司",{"$f":"VLOOKUP(C517,[1]Sheet1!$A$2:$C$4597,2,FALSE)","v":"91510107399927149Y"}]
[515,"成都","四川良仕农业科技有限公司",{"$f":"VLOOKUP(C518,[1]Sheet1!$A$2:$C$4597,2,FALSE)","v":"915101075564324078"}]
[516,"成都","成都四海诚达科技有限公司",{"$f":"VLOOKUP(C519,[1]Sheet1!$A$2:$C$4597,2,FALSE)","v":"915101075696634904"}]
[517,"成都","成都瑞安信信息安全技术有限公司",{"$f":"VLOOKUP(C520,[1]Sheet1!$A$2:$C$4597,2,FALSE)","v":"91510107597296990W"}]
[518,"成都","四川巴赫斯科技有限公司",{"$f":"VLOOKUP(C521,[1]Sheet1!$A$2:$C$4597,2,FALSE)","v":"91510107665333870C"}]
[519,"成都","成都恒睿信息技术有限公司",{"$f":"VLOOKUP(C522,[1]Sheet1!$A$2:$C$4597,2,FALSE)","v":"91510107679661963M"}]
[520,"成都","四川森源龙家具有限公司",{"$f":"VLOOKUP(C523,[1]Sheet1!$A$2:$C$4597,2,FALSE)","v":"91510107686300197R"}]
[521,"成都","成都玖信科技有限公司",{"$f":"VLOOKUP(C524,[1]Sheet1!$A$2:$C$4597,2,FALSE)","v":"915101076863226280"}]
[522,"成都","成都新致万全数据系统有限公司",{"$f":"VLOOKUP(C525,[1]Sheet1!$A$2:$C$4597,2,FALSE)","v":"91510107720354296R"}]
[523,"成都","成都宏博科技发展有限公司",{"$f":"VLOOKUP(C526,[1]Sheet1!$A$2:$C$4597,2,FALSE)","v":"915101077234495656"}]
[524,"成都","四川锦江电子医疗器械科技股份有限公司",{"$f":"VLOOKUP(C527,[1]Sheet1!$A$2:$C$4597,2,FALSE)","v":"915101077348059327"}]
[525,"成都","成都设尔易科技有限公司",{"$f":"VLOOKUP(C528,[1]Sheet1!$A$2:$C$4597,2,FALSE)","v":"915101077464176976"}]
[526,"成都","成都创造者科技有限公司",{"$f":"VLOOKUP(C529,[1]Sheet1!$A$2:$C$4597,2,FALSE)","v":"91510107755997785B"}]
[527,"成都","成都赛零信息技术开发有限公司",{"$f":"VLOOKUP(C530,[1]Sheet1!$A$2:$C$4597,2,FALSE)","v":"91510107774504464D"}]
[528,"成都","成都大峰软件有限公司",{"$f":"VLOOKUP(C531,[1]Sheet1!$A$2:$C$4597,2,FALSE)","v":"915101077774665477"}]
[529,"成都","成都元素科技有限公司",{"$f":"VLOOKUP(C532,[1]Sheet1!$A$2:$C$4597,2,FALSE)","v":"91510107777467662N"}]
[530,"成都","成都孚华环保科技有限公司",{"$f":"VLOOKUP(C533,[1]Sheet1!$A$2:$C$4597,2,FALSE)","v":"91510107785435353P"}]
[531,"成都","四川云之力科技有限公司",{"$f":"VLOOKUP(C534,[1]Sheet1!$A$2:$C$4597,2,FALSE)","v":"91510107MA61RE8J05"}]
[532,"成都","成都力方幻视科技有限公司",{"$f":"VLOOKUP(C535,[1]Sheet1!$A$2:$C$4597,2,FALSE)","v":"91510107MA61U84A1D"}]
[533,"成都","四川兴泰普乐医疗科技有限公司",{"$f":"VLOOKUP(C536,[1]Sheet1!$A$2:$C$4597,2,FALSE)","v":"91510107MA61UF433Y"}]
[534,"成都","成都菲宇科技有限公司",{"$f":"VLOOKUP(C537,[1]Sheet1!$A$2:$C$4597,2,FALSE)","v":"91510107MA61WEMD8R"}]
[535,"成都","成都普能信通科技有限公司",{"$f":"VLOOKUP(C538,[1]Sheet1!$A$2:$C$4597,2,FALSE)","v":"91510107MA61WQQL1L"}]
[536,"成都","四川民能瑞和电力建设股份有限公司",{"$f":"VLOOKUP(C539,[1]Sheet1!$A$2:$C$4597,2,FALSE)","v":"91510107MA61XBBP3X"}]
[537,"成都","四川全因子网络科技有限公司",{"$f":"VLOOKUP(C540,[1]Sheet1!$A$2:$C$4597,2,FALSE)","v":"91510107MA62CBTXXQ"}]
[538,"成都","成都科讯云网络科技有限公司",{"$f":"VLOOKUP(C541,[1]Sheet1!$A$2:$C$4597,2,FALSE)","v":"91510107MA62QFQG9U"}]
[539,"成都","成都仁峰教育信息技术有限公司",{"$f":"VLOOKUP(C542,[1]Sheet1!$A$2:$C$4597,2,FALSE)","v":"91510107MA63627DXF"}]
[540,"成都","四川省鑫牧汇科技有限公司",{"$f":"VLOOKUP(C543,[1]Sheet1!$A$2:$C$4597,2,FALSE)","v":"91510107MA63GX9T25"}]
[541,"成都","四川七特能创科技有限公司",{"$f":"VLOOKUP(C544,[1]Sheet1!$A$2:$C$4597,2,FALSE)","v":"91510107MA64FCKW59"}]
[542,"成都","四川明亮老鹰生物科技集团有限公司",{"$f":"VLOOKUP(C545,[1]Sheet1!$A$2:$C$4597,2,FALSE)","v":"91510107MA64FYQCXH"}]
[543,"成都","成都智谷耘行信息技术有限公司",{"$f":"VLOOKUP(C546,[1]Sheet1!$A$2:$C$4597,2,FALSE)","v":"91510107MA64RRUT0G"}]
[544,"成都","四川浮舟科技有限责任公司",{"$f":"VLOOKUP(C547,[1]Sheet1!$A$2:$C$4597,2,FALSE)","v":"91510107MA66E7G43J"}]
[545,"成都","成都一课量子科技有限公司",{"$f":"VLOOKUP(C548,[1]Sheet1!$A$2:$C$4597,2,FALSE)","v":"91510107MA68GBF75P"}]
[546,"成都","四川悦达交安科技有限公司",{"$f":"VLOOKUP(C549,[1]Sheet1!$A$2:$C$4597,2,FALSE)","v":"91510107MA68NAHY4Y"}]
[547,"成都","成都智慧城市信息技术有限公司",{"$f":"VLOOKUP(C550,[1]Sheet1!$A$2:$C$4597,2,FALSE)","v":"91510107MA68Q27C5C"}]
[548,"成都","成都市皓煊光电新材料科技研发中心有限公司",{"$f":"VLOOKUP(C551,[1]Sheet1!$A$2:$C$4597,2,FALSE)","v":"91510107MA69FDFB9H"}]
[549,"成都","四川美科奇生物科技有限公司",{"$f":"VLOOKUP(C552,[1]Sheet1!$A$2:$C$4597,2,FALSE)","v":"91510107MA6AD2PW4L"}]
[550,"成都","成都诺医德医学检验实验室有限公司",{"$f":"VLOOKUP(C553,[1]Sheet1!$A$2:$C$4597,2,FALSE)","v":"91510107MA6B38GQ0W"}]
[551,"成都","成都世加亿科技有限公司",{"$f":"VLOOKUP(C554,[1]Sheet1!$A$2:$C$4597,2,FALSE)","v":"91510107MA6B38TG1G"}]
[552,"成都","四川蓉宇正信息技术有限公司",{"$f":"VLOOKUP(C555,[1]Sheet1!$A$2:$C$4597,2,FALSE)","v":"91510107MA6B424K4C"}]
[553,"成都","诚鹏电力科技有限公司",{"$f":"VLOOKUP(C556,[1]Sheet1!$A$2:$C$4597,2,FALSE)","v":"91510107MA6BGAPCX5"}]
[554,"成都","四川掌安安全科技有限公司",{"$f":"VLOOKUP(C557,[1]Sheet1!$A$2:$C$4597,2,FALSE)","v":"91510107MA6CBMJXXM"}]
[555,"成都","中之保金融科技（成都）有限公司",{"$f":"VLOOKUP(C558,[1]Sheet1!$A$2:$C$4597,2,FALSE)","v":"91510107MA6CEY8L02"}]
[556,"成都","成都运为科技有限公司",{"$f":"VLOOKUP(C559,[1]Sheet1!$A$2:$C$4597,2,FALSE)","v":"91510107MA6CLEJR34"}]
[557,"成都","四川保全界企业管理有限公司",{"$f":"VLOOKUP(C560,[1]Sheet1!$A$2:$C$4597,2,FALSE)","v":"91510107MA6CP2NQXT"}]
[558,"成都","中化融信成都科技有限公司",{"$f":"VLOOKUP(C561,[1]Sheet1!$A$2:$C$4597,2,FALSE)","v":"91510107MA6CPCA01F"}]
[559,"成都","成都安阶监测科技有限公司",{"$f":"VLOOKUP(C562,[1]Sheet1!$A$2:$C$4597,2,FALSE)","v":"91510107MA6CQ4XW3C"}]
[560,"成都","四川思迈特智数软件有限公司",{"$f":"VLOOKUP(C563,[1]Sheet1!$A$2:$C$4597,2,FALSE)","v":"91510107MA6CWG5N70"}]
[561,"成都","四川正诚蝶和科技有限公司",{"$f":"VLOOKUP(C564,[1]Sheet1!$A$2:$C$4597,2,FALSE)","v":"91510107MA6CWU4943"}]
[562,"成都","成都蜀道易信科技有限公司",{"$f":"VLOOKUP(C565,[1]Sheet1!$A$2:$C$4597,2,FALSE)","v":"91510107MA6DEW3D9E"}]
[563,"成都","成都耐斯特科技有限公司",{"$f":"VLOOKUP(C566,[1]Sheet1!$A$2:$C$4597,2,FALSE)","v":"915101080669709582"}]
[564,"成都","四川省世源恒达科技有限公司",{"$f":"VLOOKUP(C567,[1]Sheet1!$A$2:$C$4597,2,FALSE)","v":"915101080912995884"}]
[565,"成都","成都鼎霖通讯设备有限公司",{"$f":"VLOOKUP(C568,[1]Sheet1!$A$2:$C$4597,2,FALSE)","v":"915101083944319299"}]
[566,"成都","成都润原科技有限公司",{"$f":"VLOOKUP(C569,[1]Sheet1!$A$2:$C$4597,2,FALSE)","v":"915101087949433411"}]
[567,"成都","四川享宇科技有限公司",{"$f":"VLOOKUP(C570,[1]Sheet1!$A$2:$C$4597,2,FALSE)","v":"91110107089649833A"}]
[568,"成都","四川亿信产业园运营管理有限公司",{"$f":"VLOOKUP(C571,[1]Sheet1!$A$2:$C$4597,2,FALSE)","v":"91510100MA6CQAUD5X"}]
[569,"成都","四川律正检测科技有限公司",{"$f":"VLOOKUP(C572,[1]Sheet1!$A$2:$C$4597,2,FALSE)","v":"91510100MA6CU5TG12"}]
[570,"成都","四川省冶勘设计集团生态环境工程有限公司",{"$f":"VLOOKUP(C573,[1]Sheet1!$A$2:$C$4597,2,FALSE)","v":"91510104698872731P"}]
[571,"成都","成都易博安科技有限公司",{"$f":"VLOOKUP(C574,[1]Sheet1!$A$2:$C$4597,2,FALSE)","v":"91510108066979450X"}]
[572,"成都","成都市斯达鑫辉视讯科技有限公司",{"$f":"VLOOKUP(C575,[1]Sheet1!$A$2:$C$4597,2,FALSE)","v":"91510108080610721N"}]
[573,"成都","四川中德盛达环境工程有限公司",{"$f":"VLOOKUP(C576,[1]Sheet1!$A$2:$C$4597,2,FALSE)","v":"91510108321603742M"}]
[574,"成都","成都高清源信息技术有限公司",{"$f":"VLOOKUP(C577,[1]Sheet1!$A$2:$C$4597,2,FALSE)","v":"91510108331927011X"}]
[575,"成都","成都智蜀科技有限公司",{"$f":"VLOOKUP(C578,[1]Sheet1!$A$2:$C$4597,2,FALSE)","v":"91510108350648712M"}]
[576,"成都","四川爱辉科技有限公司",{"$f":"VLOOKUP(C579,[1]Sheet1!$A$2:$C$4597,2,FALSE)","v":"91510108395776267G"}]
[577,"成都","成都惠诚海泰科技有限公司",{"$f":"VLOOKUP(C580,[1]Sheet1!$A$2:$C$4597,2,FALSE)","v":"91510108569674421D"}]
[578,"成都","成都标定科技有限责任公司",{"$f":"VLOOKUP(C581,[1]Sheet1!$A$2:$C$4597,2,FALSE)","v":"9151010871302220X9"}]
[579,"成都","成都科佳信微电子有限公司",{"$f":"VLOOKUP(C582,[1]Sheet1!$A$2:$C$4597,2,FALSE)","v":"91510108743648545L"}]
[580,"成都","四川凌耘建科技有限公司",{"$f":"VLOOKUP(C583,[1]Sheet1!$A$2:$C$4597,2,FALSE)","v":"91510108MA61R0TY9W"}]
[581,"成都","四川合顺微创科技有限公司",{"$f":"VLOOKUP(C584,[1]Sheet1!$A$2:$C$4597,2,FALSE)","v":"91510108MA61RQL275"}]
[582,"成都","四川源景绿能科技有限公司",{"$f":"VLOOKUP(C585,[1]Sheet1!$A$2:$C$4597,2,FALSE)","v":"91510108MA61W94P8X"}]
[583,"成都","成都中智游科技有限公司",{"$f":"VLOOKUP(C586,[1]Sheet1!$A$2:$C$4597,2,FALSE)","v":"91510108MA62NT565P"}]
[584,"成都","成都思图思创科技有限公司",{"$f":"VLOOKUP(C587,[1]Sheet1!$A$2:$C$4597,2,FALSE)","v":"91510108MA62PG0Q24"}]
[585,"成都","四川宝石机械石油钻头有限责任公司",{"$f":"VLOOKUP(C588,[1]Sheet1!$A$2:$C$4597,2,FALSE)","v":"91510108MA62PMQQ4N"}]
[586,"成都","四川派摩互联科技有限公司",{"$f":"VLOOKUP(C589,[1]Sheet1!$A$2:$C$4597,2,FALSE)","v":"91510108MA637EHPXF"}]
[587,"成都","成都中北卫恩科技有限公司",{"$f":"VLOOKUP(C590,[1]Sheet1!$A$2:$C$4597,2,FALSE)","v":"91510108MA6393J5XJ"}]
[588,"成都","安格利(成都)仪器设备有限公司",{"$f":"VLOOKUP(C591,[1]Sheet1!$A$2:$C$4597,2,FALSE)","v":"91510108MA662BA59J"}]
[589,"成都","成都久合通联科技有限责任公司",{"$f":"VLOOKUP(C592,[1]Sheet1!$A$2:$C$4597,2,FALSE)","v":"91510108MA690AAA9Q"}]
[590,"成都","四川光彩君酌光电科技有限公司",{"$f":"VLOOKUP(C593,[1]Sheet1!$A$2:$C$4597,2,FALSE)","v":"91510108MA698FRU8E"}]
[591,"成都","四川菲尔检测技术有限公司",{"$f":"VLOOKUP(C594,[1]Sheet1!$A$2:$C$4597,2,FALSE)","v":"91510108MA698K4U5T"}]
[592,"成都","四川爱格汇信息科技有限公司",{"$f":"VLOOKUP(C595,[1]Sheet1!$A$2:$C$4597,2,FALSE)","v":"91510124MA67EGE895"}]
[593,"成都","成都宏基建材股份有限公司",{"$f":"VLOOKUP(C596,[1]Sheet1!$A$2:$C$4597,2,FALSE)","v":"9151010062170852X1"}]
[594,"成都","成都一通密封股份有限公司",{"$f":"VLOOKUP(C597,[1]Sheet1!$A$2:$C$4597,2,FALSE)","v":"91510100768609059D"}]
[595,"成都","四川众检四方检验检测技术有限公司",{"$f":"VLOOKUP(C598,[1]Sheet1!$A$2:$C$4597,2,FALSE)","v":"91510107MA6DEUDK4N"}]
[596,"成都","成都倚天斋工贸有限公司",{"$f":"VLOOKUP(C599,[1]Sheet1!$A$2:$C$4597,2,FALSE)","v":"91510108633128143X"}]
[597,"成都","成都市金雅迪彩色印刷有限公司",{"$f":"VLOOKUP(C600,[1]Sheet1!$A$2:$C$4597,2,FALSE)","v":"9151011206697561XT"}]
[598,"成都","成都东光中一精锻有限公司",{"$f":"VLOOKUP(C601,[1]Sheet1!$A$2:$C$4597,2,FALSE)","v":"915101120912545827"}]
[599,"成都","成都特恩达燃气设备有限公司",{"$f":"VLOOKUP(C602,[1]Sheet1!$A$2:$C$4597,2,FALSE)","v":"91510112095263865Q"}]
[600,"成都","成都振中电气集团有限公司",{"$f":"VLOOKUP(C603,[1]Sheet1!$A$2:$C$4597,2,FALSE)","v":"91510112202248944F"}]
[601,"成都","成都居雅家政服务有限公司",{"$f":"VLOOKUP(C604,[1]Sheet1!$A$2:$C$4597,2,FALSE)","v":"91510112327463701M"}]
[602,"成都","成都万唐科技有限责任公司",{"$f":"VLOOKUP(C605,[1]Sheet1!$A$2:$C$4597,2,FALSE)","v":"91510112582616306N"}]
[603,"成都","成都正海汽车内饰件有限公司",{"$f":"VLOOKUP(C606,[1]Sheet1!$A$2:$C$4597,2,FALSE)","v":"9151011258755751XW"}]
[604,"成都","成都易控智联汽车电子有限公司",{"$f":"VLOOKUP(C607,[1]Sheet1!$A$2:$C$4597,2,FALSE)","v":"91510112597274273M"}]
[605,"成都","成都市晟林机械有限公司",{"$f":"VLOOKUP(C608,[1]Sheet1!$A$2:$C$4597,2,FALSE)","v":"91510112621890720D"}]
[606,"成都","四川环球绝缘子有限公司",{"$f":"VLOOKUP(C609,[1]Sheet1!$A$2:$C$4597,2,FALSE)","v":"91510112660474340X"}]
[607,"成都","四川科志人防设备股份有限公司",{"$f":"VLOOKUP(C610,[1]Sheet1!$A$2:$C$4597,2,FALSE)","v":"915101126845700387"}]
[608,"成都","成都榛锐机电工程有限公司",{"$f":"VLOOKUP(C611,[1]Sheet1!$A$2:$C$4597,2,FALSE)","v":"91510112690931485M"}]
[609,"成都","成都航天万欣科技有限公司",{"$f":"VLOOKUP(C612,[1]Sheet1!$A$2:$C$4597,2,FALSE)","v":"9151011271306264XU"}]
[610,"成都","成都万顺达模具零件有限公司",{"$f":"VLOOKUP(C613,[1]Sheet1!$A$2:$C$4597,2,FALSE)","v":"915101127234148565"}]
[611,"成都","成都金之川电子有限公司",{"$f":"VLOOKUP(C614,[1]Sheet1!$A$2:$C$4597,2,FALSE)","v":"915101127253729603"}]
[612,"成都","成都威奥畅通科技有限公司",{"$f":"VLOOKUP(C615,[1]Sheet1!$A$2:$C$4597,2,FALSE)","v":"91510112725397359F"}]
[613,"成都","成都航天明江科技实业有限公司",{"$f":"VLOOKUP(C616,[1]Sheet1!$A$2:$C$4597,2,FALSE)","v":"9151011273483205XJ"}]
[614,"成都","四川派普承压与动载设备检测有限公司",{"$f":"VLOOKUP(C617,[1]Sheet1!$A$2:$C$4597,2,FALSE)","v":"91510112734842952R"}]
[615,"成都","成都史纪生物制药有限公司",{"$f":"VLOOKUP(C618,[1]Sheet1!$A$2:$C$4597,2,FALSE)","v":"915101127464402564"}]
[616,"成都","成都天晨压缩机制造有限公司",{"$f":"VLOOKUP(C619,[1]Sheet1!$A$2:$C$4597,2,FALSE)","v":"91510112749717011T"}]
[617,"成都","成都润龙电器有限公司",{"$f":"VLOOKUP(C620,[1]Sheet1!$A$2:$C$4597,2,FALSE)","v":"91510112755952755C"}]
[618,"成都","成都市硕博义肢科技开发有限公司",{"$f":"VLOOKUP(C621,[1]Sheet1!$A$2:$C$4597,2,FALSE)","v":"91510112780126519H"}]
[619,"成都","成都斯坦德分析检测有限公司",{"$f":"VLOOKUP(C622,[1]Sheet1!$A$2:$C$4597,2,FALSE)","v":"91510112MA61TCNC4B"}]
[620,"成都","四川衡准检测技术有限公司",{"$f":"VLOOKUP(C623,[1]Sheet1!$A$2:$C$4597,2,FALSE)","v":"91510112MA61U7U531"}]
[621,"成都","四川杰莱美科技有限公司",{"$f":"VLOOKUP(C624,[1]Sheet1!$A$2:$C$4597,2,FALSE)","v":"91510112MA61WD930J"}]
[622,"成都","四川巨恒环保科技有限公司",{"$f":"VLOOKUP(C625,[1]Sheet1!$A$2:$C$4597,2,FALSE)","v":"91510112MA627FAQ5U"}]
[623,"成都","成都华聚科技有限公司",{"$f":"VLOOKUP(C626,[1]Sheet1!$A$2:$C$4597,2,FALSE)","v":"91510112MA62L1PC4M"}]
[624,"成都","四川虹加气体有限公司",{"$f":"VLOOKUP(C627,[1]Sheet1!$A$2:$C$4597,2,FALSE)","v":"91510112MA62QN7GX3"}]
[625,"成都","成都科力深传感技术有限公司",{"$f":"VLOOKUP(C628,[1]Sheet1!$A$2:$C$4597,2,FALSE)","v":"91510112MA62TCCD33"}]
[626,"成都","成都亿华通动力科技有限公司",{"$f":"VLOOKUP(C629,[1]Sheet1!$A$2:$C$4597,2,FALSE)","v":"91510112MA638YF7XP"}]
[627,"成都","成都鸿润德川新材料科技有限公司",{"$f":"VLOOKUP(C630,[1]Sheet1!$A$2:$C$4597,2,FALSE)","v":"91510112MA639CCU4K"}]
[628,"成都","四川勤为汇智科技有限公司",{"$f":"VLOOKUP(C631,[1]Sheet1!$A$2:$C$4597,2,FALSE)","v":"91510112MA63DRL257"}]
[629,"成都","成都车联展信息服务有限公司",{"$f":"VLOOKUP(C632,[1]Sheet1!$A$2:$C$4597,2,FALSE)","v":"91510112MA6446UL2U"}]
[630,"成都","成都鑫联达汽车零部件有限公司",{"$f":"VLOOKUP(C633,[1]Sheet1!$A$2:$C$4597,2,FALSE)","v":"91510112MA65N57H57"}]
[631,"成都","成都思凯莱特汽车零部件有限公司",{"$f":"VLOOKUP(C634,[1]Sheet1!$A$2:$C$4597,2,FALSE)","v":"91510112MA65TD3N38"}]
[632,"成都","四川新禾清源科技有限公司",{"$f":"VLOOKUP(C635,[1]Sheet1!$A$2:$C$4597,2,FALSE)","v":"91510112MA65WMXT4C"}]
[633,"成都","四川鸿源鼎芯科技有限公司",{"$f":"VLOOKUP(C636,[1]Sheet1!$A$2:$C$4597,2,FALSE)","v":"91510112MA65Y83X9W"}]
[634,"成都","成都康创致远医疗科技有限公司",{"$f":"VLOOKUP(C637,[1]Sheet1!$A$2:$C$4597,2,FALSE)","v":"91510112MA67R5UF9F"}]
[635,"成都","四川久欣检测技术有限公司",{"$f":"VLOOKUP(C638,[1]Sheet1!$A$2:$C$4597,2,FALSE)","v":"91510112MA67TTBK5U"}]
[636,"成都","四川天成氢洁能源技术有限公司",{"$f":"VLOOKUP(C639,[1]Sheet1!$A$2:$C$4597,2,FALSE)","v":"91510112MA67X8NH11"}]
[637,"成都","车路通科技（成都）有限公司",{"$f":"VLOOKUP(C640,[1]Sheet1!$A$2:$C$4597,2,FALSE)","v":"91510112MA68DFYQ6E"}]
[638,"成都","成都鸿福莱汽车零部件有限公司",{"$f":"VLOOKUP(C641,[1]Sheet1!$A$2:$C$4597,2,FALSE)","v":"91510112MA68GKXL92"}]
[639,"成都","成都冠为科技有限公司",{"$f":"VLOOKUP(C642,[1]Sheet1!$A$2:$C$4597,2,FALSE)","v":"91510112MA68YMMG1J"}]
[640,"成都","四川省允诺信检测技术有限公司",{"$f":"VLOOKUP(C643,[1]Sheet1!$A$2:$C$4597,2,FALSE)","v":"91510112MA6B5K2E7Y"}]
[641,"成都","四川工宇智创科技有限公司",{"$f":"VLOOKUP(C644,[1]Sheet1!$A$2:$C$4597,2,FALSE)","v":"91510112MA6BKFGU55"}]
[642,"成都","成都洛丁森智能科技有限公司",{"$f":"VLOOKUP(C645,[1]Sheet1!$A$2:$C$4597,2,FALSE)","v":"91510112MA6CB49K0T"}]
[643,"成都","四川尚匠工业技术服务有限公司",{"$f":"VLOOKUP(C646,[1]Sheet1!$A$2:$C$4597,2,FALSE)","v":"91510112MA6CF8WH50"}]
[644,"成都","四川无及科技有限公司",{"$f":"VLOOKUP(C647,[1]Sheet1!$A$2:$C$4597,2,FALSE)","v":"91510112MA6D0KWC6U"}]
[645,"成都","四川博瑞中控科技有限公司",{"$f":"VLOOKUP(C648,[1]Sheet1!$A$2:$C$4597,2,FALSE)","v":"91510115077697803E"}]
[646,"成都","成都虹波钼业有限责任公司",{"$f":"VLOOKUP(C649,[1]Sheet1!$A$2:$C$4597,2,FALSE)","v":"91510113774518858R"}]
[647,"成都","成都开源智创工程机械设备有限公司",{"$f":"VLOOKUP(C650,[1]Sheet1!$A$2:$C$4597,2,FALSE)","v":"915101130866688017"}]
[648,"成都","成都百源机械有限公司",{"$f":"VLOOKUP(C651,[1]Sheet1!$A$2:$C$4597,2,FALSE)","v":"915101137881108531"}]
[649,"成都","四川优佰特厨房设备制造股份有限公司",{"$f":"VLOOKUP(C652,[1]Sheet1!$A$2:$C$4597,2,FALSE)","v":"91510100052546398F"}]
[650,"成都","成都华展环境检测服务有限公司",{"$f":"VLOOKUP(C653,[1]Sheet1!$A$2:$C$4597,2,FALSE)","v":"91510113321548093X"}]
[651,"成都","成都玉龙化工有限公司",{"$f":"VLOOKUP(C654,[1]Sheet1!$A$2:$C$4597,2,FALSE)","v":"91510113621881808P"}]
[652,"成都","成都青舟特机环境技术有限公司",{"$f":"VLOOKUP(C655,[1]Sheet1!$A$2:$C$4597,2,FALSE)","v":"91510113672155937H"}]
[653,"成都","四川佰汇混凝土工程有限公司",{"$f":"VLOOKUP(C656,[1]Sheet1!$A$2:$C$4597,2,FALSE)","v":"91510113681804548Y"}]
[654,"成都","成都红旗油脂有限公司",{"$f":"VLOOKUP(C657,[1]Sheet1!$A$2:$C$4597,2,FALSE)","v":"9151011372033798XK"}]
[655,"成都","成都冶兴润达新型建材有限公司",{"$f":"VLOOKUP(C658,[1]Sheet1!$A$2:$C$4597,2,FALSE)","v":"91510113MA64Q7LT3X"}]
[656,"成都","玖龙智能包装（成都）有限公司",{"$f":"VLOOKUP(C659,[1]Sheet1!$A$2:$C$4597,2,FALSE)","v":"91510113MA68HMWX1H"}]
[657,"成都","TCL光电科技（成都）有限公司",{"$f":"VLOOKUP(C660,[1]Sheet1!$A$2:$C$4597,2,FALSE)","v":"91510113MA6AQL575Q"}]
[658,"成都","成都埃尔法焊割设备有限公司",{"$f":"VLOOKUP(C661,[1]Sheet1!$A$2:$C$4597,2,FALSE)","v":"91510113MA6B3AUP74"}]
[659,"成都","四川美斯特机械设备有限公司",{"$f":"VLOOKUP(C662,[1]Sheet1!$A$2:$C$4597,2,FALSE)","v":"91510113MA6BFK952R"}]
[660,"成都","成都鼎泰新材料有限责任公司",{"$f":"VLOOKUP(C663,[1]Sheet1!$A$2:$C$4597,2,FALSE)","v":"91510113MA6CWHRB1G"}]
[661,"成都","成都顺佳美恒新材料有限公司",{"$f":"VLOOKUP(C664,[1]Sheet1!$A$2:$C$4597,2,FALSE)","v":"91510113MA6DFEAY17"}]
[662,"成都","四川金铠迪马铁路专用设备股份有限公司",{"$f":"VLOOKUP(C665,[1]Sheet1!$A$2:$C$4597,2,FALSE)","v":"915101000624434212"}]
[663,"成都","成都奥尤盖茨科技发展有限公司",{"$f":"VLOOKUP(C666,[1]Sheet1!$A$2:$C$4597,2,FALSE)","v":"915101006630267898"}]
[664,"成都","成都雄关阻路机械制造有限公司",{"$f":"VLOOKUP(C667,[1]Sheet1!$A$2:$C$4597,2,FALSE)","v":"915101143215354871"}]
[665,"成都","四川中豪食品有限公司",{"$f":"VLOOKUP(C668,[1]Sheet1!$A$2:$C$4597,2,FALSE)","v":"915101145902108086"}]
[666,"成都","成都市硕泰装饰材料有限公司",{"$f":"VLOOKUP(C669,[1]Sheet1!$A$2:$C$4597,2,FALSE)","v":"915101146845693443"}]
[667,"成都","成都明皓机械制造有限公司",{"$f":"VLOOKUP(C670,[1]Sheet1!$A$2:$C$4597,2,FALSE)","v":"915101147323414768"}]
[668,"成都","成都三扬新材科技有限公司",{"$f":"VLOOKUP(C671,[1]Sheet1!$A$2:$C$4597,2,FALSE)","v":"915101223429912467"}]
[669,"成都","交铁科技评价中心（成都）有限公司",{"$f":"VLOOKUP(C672,[1]Sheet1!$A$2:$C$4597,2,FALSE)","v":"91510106MA6C8QQ417"}]
[670,"成都","成都柴可夫电器设备有限公司",{"$f":"VLOOKUP(C673,[1]Sheet1!$A$2:$C$4597,2,FALSE)","v":"91510108066998635Y"}]
[671,"成都","成都千益科技有限公司",{"$f":"VLOOKUP(C674,[1]Sheet1!$A$2:$C$4597,2,FALSE)","v":"9151010876538611XE"}]
[672,"成都","四川钢联建环保设备有限公司",{"$f":"VLOOKUP(C675,[1]Sheet1!$A$2:$C$4597,2,FALSE)","v":"91510114091259770C"}]
[673,"成都","成都市新都华兴印务有限公司",{"$f":"VLOOKUP(C676,[1]Sheet1!$A$2:$C$4597,2,FALSE)","v":"91510114202591881D"}]
[674,"成都","成都市新都立新金属制造有限公司",{"$f":"VLOOKUP(C677,[1]Sheet1!$A$2:$C$4597,2,FALSE)","v":"91510114202597642C"}]
[675,"成都","成都黎派家具有限公司",{"$f":"VLOOKUP(C678,[1]Sheet1!$A$2:$C$4597,2,FALSE)","v":"91510114342985882K"}]
[676,"成都","四川奥凯川龙农产品干燥设备制造有限公司",{"$f":"VLOOKUP(C679,[1]Sheet1!$A$2:$C$4597,2,FALSE)","v":"91510114394356316K"}]
[677,"成都","成都华精通信设备有限公司",{"$f":"VLOOKUP(C680,[1]Sheet1!$A$2:$C$4597,2,FALSE)","v":"91510114396410929L"}]
[678,"成都","四川中曼电气工程技术有限公司",{"$f":"VLOOKUP(C681,[1]Sheet1!$A$2:$C$4597,2,FALSE)","v":"91510114567163716A"}]
[679,"成都","成都市云集药业有限公司",{"$f":"VLOOKUP(C682,[1]Sheet1!$A$2:$C$4597,2,FALSE)","v":"91510114577366592P"}]
[680,"成都","成都惠灵丰金刚石钻头有限公司",{"$f":"VLOOKUP(C683,[1]Sheet1!$A$2:$C$4597,2,FALSE)","v":"91510114663011122P"}]
[681,"成都","成都市昊成金属包装有限责任公司",{"$f":"VLOOKUP(C684,[1]Sheet1!$A$2:$C$4597,2,FALSE)","v":"91510114689031172M"}]
[682,"成都","成都三可实业有限公司",{"$f":"VLOOKUP(C685,[1]Sheet1!$A$2:$C$4597,2,FALSE)","v":"91510114720319554R"}]
[683,"成都","成都环洋经典展柜制造有限公司",{"$f":"VLOOKUP(C686,[1]Sheet1!$A$2:$C$4597,2,FALSE)","v":"91510114732349443M"}]
[684,"成都","四川奥洁消毒设备有限公司",{"$f":"VLOOKUP(C687,[1]Sheet1!$A$2:$C$4597,2,FALSE)","v":"91510114749715446J"}]
[685,"成都","成都成量螺纹工具有限公司",{"$f":"VLOOKUP(C688,[1]Sheet1!$A$2:$C$4597,2,FALSE)","v":"9151011475878710X5"}]
[686,"成都","四川科华展示设备有限公司",{"$f":"VLOOKUP(C689,[1]Sheet1!$A$2:$C$4597,2,FALSE)","v":"91510114765372711T"}]
[687,"成都","成都市齐易机械电气有限责任公司",{"$f":"VLOOKUP(C690,[1]Sheet1!$A$2:$C$4597,2,FALSE)","v":"9151011478540037X3"}]
[688,"成都","四川英诺航空科技有限公司",{"$f":"VLOOKUP(C691,[1]Sheet1!$A$2:$C$4597,2,FALSE)","v":"91510114MA63K5MH2X"}]
[689,"成都","四川鑫锐城玻璃有限公司",{"$f":"VLOOKUP(C692,[1]Sheet1!$A$2:$C$4597,2,FALSE)","v":"91510114MA648PAR8R"}]
[690,"成都","成都中宇光电科技发展有限公司",{"$f":"VLOOKUP(C693,[1]Sheet1!$A$2:$C$4597,2,FALSE)","v":"91510114MA64PQJ505"}]
[691,"成都","四川双花科技发展有限公司",{"$f":"VLOOKUP(C694,[1]Sheet1!$A$2:$C$4597,2,FALSE)","v":"91510114MA65T39G75"}]
[692,"成都","成都顺利华自动化设备有限公司",{"$f":"VLOOKUP(C695,[1]Sheet1!$A$2:$C$4597,2,FALSE)","v":"91510114MA662N4J80"}]
[693,"成都","四川容克斯科技有限公司",{"$f":"VLOOKUP(C696,[1]Sheet1!$A$2:$C$4597,2,FALSE)","v":"91510114MA6748N39N"}]
[694,"成都","成都凯赛尔科技有限公司",{"$f":"VLOOKUP(C697,[1]Sheet1!$A$2:$C$4597,2,FALSE)","v":"91510114MA69QKRG58"}]
[695,"成都","四川利兴龙环保科技有限公司",{"$f":"VLOOKUP(C698,[1]Sheet1!$A$2:$C$4597,2,FALSE)","v":"91510114MA6ANBDK9W"}]
[696,"成都","成都鑫金臣节能环保科技有限公司",{"$f":"VLOOKUP(C699,[1]Sheet1!$A$2:$C$4597,2,FALSE)","v":"91510114MA6DGDA65R"}]
[697,"成都","四川新兰石科技有限公司",{"$f":"VLOOKUP(C700,[1]Sheet1!$A$2:$C$4597,2,FALSE)","v":"91510125MA69MEFD62"}]
[698,"成都","四川达坦能源科技有限公司",{"$f":"VLOOKUP(C701,[1]Sheet1!$A$2:$C$4597,2,FALSE)","v":"91510125MA6AF48193"}]
[699,"成都","成都市新都绿控农业服务有限公司",{"$f":"VLOOKUP(C702,[1]Sheet1!$A$2:$C$4597,2,FALSE)","v":"91510125MA6CU6B927"}]
[700,"成都","四川科陆新能电气有限公司",{"$f":"VLOOKUP(C703,[1]Sheet1!$A$2:$C$4597,2,FALSE)","v":"915101075510999838"}]
[701,"成都","成都博奥独立医学实验室有限公司",{"$f":"VLOOKUP(C704,[1]Sheet1!$A$2:$C$4597,2,FALSE)","v":"915101156962636767"}]
[702,"成都","四川天鹰安尔达车业有限公司",{"$f":"VLOOKUP(C705,[1]Sheet1!$A$2:$C$4597,2,FALSE)","v":"915101157949474731"}]
[703,"成都","四川省科源工程技术测试中心有限责任公司",{"$f":"VLOOKUP(C706,[1]Sheet1!$A$2:$C$4597,2,FALSE)","v":"91510000742277922N"}]
[704,"成都","成都欧安电气股份有限公司",{"$f":"VLOOKUP(C707,[1]Sheet1!$A$2:$C$4597,2,FALSE)","v":"9151010006695865XQ"}]
[705,"成都","成都隆发机械有限公司",{"$f":"VLOOKUP(C708,[1]Sheet1!$A$2:$C$4597,2,FALSE)","v":"91510100621711542L"}]
[706,"成都","四川广华交安科技有限公司",{"$f":"VLOOKUP(C709,[1]Sheet1!$A$2:$C$4597,2,FALSE)","v":"91510100693699618R"}]
[707,"成都","四川科伦博泰生物医药股份有限公司",{"$f":"VLOOKUP(C710,[1]Sheet1!$A$2:$C$4597,2,FALSE)","v":"91510100MA62MLYR4F"}]
[708,"成都","成都中航铭亿科技发展有限公司",{"$f":"VLOOKUP(C711,[1]Sheet1!$A$2:$C$4597,2,FALSE)","v":"91510100MA68ECFD6K"}]
[709,"成都","成都绿信诺生物科技有限公司",{"$f":"VLOOKUP(C712,[1]Sheet1!$A$2:$C$4597,2,FALSE)","v":"91510100MA6CTG9N6Y"}]
[710,"成都","四川艾尔诺航空金属器材有限公司",{"$f":"VLOOKUP(C713,[1]Sheet1!$A$2:$C$4597,2,FALSE)","v":"91510106674349604N"}]
[711,"成都","中广核达胜科技有限公司",{"$f":"VLOOKUP(C714,[1]Sheet1!$A$2:$C$4597,2,FALSE)","v":"91510107MA61X5XB29"}]
[712,"成都","四川帝亚特电力科技有限公司",{"$f":"VLOOKUP(C715,[1]Sheet1!$A$2:$C$4597,2,FALSE)","v":"91510107MA62LNQG3W"}]
[713,"成都","成都鑫晨航空科技有限公司",{"$f":"VLOOKUP(C716,[1]Sheet1!$A$2:$C$4597,2,FALSE)","v":"91510115062422559L"}]
[714,"成都","成都格利普生物科技有限公司",{"$f":"VLOOKUP(C717,[1]Sheet1!$A$2:$C$4597,2,FALSE)","v":"91510115350548041F"}]
[715,"成都","四川晨坤电气设备有限公司",{"$f":"VLOOKUP(C718,[1]Sheet1!$A$2:$C$4597,2,FALSE)","v":"91510115558974728P"}]
[716,"成都","成都永康制药有限公司",{"$f":"VLOOKUP(C719,[1]Sheet1!$A$2:$C$4597,2,FALSE)","v":"91510115621712633B"}]
[717,"成都","四川金宫川派味业有限公司",{"$f":"VLOOKUP(C720,[1]Sheet1!$A$2:$C$4597,2,FALSE)","v":"91510115663046464W"}]
[718,"成都","成都中天诚信包装有限公司",{"$f":"VLOOKUP(C721,[1]Sheet1!$A$2:$C$4597,2,FALSE)","v":"91510115672186936R"}]
[719,"成都","四川品胜电子有限公司",{"$f":"VLOOKUP(C722,[1]Sheet1!$A$2:$C$4597,2,FALSE)","v":"91510115684590303G"}]
[720,"成都","成都岷江锻造有限公司",{"$f":"VLOOKUP(C723,[1]Sheet1!$A$2:$C$4597,2,FALSE)","v":"91510115690905033L"}]
[721,"成都","四川省盛源鑫智能电气有限责任公司",{"$f":"VLOOKUP(C724,[1]Sheet1!$A$2:$C$4597,2,FALSE)","v":"91510115771239669U"}]
[722,"成都","成都市凯林机械贸易有限责任公司",{"$f":"VLOOKUP(C725,[1]Sheet1!$A$2:$C$4597,2,FALSE)","v":"91510115771248776R"}]
[723,"成都","四川金马印象科技环保有限公司",{"$f":"VLOOKUP(C726,[1]Sheet1!$A$2:$C$4597,2,FALSE)","v":"9151011579219069X2"}]
[724,"成都","成都智信耐材科技有限公司",{"$f":"VLOOKUP(C727,[1]Sheet1!$A$2:$C$4597,2,FALSE)","v":"91510115MA61TQEE1Q"}]
[725,"成都","成都德信安创新医疗技术有限公司",{"$f":"VLOOKUP(C728,[1]Sheet1!$A$2:$C$4597,2,FALSE)","v":"91510115MA61WU232H"}]
[726,"成都","成都爱力泰医疗器械有限公司",{"$f":"VLOOKUP(C729,[1]Sheet1!$A$2:$C$4597,2,FALSE)","v":"91510115MA61XC8534"}]
[727,"成都","成都智胜达节能环保科技有限公司",{"$f":"VLOOKUP(C730,[1]Sheet1!$A$2:$C$4597,2,FALSE)","v":"91510115MA62L45D3E"}]
[728,"成都","成都威隆众诚环保设备有限公司",{"$f":"VLOOKUP(C731,[1]Sheet1!$A$2:$C$4597,2,FALSE)","v":"91510115MA62NDKT52"}]
[729,"成都","通瑞生物制药（成都）有限公司",{"$f":"VLOOKUP(C732,[1]Sheet1!$A$2:$C$4597,2,FALSE)","v":"91510115MA643BMK1D"}]
[730,"成都","四川立德种苗科技有限公司",{"$f":"VLOOKUP(C733,[1]Sheet1!$A$2:$C$4597,2,FALSE)","v":"91510115MA65WTRLXC"}]
[731,"成都","四川育强本草生物技术有限公司",{"$f":"VLOOKUP(C734,[1]Sheet1!$A$2:$C$4597,2,FALSE)","v":"91510115MA678XUT6N"}]
[732,"成都","四川犍小茉科技有限公司",{"$f":"VLOOKUP(C735,[1]Sheet1!$A$2:$C$4597,2,FALSE)","v":"91510115MA67G8R56U"}]
[733,"成都","四川数字健康科技服务有限公司",{"$f":"VLOOKUP(C736,[1]Sheet1!$A$2:$C$4597,2,FALSE)","v":"91510115MA6BTP944X"}]
[734,"成都","成都博欣医学检验实验室有限公司",{"$f":"VLOOKUP(C737,[1]Sheet1!$A$2:$C$4597,2,FALSE)","v":"91510115MA6C75J36K"}]
[735,"成都","弘邦电力系统技术有限公司",{"$f":"VLOOKUP(C738,[1]Sheet1!$A$2:$C$4597,2,FALSE)","v":"91510115MA6C7K140N"}]
[736,"成都","成都都市现代农业产业技术研究院有限公司",{"$f":"VLOOKUP(C739,[1]Sheet1!$A$2:$C$4597,2,FALSE)","v":"91510115MA6C7LLY67"}]
[737,"成都","成都朴石医药技术有限公司",{"$f":"VLOOKUP(C740,[1]Sheet1!$A$2:$C$4597,2,FALSE)","v":"91510115MA6CCHAY23"}]
[738,"成都","成都瑞沐生物医药科技有限公司",{"$f":"VLOOKUP(C741,[1]Sheet1!$A$2:$C$4597,2,FALSE)","v":"91510115MA6CDP3Y5P"}]
[739,"成都","四川蓉诚中科机械设备有限公司",{"$f":"VLOOKUP(C742,[1]Sheet1!$A$2:$C$4597,2,FALSE)","v":"91510115MA6CLYPM5Q"}]
[740,"成都","四川诺高美生物科技有限责任公司",{"$f":"VLOOKUP(C743,[1]Sheet1!$A$2:$C$4597,2,FALSE)","v":"91510115MA6CPY0C67"}]
[741,"成都","四川聚创欣荣科技有限公司",{"$f":"VLOOKUP(C744,[1]Sheet1!$A$2:$C$4597,2,FALSE)","v":"91510115MA6CQFGT09"}]
[742,"成都","四川中农亿享农业科技有限公司",{"$f":"VLOOKUP(C745,[1]Sheet1!$A$2:$C$4597,2,FALSE)","v":"91510115MA7EXX6L2P"}]
[743,"成都","成都瑞芬思德丹生物科技有限公司",{"$f":"VLOOKUP(C746,[1]Sheet1!$A$2:$C$4597,2,FALSE)","v":"91510123MA63GYQX66"}]
[744,"成都","成都乐美天医药科技有限公司",{"$f":"VLOOKUP(C747,[1]Sheet1!$A$2:$C$4597,2,FALSE)","v":"91510123MA6B8GEN2B"}]
[745,"成都","四川荣炳科技有限责任公司",{"$f":"VLOOKUP(C748,[1]Sheet1!$A$2:$C$4597,2,FALSE)","v":"91510123MA6CTKPF3X"}]
[746,"成都","成都金欧泰科技有限公司",{"$f":"VLOOKUP(C749,[1]Sheet1!$A$2:$C$4597,2,FALSE)","v":"915101220574916486"}]
[747,"成都","成都宏讯微电子科技有限公司",{"$f":"VLOOKUP(C750,[1]Sheet1!$A$2:$C$4597,2,FALSE)","v":"915101223431397336"}]
[748,"成都","成都云数未来信息科学有限公司",{"$f":"VLOOKUP(C751,[1]Sheet1!$A$2:$C$4597,2,FALSE)","v":"915101223974360989"}]
[749,"成都","成都伞塔食品有限公司",{"$f":"VLOOKUP(C752,[1]Sheet1!$A$2:$C$4597,2,FALSE)","v":"915101225746000059"}]
[750,"成都","成都市应顺行环保科技有限公司",{"$f":"VLOOKUP(C753,[1]Sheet1!$A$2:$C$4597,2,FALSE)","v":"915101225826222045"}]
[751,"成都","成都华信飞控科技有限公司",{"$f":"VLOOKUP(C754,[1]Sheet1!$A$2:$C$4597,2,FALSE)","v":"91510100050087546C"}]
[752,"成都","成都中领智能医疗产业发展股份有限公司",{"$f":"VLOOKUP(C755,[1]Sheet1!$A$2:$C$4597,2,FALSE)","v":"91510100MA6A3AQU17"}]
[753,"成都","成都精创航空技术有限公司",{"$f":"VLOOKUP(C756,[1]Sheet1!$A$2:$C$4597,2,FALSE)","v":"91510100MA6C5Y2J7Q"}]
[754,"成都","成都中玻复合材料有限公司",{"$f":"VLOOKUP(C757,[1]Sheet1!$A$2:$C$4597,2,FALSE)","v":"91510108567167725F"}]
[755,"成都","富瀚微电子（成都）有限公司",{"$f":"VLOOKUP(C758,[1]Sheet1!$A$2:$C$4597,2,FALSE)","v":"91510116MA67K9MK11"}]
[756,"成都","成都盛泰自动化工程有限公司",{"$f":"VLOOKUP(C759,[1]Sheet1!$A$2:$C$4597,2,FALSE)","v":"91510122077651311N"}]
[757,"成都","成都菲奥姆光学有限公司",{"$f":"VLOOKUP(C760,[1]Sheet1!$A$2:$C$4597,2,FALSE)","v":"91510122091250514Q"}]
[758,"成都","成都琢美义齿技术有限公司",{"$f":"VLOOKUP(C761,[1]Sheet1!$A$2:$C$4597,2,FALSE)","v":"91510122587590619G"}]
[759,"成都","成都贝克森科技发展有限公司",{"$f":"VLOOKUP(C762,[1]Sheet1!$A$2:$C$4597,2,FALSE)","v":"91510122667559400H"}]
[760,"成都","四川钟顺太阳能开发有限公司",{"$f":"VLOOKUP(C763,[1]Sheet1!$A$2:$C$4597,2,FALSE)","v":"91510122693690306C"}]
[761,"成都","成都新连通低温设备有限公司",{"$f":"VLOOKUP(C764,[1]Sheet1!$A$2:$C$4597,2,FALSE)","v":"91510122785429850N"}]
[762,"成都","成都赛力康电气有限公司",{"$f":"VLOOKUP(C765,[1]Sheet1!$A$2:$C$4597,2,FALSE)","v":"91510122MA61TB2Q28"}]
[763,"成都","四川浩能科技有限公司",{"$f":"VLOOKUP(C766,[1]Sheet1!$A$2:$C$4597,2,FALSE)","v":"91510122MA61UFU63B"}]
[764,"成都","四川双银创促科技有限责任公司",{"$f":"VLOOKUP(C767,[1]Sheet1!$A$2:$C$4597,2,FALSE)","v":"91510122MA61XLKT0W"}]
[765,"成都","四川易方智慧科技有限公司",{"$f":"VLOOKUP(C768,[1]Sheet1!$A$2:$C$4597,2,FALSE)","v":"91510122MA65MA1KXD"}]
[766,"成都","成都工物科云科技有限公司",{"$f":"VLOOKUP(C769,[1]Sheet1!$A$2:$C$4597,2,FALSE)","v":"91510122MA69YF0Y0D"}]
[767,"成都","中科灵动航空科技成都有限公司",{"$f":"VLOOKUP(C770,[1]Sheet1!$A$2:$C$4597,2,FALSE)","v":"91510122MA6C5K5K64"}]
[768,"成都","普达迪泰（成都）智造研究院有限公司",{"$f":"VLOOKUP(C771,[1]Sheet1!$A$2:$C$4597,2,FALSE)","v":"91510122MA6CUWG36D"}]
[769,"成都","成都市吉祥锐意科技有限公司",{"$f":"VLOOKUP(C772,[1]Sheet1!$A$2:$C$4597,2,FALSE)","v":"91510122MA6D0HKJ99"}]
[770,"成都","成都多极电子有限公司",{"$f":"VLOOKUP(C773,[1]Sheet1!$A$2:$C$4597,2,FALSE)","v":"91510122MA6DEMTL2N"}]
[771,"成都","成都敏创机械有限公司",{"$f":"VLOOKUP(C774,[1]Sheet1!$A$2:$C$4597,2,FALSE)","v":"91510122MA6DH4CMX8"}]
[772,"成都","瓴盛科技有限公司",{"$f":"VLOOKUP(C775,[1]Sheet1!$A$2:$C$4597,2,FALSE)","v":"91520900MA6H0A7N30"}]
[773,"成都","四川旭华制药有限公司",{"$f":"VLOOKUP(C776,[1]Sheet1!$A$2:$C$4597,2,FALSE)","v":"915101006217104275"}]
[774,"成都","四川为则科技有限公司",{"$f":"VLOOKUP(C777,[1]Sheet1!$A$2:$C$4597,2,FALSE)","v":"91510100MA65LPAF10"}]
[775,"成都","四川筑盾人防工程设备有限公司",{"$f":"VLOOKUP(C778,[1]Sheet1!$A$2:$C$4597,2,FALSE)","v":"91510124099409470T"}]
[776,"成都","四川倍思特电力电气有限公司",{"$f":"VLOOKUP(C779,[1]Sheet1!$A$2:$C$4597,2,FALSE)","v":"91510124395917816D"}]
[777,"成都","成都乐美纸制品有限公司",{"$f":"VLOOKUP(C780,[1]Sheet1!$A$2:$C$4597,2,FALSE)","v":"915101245849974567"}]
[778,"成都","成都市华科机电设备有限公司",{"$f":"VLOOKUP(C781,[1]Sheet1!$A$2:$C$4597,2,FALSE)","v":"915101246771786525"}]
[779,"成都","成都鑫三合机电新技术开发有限公司",{"$f":"VLOOKUP(C782,[1]Sheet1!$A$2:$C$4597,2,FALSE)","v":"91510124755968263A"}]
[780,"成都","成都慕湖建材有限公司",{"$f":"VLOOKUP(C783,[1]Sheet1!$A$2:$C$4597,2,FALSE)","v":"91510124768605939A"}]
[781,"成都","四川六零八科技有限公司",{"$f":"VLOOKUP(C784,[1]Sheet1!$A$2:$C$4597,2,FALSE)","v":"91510124774509329T"}]
[782,"成都","成都鸿信木业有限公司",{"$f":"VLOOKUP(C785,[1]Sheet1!$A$2:$C$4597,2,FALSE)","v":"91510124MA61T4DA2J"}]
[783,"成都","成都为极科技有限公司",{"$f":"VLOOKUP(C786,[1]Sheet1!$A$2:$C$4597,2,FALSE)","v":"91510124MA61XGQAXJ"}]
[784,"成都","成都天伟科技有限公司",{"$f":"VLOOKUP(C787,[1]Sheet1!$A$2:$C$4597,2,FALSE)","v":"91510124MA67A08N8U"}]
[785,"成都","液空厚普氢能源装备有限公司",{"$f":"VLOOKUP(C788,[1]Sheet1!$A$2:$C$4597,2,FALSE)","v":"91510124MA69UM8N9F"}]
[786,"成都","成都立海同创智能科技有限公司",{"$f":"VLOOKUP(C789,[1]Sheet1!$A$2:$C$4597,2,FALSE)","v":"91510124MA6AB5K67A"}]
[787,"成都","四川华东电气集团电力科技有限公司",{"$f":"VLOOKUP(C790,[1]Sheet1!$A$2:$C$4597,2,FALSE)","v":"91510124MA6CCRWE60"}]
[788,"成都","成都云影方塘科技有限公司",{"$f":"VLOOKUP(C791,[1]Sheet1!$A$2:$C$4597,2,FALSE)","v":"91510124MA6CH5J30F"}]
[789,"成都","四川达众科技有限公司",{"$f":"VLOOKUP(C792,[1]Sheet1!$A$2:$C$4597,2,FALSE)","v":"91510124MA6CT0242D"}]
[790,"成都","四川蕊源集成电路科技有限公司",{"$f":"VLOOKUP(C793,[1]Sheet1!$A$2:$C$4597,2,FALSE)","v":"91510124MA6CX3GX99"}]
[791,"成都","华创加速科技成都有限公司",{"$f":"VLOOKUP(C794,[1]Sheet1!$A$2:$C$4597,2,FALSE)","v":"91510124MA6DEN6J27"}]
[792,"成都","成都三是汇科技有限公司",{"$f":"VLOOKUP(C795,[1]Sheet1!$A$2:$C$4597,2,FALSE)","v":"91510124MA6DFA4B4U"}]
[793,"成都","成都缤纷魔方科技有限公司",{"$f":"VLOOKUP(C796,[1]Sheet1!$A$2:$C$4597,2,FALSE)","v":"91510124MA6DFED7X5"}]
[794,"成都","成都微讯通电子科技有限公司",{"$f":"VLOOKUP(C797,[1]Sheet1!$A$2:$C$4597,2,FALSE)","v":"91510124MA6DGHG99P"}]
[795,"成都","成都鸿昇电子科技有限公司",{"$f":"VLOOKUP(C798,[1]Sheet1!$A$2:$C$4597,2,FALSE)","v":"91510124MAACJ36Y4M"}]
[796,"成都","成都市腾锐光电科技有限责任公司",{"$f":"VLOOKUP(C799,[1]Sheet1!$A$2:$C$4597,2,FALSE)","v":"915101320833275508"}]
[797,"成都","四川至臻精密光学有限公司",{"$f":"VLOOKUP(C800,[1]Sheet1!$A$2:$C$4597,2,FALSE)","v":"91320582MA1MK2Q413"}]
[798,"成都","四川中资时代科技有限公司",{"$f":"VLOOKUP(C801,[1]Sheet1!$A$2:$C$4597,2,FALSE)","v":"91510100MA64M6NC2E"}]
[799,"成都","四川省新津潜力泵业有限公司",{"$f":"VLOOKUP(C802,[1]Sheet1!$A$2:$C$4597,2,FALSE)","v":"91510132716099616W"}]
[800,"成都","成都市中以津惠农业科技有限公司",{"$f":"VLOOKUP(C803,[1]Sheet1!$A$2:$C$4597,2,FALSE)","v":"91510132MA61RY3C6Y"}]
[801,"成都","四川中望正检环境检测有限公司",{"$f":"VLOOKUP(C804,[1]Sheet1!$A$2:$C$4597,2,FALSE)","v":"91510132MA6CRLHF4F"}]
[802,"成都","四川凯力威科技股份有限公司",{"$f":"VLOOKUP(C805,[1]Sheet1!$A$2:$C$4597,2,FALSE)","v":"915120006783904878"}]
[803,"成都","四川众宸精密铸造有限公司",{"$f":"VLOOKUP(C806,[1]Sheet1!$A$2:$C$4597,2,FALSE)","v":"915120812021172901"}]
[804,"成都","简阳市江源面业有限公司",{"$f":"VLOOKUP(C807,[1]Sheet1!$A$2:$C$4597,2,FALSE)","v":"91510185MA62M0RJ7Q"}]
[805,"成都","中冶西部钢构有限公司",{"$f":"VLOOKUP(C808,[1]Sheet1!$A$2:$C$4597,2,FALSE)","v":"91510185MA65YPMQ92"}]
[806,"成都","中冶交投善筑成都装配式建筑科技发展有限公司",{"$f":"VLOOKUP(C809,[1]Sheet1!$A$2:$C$4597,2,FALSE)","v":"91510185MA670GL28W"}]
[807,"成都","成都一口吖吖农业有限公司",{"$f":"VLOOKUP(C810,[1]Sheet1!$A$2:$C$4597,2,FALSE)","v":"91510185MA6BX24RXG"}]
[808,"成都","简阳希望创美环保有限公司",{"$f":"VLOOKUP(C811,[1]Sheet1!$A$2:$C$4597,2,FALSE)","v":"91510185MA6DF0M1XJ"}]
[809,"成都","四川杨森乳业股份有限公司",{"$f":"VLOOKUP(C812,[1]Sheet1!$A$2:$C$4597,2,FALSE)","v":"91512000085847701J"}]
[810,"成都","四川五环石化装备有限公司",{"$f":"VLOOKUP(C813,[1]Sheet1!$A$2:$C$4597,2,FALSE)","v":"91512081089859160W"}]
[811,"成都","四川省简阳空冷器制造有限公司",{"$f":"VLOOKUP(C814,[1]Sheet1!$A$2:$C$4597,2,FALSE)","v":"9151208120685233X0"}]
[812,"成都","四川双实建筑新材料有限公司",{"$f":"VLOOKUP(C815,[1]Sheet1!$A$2:$C$4597,2,FALSE)","v":"91512081584235822L"}]
[813,"成都","四川普拉恩管业有限公司",{"$f":"VLOOKUP(C816,[1]Sheet1!$A$2:$C$4597,2,FALSE)","v":"91512081689927980D"}]
[814,"成都","四川简阳瑞特机械设备有限公司",{"$f":"VLOOKUP(C817,[1]Sheet1!$A$2:$C$4597,2,FALSE)","v":"91512081MA62K1TA8T"}]
[815,"成都","成都利尔药业有限公司",{"$f":"VLOOKUP(C818,[1]Sheet1!$A$2:$C$4597,2,FALSE)","v":"91510100201985002T"}]
[816,"成都","四川世纪纵辰实业有限公司",{"$f":"VLOOKUP(C819,[1]Sheet1!$A$2:$C$4597,2,FALSE)","v":"91510100MA61WW0K4C"}]
[817,"成都","四川澳维采油设备有限公司",{"$f":"VLOOKUP(C820,[1]Sheet1!$A$2:$C$4597,2,FALSE)","v":"91510181050071165U"}]
[818,"成都","四川固康药业有限责任公司",{"$f":"VLOOKUP(C821,[1]Sheet1!$A$2:$C$4597,2,FALSE)","v":"91510181057490557M"}]
[819,"成都","四川都江铸造有限责任公司",{"$f":"VLOOKUP(C822,[1]Sheet1!$A$2:$C$4597,2,FALSE)","v":"91510181202756906M"}]
[820,"成都","成都市明德药业有限公司",{"$f":"VLOOKUP(C823,[1]Sheet1!$A$2:$C$4597,2,FALSE)","v":"91510181MA69HKUH39"}]
[821,"成都","四川阿尔凯电气有限公司",{"$f":"VLOOKUP(C824,[1]Sheet1!$A$2:$C$4597,2,FALSE)","v":"915101823946249822"}]
[822,"成都","成都万春农牧机械有限公司",{"$f":"VLOOKUP(C825,[1]Sheet1!$A$2:$C$4597,2,FALSE)","v":"915101826630006854"}]
[823,"成都","彭州欣欣服装整理有限公司",{"$f":"VLOOKUP(C826,[1]Sheet1!$A$2:$C$4597,2,FALSE)","v":"915101826863173191"}]
[824,"成都","四川清川建设工程有限公司",{"$f":"VLOOKUP(C827,[1]Sheet1!$A$2:$C$4597,2,FALSE)","v":"91510100663049999R"}]
[825,"成都","四川馥芳集生物科技有限公司",{"$f":"VLOOKUP(C828,[1]Sheet1!$A$2:$C$4597,2,FALSE)","v":"91510107MA61TCNX6U"}]
[826,"成都","成都晓梦纺织品有限公司",{"$f":"VLOOKUP(C829,[1]Sheet1!$A$2:$C$4597,2,FALSE)","v":"9151010858000607XP"}]
[827,"成都","成都科控环境工程有限公司",{"$f":"VLOOKUP(C830,[1]Sheet1!$A$2:$C$4597,2,FALSE)","v":"91510182050084986A"}]
[828,"成都","成都金鑫泰机电设备有限公司",{"$f":"VLOOKUP(C831,[1]Sheet1!$A$2:$C$4597,2,FALSE)","v":"91510182574609237U"}]
[829,"成都","四川省俊川科技有限公司",{"$f":"VLOOKUP(C832,[1]Sheet1!$A$2:$C$4597,2,FALSE)","v":"91510182577369347U"}]
[830,"成都","成都天维模板有限公司",{"$f":"VLOOKUP(C833,[1]Sheet1!$A$2:$C$4597,2,FALSE)","v":"91510182677180111F"}]
[831,"成都","成都华尔森环保科技有限公司",{"$f":"VLOOKUP(C834,[1]Sheet1!$A$2:$C$4597,2,FALSE)","v":"91510182693660254B"}]
[832,"成都","仁新设备制造（四川）有限公司",{"$f":"VLOOKUP(C835,[1]Sheet1!$A$2:$C$4597,2,FALSE)","v":"91510182768613090T"}]
[833,"成都","成都龙科重型机械制造有限公司",{"$f":"VLOOKUP(C836,[1]Sheet1!$A$2:$C$4597,2,FALSE)","v":"91510182771206365J"}]
[834,"成都","四川合力新创环境监测有限公司",{"$f":"VLOOKUP(C837,[1]Sheet1!$A$2:$C$4597,2,FALSE)","v":"91510182MA62NPTY6A"}]
[835,"成都","成都天顺保利新材料有限责任公司",{"$f":"VLOOKUP(C838,[1]Sheet1!$A$2:$C$4597,2,FALSE)","v":"91510182MA67HWA91L"}]
[836,"成都","成都市蜀海天诚环保科技有限公司",{"$f":"VLOOKUP(C839,[1]Sheet1!$A$2:$C$4597,2,FALSE)","v":"91510182MA6C7L0D0J"}]
[837,"成都","四川禾木源药业有限公司",{"$f":"VLOOKUP(C840,[1]Sheet1!$A$2:$C$4597,2,FALSE)","v":"91510182MA6C8DUK2D"}]
[838,"成都","成都航利航空工程职业教育有限公司",{"$f":"VLOOKUP(C841,[1]Sheet1!$A$2:$C$4597,2,FALSE)","v":"91510182MA6C8MC5X7"}]
[839,"成都","成都瑞思杰智能科技有限公司",{"$f":"VLOOKUP(C842,[1]Sheet1!$A$2:$C$4597,2,FALSE)","v":"91510182MA6CBY2F7W"}]
[840,"成都","四川伽锐科技有限公司",{"$f":"VLOOKUP(C843,[1]Sheet1!$A$2:$C$4597,2,FALSE)","v":"91510182MA6CG6RA6G"}]
[841,"成都","长兴化学工业（成都）有限公司",{"$f":"VLOOKUP(C844,[1]Sheet1!$A$2:$C$4597,2,FALSE)","v":"91510100584961082U"}]
[842,"成都","成都旺江农牧科技有限公司",{"$f":"VLOOKUP(C845,[1]Sheet1!$A$2:$C$4597,2,FALSE)","v":"91510183060061374C"}]
[843,"成都","邛崃天银制药有限公司",{"$f":"VLOOKUP(C846,[1]Sheet1!$A$2:$C$4597,2,FALSE)","v":"91510183394485484T"}]
[844,"成都","四川新迪生物制药有限公司",{"$f":"VLOOKUP(C847,[1]Sheet1!$A$2:$C$4597,2,FALSE)","v":"91510183574641296J"}]
[845,"成都","成都彩星化工有限公司",{"$f":"VLOOKUP(C848,[1]Sheet1!$A$2:$C$4597,2,FALSE)","v":"9151018358262316XM"}]
[846,"成都","成都远泓矿泉水有限公司",{"$f":"VLOOKUP(C849,[1]Sheet1!$A$2:$C$4597,2,FALSE)","v":"91510183740337944J"}]
[847,"成都","成都众恒印务有限责任公司",{"$f":"VLOOKUP(C850,[1]Sheet1!$A$2:$C$4597,2,FALSE)","v":"91510183749738517B"}]
[848,"成都","四川邛崃金六福崖谷生态酿酒有限公司",{"$f":"VLOOKUP(C851,[1]Sheet1!$A$2:$C$4597,2,FALSE)","v":"91510183771230066Y"}]
[849,"成都","成都蟲鑫生物科技有限公司",{"$f":"VLOOKUP(C852,[1]Sheet1!$A$2:$C$4597,2,FALSE)","v":"91510183MA62L6LX45"}]
[850,"成都","四川亭美新材料科技有限公司",{"$f":"VLOOKUP(C853,[1]Sheet1!$A$2:$C$4597,2,FALSE)","v":"91510183MA651J8HXD"}]
[851,"成都","四川锐芯众成科技有限公司",{"$f":"VLOOKUP(C854,[1]Sheet1!$A$2:$C$4597,2,FALSE)","v":"91510183MA655Y8P88"}]
[852,"成都","成都融捷锂业科技有限公司",{"$f":"VLOOKUP(C855,[1]Sheet1!$A$2:$C$4597,2,FALSE)","v":"91510183MA6CLH1573"}]
[853,"成都","四川省川汇塑胶有限公司",{"$f":"VLOOKUP(C856,[1]Sheet1!$A$2:$C$4597,2,FALSE)","v":"915101847160851935"}]
[854,"成都","成都艾格家具有限公司",{"$f":"VLOOKUP(C857,[1]Sheet1!$A$2:$C$4597,2,FALSE)","v":"91510115060091020H"}]
[855,"成都","四川文诚管业有限公司",{"$f":"VLOOKUP(C858,[1]Sheet1!$A$2:$C$4597,2,FALSE)","v":"91510129MA62LL2B4B"}]
[856,"成都","四川思爱科电子科技有限公司",{"$f":"VLOOKUP(C859,[1]Sheet1!$A$2:$C$4597,2,FALSE)","v":"91510184086699608T"}]
[857,"成都","中基智造科技（成都）有限公司",{"$f":"VLOOKUP(C860,[1]Sheet1!$A$2:$C$4597,2,FALSE)","v":"91510184551078090N"}]
[858,"成都","成都大通道管业有限公司",{"$f":"VLOOKUP(C861,[1]Sheet1!$A$2:$C$4597,2,FALSE)","v":"91510184553559277N"}]
[859,"成都","成都意德电子科技有限公司",{"$f":"VLOOKUP(C862,[1]Sheet1!$A$2:$C$4597,2,FALSE)","v":"91510184572294809Q"}]
[860,"成都","成都康乐汇食品有限公司",{"$f":"VLOOKUP(C863,[1]Sheet1!$A$2:$C$4597,2,FALSE)","v":"9151018458757036XW"}]
[861,"成都","成都美中美涂料有限公司",{"$f":"VLOOKUP(C864,[1]Sheet1!$A$2:$C$4597,2,FALSE)","v":"91510184689003788Y"}]
[862,"成都","康泰塑胶科技集团有限公司",{"$f":"VLOOKUP(C865,[1]Sheet1!$A$2:$C$4597,2,FALSE)","v":"91510184713075432J"}]
[863,"成都","四川刚毅科技集团有限公司",{"$f":"VLOOKUP(C866,[1]Sheet1!$A$2:$C$4597,2,FALSE)","v":"9151018478269275XT"}]
[864,"成都","成都佳饰家装饰新材料科技有限公司",{"$f":"VLOOKUP(C867,[1]Sheet1!$A$2:$C$4597,2,FALSE)","v":"91510184MA61TLXQ7U"}]
[865,"成都","四川合丰运维科技有限公司",{"$f":"VLOOKUP(C868,[1]Sheet1!$A$2:$C$4597,2,FALSE)","v":"91510184MA65UJCK8W"}]
[866,"成都","四川世纪之彩印刷包装有限公司",{"$f":"VLOOKUP(C869,[1]Sheet1!$A$2:$C$4597,2,FALSE)","v":"91510184MA68DEFR0R"}]
[867,"成都","四川浩旭科技有限公司",{"$f":"VLOOKUP(C870,[1]Sheet1!$A$2:$C$4597,2,FALSE)","v":"91510184MA6C9TXU2K"}]
[868,"成都","成都奇特新生态农业有限公司",{"$f":"VLOOKUP(C871,[1]Sheet1!$A$2:$C$4597,2,FALSE)","v":"91510184MA6CB3DC85"}]
[869,"成都","成都新利精密刀具有限公司",{"$f":"VLOOKUP(C872,[1]Sheet1!$A$2:$C$4597,2,FALSE)","v":"915101213320696103"}]
[870,"成都","四川川锅锅炉有限责任公司",{"$f":"VLOOKUP(C873,[1]Sheet1!$A$2:$C$4597,2,FALSE)","v":"915101217745449250"}]
[871,"成都","成都云白环境设备制造有限公司",{"$f":"VLOOKUP(C874,[1]Sheet1!$A$2:$C$4597,2,FALSE)","v":"91510121050072635F"}]
[872,"成都","四川华为电缆有限公司",{"$f":"VLOOKUP(C875,[1]Sheet1!$A$2:$C$4597,2,FALSE)","v":"91510121052521297G"}]
[873,"成都","成都顺达世纪机械设备有限公司",{"$f":"VLOOKUP(C876,[1]Sheet1!$A$2:$C$4597,2,FALSE)","v":"91510121098892077M"}]
[874,"成都","成都智达电器制造有限责任公司",{"$f":"VLOOKUP(C877,[1]Sheet1!$A$2:$C$4597,2,FALSE)","v":"91510121677171047K"}]
[875,"成都","成都鹤祥天药业有限公司",{"$f":"VLOOKUP(C878,[1]Sheet1!$A$2:$C$4597,2,FALSE)","v":"91510121MA61U1G07F"}]
[876,"成都","四川利民中药饮片有限责任公司",{"$f":"VLOOKUP(C879,[1]Sheet1!$A$2:$C$4597,2,FALSE)","v":"915101297528048458"}]
[877,"成都","四川兴达塑料有限公司",{"$f":"VLOOKUP(C880,[1]Sheet1!$A$2:$C$4597,2,FALSE)","v":"915101297826921005"}]
[878,"成都","成都开元辊业有限公司",{"$f":"VLOOKUP(C881,[1]Sheet1!$A$2:$C$4597,2,FALSE)","v":"915101325722878366"}]
[879,"成都","成都诺嘉伟业科技有限公司",{"$f":"VLOOKUP(C882,[1]Sheet1!$A$2:$C$4597,2,FALSE)","v":"91510129098105475P"}]
[880,"成都","四川巴德士新材料有限公司",{"$f":"VLOOKUP(C883,[1]Sheet1!$A$2:$C$4597,2,FALSE)","v":"91510129667568518N"}]
[881,"成都","成都华邑药用辅料制造有限责任公司",{"$f":"VLOOKUP(C884,[1]Sheet1!$A$2:$C$4597,2,FALSE)","v":"91510129672192906T"}]
[882,"成都","成都市兴名源电器有限公司",{"$f":"VLOOKUP(C885,[1]Sheet1!$A$2:$C$4597,2,FALSE)","v":"91510129771220060E"}]
[883,"成都","成都星辰宇浩科技有限公司",{"$f":"VLOOKUP(C886,[1]Sheet1!$A$2:$C$4597,2,FALSE)","v":"91510129MA69KU5GXU"}]
[884,"成都","成都胜德航科技有限公司",{"$f":"VLOOKUP(C887,[1]Sheet1!$A$2:$C$4597,2,FALSE)","v":"91510129MA6CMKP53K"}]
[885,"成都","四川三匠苦荞科技开发有限公司",{"$f":"VLOOKUP(C888,[1]Sheet1!$A$2:$C$4597,2,FALSE)","v":"91510131062426576F"}]
[886,"成都","成都川本塑胶有限公司",{"$f":"VLOOKUP(C889,[1]Sheet1!$A$2:$C$4597,2,FALSE)","v":"9151013121435383XB"}]
[887,"成都","成都海川制盖有限公司",{"$f":"VLOOKUP(C890,[1]Sheet1!$A$2:$C$4597,2,FALSE)","v":"91510131743600453A"}]
[888,"成都","成都喜曰食品有限公司",{"$f":"VLOOKUP(C891,[1]Sheet1!$A$2:$C$4597,2,FALSE)","v":"91510131MA67JKDH42"}]
[889,"成都","成都金嵘智能装备技术有限公司",{"$f":"VLOOKUP(C892,[1]Sheet1!$A$2:$C$4597,2,FALSE)","v":"91510131MA6BK5XG1F"}]
[890,"成都","成都洁能干燥设备有限责任公司",{"$f":"VLOOKUP(C893,[1]Sheet1!$A$2:$C$4597,2,FALSE)","v":"91510131MA6CXXMY7G"}]
[891,"自贡","自贡市凯越电气有限公司",{"$f":"VLOOKUP(C894,[1]Sheet1!$A$2:$C$4597,2,FALSE)","v":"9151030269915546X8"}]
[892,"自贡","自贡城投重交再生新材料有限公司",{"$f":"VLOOKUP(C895,[1]Sheet1!$A$2:$C$4597,2,FALSE)","v":"91510300MA693MQ32Q"}]
[893,"自贡","四川龙都香茗茶叶有限公司",{"$f":"VLOOKUP(C896,[1]Sheet1!$A$2:$C$4597,2,FALSE)","v":"91510321345702091C"}]
[894,"自贡","四川华丰包装制品有限公司",{"$f":"VLOOKUP(C897,[1]Sheet1!$A$2:$C$4597,2,FALSE)","v":"91510300314429838R"}]
[895,"自贡","四川万达电气有限公司",{"$f":"VLOOKUP(C898,[1]Sheet1!$A$2:$C$4597,2,FALSE)","v":"915103000541239030"}]
[896,"自贡","四川新纳中橡橡塑有限公司",{"$f":"VLOOKUP(C899,[1]Sheet1!$A$2:$C$4597,2,FALSE)","v":"91510300MA63W08Y4A"}]
[897,"自贡","四川国立能源科技有限公司",{"$f":"VLOOKUP(C900,[1]Sheet1!$A$2:$C$4597,2,FALSE)","v":"9151030076508420XK"}]
[898,"自贡","自贡腾达彩灯文化艺术有限公司",{"$f":"VLOOKUP(C901,[1]Sheet1!$A$2:$C$4597,2,FALSE)","v":"915103005842221910"}]
[899,"自贡","中昊黑元化工研究设计院有限公司",{"$f":"VLOOKUP(C902,[1]Sheet1!$A$2:$C$4597,2,FALSE)","v":"91510300620711495H"}]
[900,"自贡","自贡华西能源工业有限公司",{"$f":"VLOOKUP(C903,[1]Sheet1!$A$2:$C$4597,2,FALSE)","v":"915103003093185863"}]
[901,"自贡","四川天法科技有限公司",{"$f":"VLOOKUP(C904,[1]Sheet1!$A$2:$C$4597,2,FALSE)","v":"91510300314579086L"}]
[902,"自贡","自贡市东方联合机械配套有限公司",{"$f":"VLOOKUP(C905,[1]Sheet1!$A$2:$C$4597,2,FALSE)","v":"91510300MA6203QJ9J"}]
[903,"自贡","四川缔梦科技有限公司",{"$f":"VLOOKUP(C906,[1]Sheet1!$A$2:$C$4597,2,FALSE)","v":"91510300MA620GYE4Y"}]
[904,"自贡","四川领驰信息科技有限公司",{"$f":"VLOOKUP(C907,[1]Sheet1!$A$2:$C$4597,2,FALSE)","v":"91510300MA621HUR35"}]
[905,"自贡","四川百信智创科技有限公司",{"$f":"VLOOKUP(C908,[1]Sheet1!$A$2:$C$4597,2,FALSE)","v":"91510300MA688R2L7X"}]
[906,"自贡","四川科达节能技术有限公司",{"$f":"VLOOKUP(C909,[1]Sheet1!$A$2:$C$4597,2,FALSE)","v":"915103005975399057"}]
[907,"自贡","四川力拓景观科技有限公司",{"$f":"VLOOKUP(C910,[1]Sheet1!$A$2:$C$4597,2,FALSE)","v":"91510300692299348M"}]
[908,"自贡","自贡安邦精特机械制造有限公司",{"$f":"VLOOKUP(C911,[1]Sheet1!$A$2:$C$4597,2,FALSE)","v":"91510300555757242U"}]
[909,"自贡","四川金软科技有限公司",{"$f":"VLOOKUP(C912,[1]Sheet1!$A$2:$C$4597,2,FALSE)","v":"91510300767259157D"}]
[910,"攀枝花","攀枝花攀西蓝星化学清洗有限公司",{"$f":"VLOOKUP(C913,[1]Sheet1!$A$2:$C$4597,2,FALSE)","v":"9151040020435795XG"}]
[911,"攀枝花","四川邦通农业机械有限公司",{"$f":"VLOOKUP(C914,[1]Sheet1!$A$2:$C$4597,2,FALSE)","v":"91510402337771468K"}]
[912,"攀枝花","攀枝花大互通钛业有限公司",{"$f":"VLOOKUP(C915,[1]Sheet1!$A$2:$C$4597,2,FALSE)","v":"91510400786656131G"}]
[913,"攀枝花","攀枝花钢企欣宇化工有限公司",{"$f":"VLOOKUP(C916,[1]Sheet1!$A$2:$C$4597,2,FALSE)","v":"915104007798487410"}]
[914,"攀枝花","攀枝花钢企米易白马球团有限公司",{"$f":"VLOOKUP(C917,[1]Sheet1!$A$2:$C$4597,2,FALSE)","v":"915104217891458988"}]
[915,"攀枝花","攀枝花钢城集团瑞通制冷设备有限公司",{"$f":"VLOOKUP(C918,[1]Sheet1!$A$2:$C$4597,2,FALSE)","v":"91510400738302734J"}]
[916,"攀枝花","攀枝花攀钢集团设计研究院有限公司",{"$f":"VLOOKUP(C919,[1]Sheet1!$A$2:$C$4597,2,FALSE)","v":"91510400735869356F"}]
[917,"攀枝花","四川国鑫机械制造有限公司",{"$f":"VLOOKUP(C920,[1]Sheet1!$A$2:$C$4597,2,FALSE)","v":"91510400MA62108H5H"}]
[918,"攀枝花","攀枝花市午跃科技有限公司",{"$f":"VLOOKUP(C921,[1]Sheet1!$A$2:$C$4597,2,FALSE)","v":"91510403MA67CW4M2D"}]
[919,"攀枝花","菲德勒环境（攀枝花）有限公司",{"$f":"VLOOKUP(C922,[1]Sheet1!$A$2:$C$4597,2,FALSE)","v":"91510400673541469Y"}]
[920,"攀枝花","四川省玖典装配式装修有限公司",{"$f":"VLOOKUP(C923,[1]Sheet1!$A$2:$C$4597,2,FALSE)","v":"91510400080711565H"}]
[921,"攀枝花","四川森田新能源科技有限公司",{"$f":"VLOOKUP(C924,[1]Sheet1!$A$2:$C$4597,2,FALSE)","v":"91510400MA6210BN3H"}]
[922,"攀枝花","雅化集团攀枝花恒泰化工有限公司",{"$f":"VLOOKUP(C925,[1]Sheet1!$A$2:$C$4597,2,FALSE)","v":"915104006695774935"}]
[923,"攀枝花","攀枝花市冰点食品有限公司",{"$f":"VLOOKUP(C926,[1]Sheet1!$A$2:$C$4597,2,FALSE)","v":"9151040078911395XP"}]
[924,"攀枝花","米易恒禾矿业有限公司",{"$f":"VLOOKUP(C927,[1]Sheet1!$A$2:$C$4597,2,FALSE)","v":"91510421MA6B1GYH2D"}]
[925,"攀枝花","攀枝花市恒豪铸造有限公司",{"$f":"VLOOKUP(C928,[1]Sheet1!$A$2:$C$4597,2,FALSE)","v":"91510400565652284N"}]
[926,"攀枝花","攀枝花中达钛业科技有限公司",{"$f":"VLOOKUP(C929,[1]Sheet1!$A$2:$C$4597,2,FALSE)","v":"91510400MA6AU2YA4G"}]
[927,"攀枝花","攀枝花美斯特光电科技有限公司",{"$f":"VLOOKUP(C930,[1]Sheet1!$A$2:$C$4597,2,FALSE)","v":"91510411MA6A9QYC1T"}]
[928,"攀枝花","四川省九维新材料科技有限公司",{"$f":"VLOOKUP(C931,[1]Sheet1!$A$2:$C$4597,2,FALSE)","v":"91510400MA650C97XX"}]
[929,"攀枝花","攀枝花恒通钛业有限公司",{"$f":"VLOOKUP(C932,[1]Sheet1!$A$2:$C$4597,2,FALSE)","v":"91510400711848614J"}]
[930,"攀枝花","攀枝花市阳润科技有限公司",{"$f":"VLOOKUP(C933,[1]Sheet1!$A$2:$C$4597,2,FALSE)","v":"91510400MA62155A24"}]
[931,"德阳","德阳市重装检测有限责任公司",{"$f":"VLOOKUP(C934,[1]Sheet1!$A$2:$C$4597,2,FALSE)","v":"91510600784742319E"}]
[932,"德阳","四川网道科技发展有限公司",{"$f":"VLOOKUP(C935,[1]Sheet1!$A$2:$C$4597,2,FALSE)","v":"91510600326957128L"}]
[933,"德阳","德阳万鸿重型锻造有限公司",{"$f":"VLOOKUP(C936,[1]Sheet1!$A$2:$C$4597,2,FALSE)","v":"915106006948479693"}]
[934,"德阳","德阳指尖秘码科技有限公司",{"$f":"VLOOKUP(C937,[1]Sheet1!$A$2:$C$4597,2,FALSE)","v":"91510600MA69ED0T5C"}]
[935,"德阳","四川科雷特科技有限公司",{"$f":"VLOOKUP(C938,[1]Sheet1!$A$2:$C$4597,2,FALSE)","v":"91510626MA6237XD1A"}]
[936,"德阳","四川中航超高分子量管业有限公司",{"$f":"VLOOKUP(C939,[1]Sheet1!$A$2:$C$4597,2,FALSE)","v":"9151062656565874XP"}]
[937,"德阳","四川运成风机制造有限公司",{"$f":"VLOOKUP(C940,[1]Sheet1!$A$2:$C$4597,2,FALSE)","v":"91510124777474205Q"}]
[938,"德阳","德阳瑞泰科技有限公司",{"$f":"VLOOKUP(C941,[1]Sheet1!$A$2:$C$4597,2,FALSE)","v":"91510626076149282X"}]
[939,"德阳","四川朗迪新材料有限公司",{"$f":"VLOOKUP(C942,[1]Sheet1!$A$2:$C$4597,2,FALSE)","v":"91510626MA67MW562X"}]
[940,"德阳","广汉科峰电子有限责任公司",{"$f":"VLOOKUP(C943,[1]Sheet1!$A$2:$C$4597,2,FALSE)","v":"915106812142655498"}]
[941,"德阳","四川皓德斯新材料科技有限公司",{"$f":"VLOOKUP(C944,[1]Sheet1!$A$2:$C$4597,2,FALSE)","v":"9151068132707778XN"}]
[942,"德阳","四川粮之髓食品有限公司",{"$f":"VLOOKUP(C945,[1]Sheet1!$A$2:$C$4597,2,FALSE)","v":"915106810689793316"}]
[943,"德阳","四川聚隆汇智农业有限公司",{"$f":"VLOOKUP(C946,[1]Sheet1!$A$2:$C$4597,2,FALSE)","v":"91510104681803764P"}]
[944,"德阳","广汉鸿达硬质合金有限责任公司",{"$f":"VLOOKUP(C947,[1]Sheet1!$A$2:$C$4597,2,FALSE)","v":"915106817672547272"}]
[945,"德阳","德阳万鑫电站产品开发有限公司",{"$f":"VLOOKUP(C948,[1]Sheet1!$A$2:$C$4597,2,FALSE)","v":"915106817446639310"}]
[946,"德阳","四川山之田模型科技有限公司",{"$f":"VLOOKUP(C949,[1]Sheet1!$A$2:$C$4597,2,FALSE)","v":"91510681MA63BX9678"}]
[947,"德阳","四川中智旗云通用设备有限公司",{"$f":"VLOOKUP(C950,[1]Sheet1!$A$2:$C$4597,2,FALSE)","v":"915106810541449660"}]
[948,"德阳","四川康耐德硅胶科技发展有限公司",{"$f":"VLOOKUP(C951,[1]Sheet1!$A$2:$C$4597,2,FALSE)","v":"91510681555780266Q"}]
[949,"德阳","四川大丰收农业科技有限公司",{"$f":"VLOOKUP(C952,[1]Sheet1!$A$2:$C$4597,2,FALSE)","v":"915106823457192050"}]
[950,"德阳","四川磊蒙机械设备有限公司",{"$f":"VLOOKUP(C953,[1]Sheet1!$A$2:$C$4597,2,FALSE)","v":"91510682592787942Q"}]
[951,"德阳","什邡昊阳农业发展有限公司",{"$f":"VLOOKUP(C954,[1]Sheet1!$A$2:$C$4597,2,FALSE)","v":"9151068239999451XE"}]
[952,"德阳","什邡市金化钴制品有限公司",{"$f":"VLOOKUP(C955,[1]Sheet1!$A$2:$C$4597,2,FALSE)","v":"915106827089482868"}]
[953,"德阳","四川蓝剑金印股份有限公司",{"$f":"VLOOKUP(C956,[1]Sheet1!$A$2:$C$4597,2,FALSE)","v":"91510600205363315B"}]
[954,"德阳","什邡新工金属材料有限公司",{"$f":"VLOOKUP(C957,[1]Sheet1!$A$2:$C$4597,2,FALSE)","v":"91510682558216185B"}]
[955,"德阳","银谷芳香科技有限公司",{"$f":"VLOOKUP(C958,[1]Sheet1!$A$2:$C$4597,2,FALSE)","v":"91510683599997336Q"}]
[956,"德阳","绵竹市红森玻璃制品有限责任公司",{"$f":"VLOOKUP(C959,[1]Sheet1!$A$2:$C$4597,2,FALSE)","v":"91510683752324956L"}]
[957,"德阳","四川金瑞基业药物研究有限公司",{"$f":"VLOOKUP(C960,[1]Sheet1!$A$2:$C$4597,2,FALSE)","v":"91510683MA67LACE75"}]
[958,"德阳","四川优源新能源有限公司",{"$f":"VLOOKUP(C961,[1]Sheet1!$A$2:$C$4597,2,FALSE)","v":"91510683MA6238RJ5X"}]
[959,"德阳","四川铭源伟康科技有限公司",{"$f":"VLOOKUP(C962,[1]Sheet1!$A$2:$C$4597,2,FALSE)","v":"91510683MA6ALWQR58"}]
[960,"德阳","四川精雄阳光机械有限公司",{"$f":"VLOOKUP(C963,[1]Sheet1!$A$2:$C$4597,2,FALSE)","v":"91510623MA6BE9UE4Q"}]
[961,"德阳","四川铭浩金属科技有限公司",{"$f":"VLOOKUP(C964,[1]Sheet1!$A$2:$C$4597,2,FALSE)","v":"915106230582339822"}]
[962,"德阳","四川泰诺斯新材料科技有限公司",{"$f":"VLOOKUP(C965,[1]Sheet1!$A$2:$C$4597,2,FALSE)","v":"91510623MA63N9M94T"}]
[963,"德阳","中江县达飞电子厂",{"$f":"VLOOKUP(C966,[1]Sheet1!$A$2:$C$4597,2,FALSE)","v":"91510623684154501M"}]
[964,"德阳","德阳三环科技有限公司",{"$f":"VLOOKUP(C967,[1]Sheet1!$A$2:$C$4597,2,FALSE)","v":"91510600MAACGWK16X"}]
[965,"德阳","中国第二重型机械集团德阳万航模锻有限责任公司",{"$f":"VLOOKUP(C968,[1]Sheet1!$A$2:$C$4597,2,FALSE)","v":"915106007091724086"}]
[966,"德阳","四川顺腾机械制造有限公司",{"$f":"VLOOKUP(C969,[1]Sheet1!$A$2:$C$4597,2,FALSE)","v":"91510600577575503P"}]
[967,"德阳","德阳市民通数字科技有限公司",{"$f":"VLOOKUP(C970,[1]Sheet1!$A$2:$C$4597,2,FALSE)","v":"91510600MA66G9U571"}]
[968,"德阳","四川创能电力工程有限公司",{"$f":"VLOOKUP(C971,[1]Sheet1!$A$2:$C$4597,2,FALSE)","v":"91510600563266523N"}]
[969,"德阳","四川省先进智能农机装备有限公司",{"$f":"VLOOKUP(C972,[1]Sheet1!$A$2:$C$4597,2,FALSE)","v":"91510600MA6AT2EMX1"}]
[970,"德阳","德阳国创智慧能源有限公司",{"$f":"VLOOKUP(C973,[1]Sheet1!$A$2:$C$4597,2,FALSE)","v":"91510600MA64YBA35X"}]
[971,"绵阳","绵阳诺达佳工业控制技术有限公司",{"$f":"VLOOKUP(C974,[1]Sheet1!$A$2:$C$4597,2,FALSE)","v":"91510703692282044X"}]
[972,"绵阳","绵阳华盾特装科技有限公司",{"$f":"VLOOKUP(C975,[1]Sheet1!$A$2:$C$4597,2,FALSE)","v":"91510704MA64YB9N2H"}]
[973,"绵阳","绵阳巧工智能科技有限公司",{"$f":"VLOOKUP(C976,[1]Sheet1!$A$2:$C$4597,2,FALSE)","v":"9151070355349301XY"}]
[974,"绵阳","四川奥德瑞斯智能科技发展有限公司",{"$f":"VLOOKUP(C977,[1]Sheet1!$A$2:$C$4597,2,FALSE)","v":"91510703MA63CEE461"}]
[975,"绵阳","绵阳聚强极风科技有限公司",{"$f":"VLOOKUP(C978,[1]Sheet1!$A$2:$C$4597,2,FALSE)","v":"91510703052185975X"}]
[976,"绵阳","四川烯时代新材料有限公司",{"$f":"VLOOKUP(C979,[1]Sheet1!$A$2:$C$4597,2,FALSE)","v":"91510700MA624L1Y38"}]
[977,"绵阳","四川智远乐享软件有限公司",{"$f":"VLOOKUP(C980,[1]Sheet1!$A$2:$C$4597,2,FALSE)","v":"91510703337718878D"}]
[978,"绵阳","绵阳瑞联电子机械技术有限公司",{"$f":"VLOOKUP(C981,[1]Sheet1!$A$2:$C$4597,2,FALSE)","v":"91510700MA6758B46D"}]
[979,"绵阳","四川快住集成房屋有限公司",{"$f":"VLOOKUP(C982,[1]Sheet1!$A$2:$C$4597,2,FALSE)","v":"915107035656657043"}]
[980,"绵阳","四川昊宇龙星科技有限公司",{"$f":"VLOOKUP(C983,[1]Sheet1!$A$2:$C$4597,2,FALSE)","v":"91510703MA64WJY47A"}]
[981,"绵阳","四川纵横交安科技有限公司",{"$f":"VLOOKUP(C984,[1]Sheet1!$A$2:$C$4597,2,FALSE)","v":"91510703MA67YYLW8B"}]
[982,"绵阳","四川宸创宏达科技有限公司",{"$f":"VLOOKUP(C985,[1]Sheet1!$A$2:$C$4597,2,FALSE)","v":"91510100MA6CDB4C36"}]
[983,"绵阳","绵阳瑞丰中升农业科技有限公司",{"$f":"VLOOKUP(C986,[1]Sheet1!$A$2:$C$4597,2,FALSE)","v":"91510703309348785J"}]
[984,"绵阳","四川九华光子通信技术有限公司",{"$f":"VLOOKUP(C987,[1]Sheet1!$A$2:$C$4597,2,FALSE)","v":"91510703MA6B196M6G"}]
[985,"绵阳","四川琨鹏鸿途企业管理咨询服务有限公司",{"$f":"VLOOKUP(C988,[1]Sheet1!$A$2:$C$4597,2,FALSE)","v":"91510704MA625PK53U"}]
[986,"绵阳","四川优软网络科技有限公司",{"$f":"VLOOKUP(C989,[1]Sheet1!$A$2:$C$4597,2,FALSE)","v":"91510704MA65G4WM46"}]
[987,"绵阳","四川物科光学精密机械有限公司",{"$f":"VLOOKUP(C990,[1]Sheet1!$A$2:$C$4597,2,FALSE)","v":"91510704327006842U"}]
[988,"绵阳","四川久远环境技术有限公司",{"$f":"VLOOKUP(C991,[1]Sheet1!$A$2:$C$4597,2,FALSE)","v":"91510705555756143Y"}]
[989,"绵阳","绵阳市经科菌业有限责任公司",{"$f":"VLOOKUP(C992,[1]Sheet1!$A$2:$C$4597,2,FALSE)","v":"915107047716789011"}]
[990,"绵阳","绵阳新能智造科技有限公司",{"$f":"VLOOKUP(C993,[1]Sheet1!$A$2:$C$4597,2,FALSE)","v":"91510704MA662D4A73"}]
[991,"绵阳","四川欣达复合材料有限公司",{"$f":"VLOOKUP(C994,[1]Sheet1!$A$2:$C$4597,2,FALSE)","v":"915107047469285693"}]
[992,"绵阳","绵阳市雅森五金工具有限公司",{"$f":"VLOOKUP(C995,[1]Sheet1!$A$2:$C$4597,2,FALSE)","v":"91510703MA62466R72"}]
[993,"绵阳","绵阳市浚杰生物科技有限公司",{"$f":"VLOOKUP(C996,[1]Sheet1!$A$2:$C$4597,2,FALSE)","v":"915107043233456528"}]
[994,"绵阳","绵阳芯元素科技有限公司",{"$f":"VLOOKUP(C997,[1]Sheet1!$A$2:$C$4597,2,FALSE)","v":"91510704MA6APT8J93"}]
[995,"绵阳","四川川杰建材科技股份有限公司",{"$f":"VLOOKUP(C998,[1]Sheet1!$A$2:$C$4597,2,FALSE)","v":"91510700MA68UGQF0N"}]
[996,"绵阳","四川锐博尔科技有限公司",{"$f":"VLOOKUP(C999,[1]Sheet1!$A$2:$C$4597,2,FALSE)","v":"915107033457141566"}]
[997,"绵阳","绵阳安合光电科技有限公司",{"$f":"VLOOKUP(C1000,[1]Sheet1!$A$2:$C$4597,2,FALSE)","v":"91510705MA66EGP45K"}]
[998,"绵阳","绵阳新华内燃机股份有限公司",{"$f":"VLOOKUP(C1001,[1]Sheet1!$A$2:$C$4597,2,FALSE)","v":"91510700205402628Q"}]
[999,"绵阳","四川蜂汇自然科技有限公司",{"$f":"VLOOKUP(C1002,[1]Sheet1!$A$2:$C$4597,2,FALSE)","v":"91510705MA68ABM77K"}]
[1000,"绵阳","四川泰克科技有限公司",{"$f":"VLOOKUP(C1003,[1]Sheet1!$A$2:$C$4597,2,FALSE)","v":"91510703345721532G"}]
[1001,"绵阳","四川省绵阳市华意达化工有限公司",{"$f":"VLOOKUP(C1004,[1]Sheet1!$A$2:$C$4597,2,FALSE)","v":"9151072472552950XC"}]
[1002,"绵阳","四川跃纳科技有限公司",{"$f":"VLOOKUP(C1005,[1]Sheet1!$A$2:$C$4597,2,FALSE)","v":"91510700080730360E"}]
[1003,"绵阳","绵阳市宝泰人防设备有限公司",{"$f":"VLOOKUP(C1006,[1]Sheet1!$A$2:$C$4597,2,FALSE)","v":"91510724327054422A"}]
[1004,"绵阳","绵阳汇久机器人有限公司",{"$f":"VLOOKUP(C1007,[1]Sheet1!$A$2:$C$4597,2,FALSE)","v":"91510705MA64J90F2A"}]
[1005,"绵阳","四川爱创科技有限公司",{"$f":"VLOOKUP(C1008,[1]Sheet1!$A$2:$C$4597,2,FALSE)","v":"91510705MA64KABN6B"}]
[1006,"绵阳","绵阳丰瑞德技术有限公司",{"$f":"VLOOKUP(C1009,[1]Sheet1!$A$2:$C$4597,2,FALSE)","v":"91510700MA629RBK6R"}]
[1007,"绵阳","绵阳市安州区新民农业科技有限公司",{"$f":"VLOOKUP(C1010,[1]Sheet1!$A$2:$C$4597,2,FALSE)","v":"915107243144308391"}]
[1008,"绵阳","四川银河科城环保有限责任公司",{"$f":"VLOOKUP(C1011,[1]Sheet1!$A$2:$C$4597,2,FALSE)","v":"91510724MA633J818N"}]
[1009,"绵阳","绵阳众力精工机械制造有限公司",{"$f":"VLOOKUP(C1012,[1]Sheet1!$A$2:$C$4597,2,FALSE)","v":"91510724MA62477C3J"}]
[1010,"绵阳","四川绵阳国强特种门业有限公司",{"$f":"VLOOKUP(C1013,[1]Sheet1!$A$2:$C$4597,2,FALSE)","v":"915107007623288380"}]
[1011,"绵阳","四川宇洲电子科技有限公司",{"$f":"VLOOKUP(C1014,[1]Sheet1!$A$2:$C$4597,2,FALSE)","v":"91510705MA659M3D7C"}]
[1012,"绵阳","江油市黄河造型材料有限公司",{"$f":"VLOOKUP(C1015,[1]Sheet1!$A$2:$C$4597,2,FALSE)","v":"91510781754706560A"}]
[1013,"绵阳","江油三丰汽轮机材料有限公司",{"$f":"VLOOKUP(C1016,[1]Sheet1!$A$2:$C$4597,2,FALSE)","v":"915107817939803430"}]
[1014,"绵阳","绵阳中恒电气有限公司",{"$f":"VLOOKUP(C1017,[1]Sheet1!$A$2:$C$4597,2,FALSE)","v":"915107816735195012"}]
[1015,"绵阳","绵阳千锤机械设备有限公司",{"$f":"VLOOKUP(C1018,[1]Sheet1!$A$2:$C$4597,2,FALSE)","v":"91510781MA66U4W79F"}]
[1016,"绵阳","四川冠富科技有限公司",{"$f":"VLOOKUP(C1019,[1]Sheet1!$A$2:$C$4597,2,FALSE)","v":"915107033377150285"}]
[1017,"绵阳","江油天力新陶碳碳材料科技有限公司",{"$f":"VLOOKUP(C1020,[1]Sheet1!$A$2:$C$4597,2,FALSE)","v":"91510781MA624B677J"}]
[1018,"绵阳","绵阳国顺电气有限公司",{"$f":"VLOOKUP(C1021,[1]Sheet1!$A$2:$C$4597,2,FALSE)","v":"91510781723234679C"}]
[1019,"绵阳","江油天启光峰新材料技术有限公司",{"$f":"VLOOKUP(C1022,[1]Sheet1!$A$2:$C$4597,2,FALSE)","v":"91510781MA6241YP5W"}]
[1020,"绵阳","江油鸿飞大数据服务有限公司",{"$f":"VLOOKUP(C1023,[1]Sheet1!$A$2:$C$4597,2,FALSE)","v":"91510781MA6BEFH622"}]
[1021,"绵阳","江油市宏维矿业有限公司",{"$f":"VLOOKUP(C1024,[1]Sheet1!$A$2:$C$4597,2,FALSE)","v":"91510781099380188E"}]
[1022,"绵阳","四川省江油少彬矿业有限公司",{"$f":"VLOOKUP(C1025,[1]Sheet1!$A$2:$C$4597,2,FALSE)","v":"91510781323351286C"}]
[1023,"绵阳","江油市昊明实业有限公司",{"$f":"VLOOKUP(C1026,[1]Sheet1!$A$2:$C$4597,2,FALSE)","v":"91510781782256528J"}]
[1024,"绵阳","四川省江油市豫蜀夜视利反光材料有限公司",{"$f":"VLOOKUP(C1027,[1]Sheet1!$A$2:$C$4597,2,FALSE)","v":"91510781727474776M"}]
[1025,"绵阳","四川惠百民石化机械制造有限公司",{"$f":"VLOOKUP(C1028,[1]Sheet1!$A$2:$C$4597,2,FALSE)","v":"91510781708972788D"}]
[1026,"绵阳","四川三筑绿建科技有限公司",{"$f":"VLOOKUP(C1029,[1]Sheet1!$A$2:$C$4597,2,FALSE)","v":"91510781MA672KT71Q"}]
[1027,"绵阳","四川未来之鹰航空科技有限公司",{"$f":"VLOOKUP(C1030,[1]Sheet1!$A$2:$C$4597,2,FALSE)","v":"91510781MA67W71T11"}]
[1028,"绵阳","四川川矿索道工程有限责任公司",{"$f":"VLOOKUP(C1031,[1]Sheet1!$A$2:$C$4597,2,FALSE)","v":"91510781MA648G05XT"}]
[1029,"绵阳","四川国程生态农业有限公司",{"$f":"VLOOKUP(C1032,[1]Sheet1!$A$2:$C$4597,2,FALSE)","v":"91510781205405212E"}]
[1030,"绵阳","四川建元天地环保科技有限公司",{"$f":"VLOOKUP(C1033,[1]Sheet1!$A$2:$C$4597,2,FALSE)","v":"915107813562305795"}]
[1031,"绵阳","四川天丰节能板材有限公司",{"$f":"VLOOKUP(C1034,[1]Sheet1!$A$2:$C$4597,2,FALSE)","v":"91510781696998314Q"}]
[1032,"绵阳","四川省江油润生石墨毡有限公司",{"$f":"VLOOKUP(C1035,[1]Sheet1!$A$2:$C$4597,2,FALSE)","v":"91510781738320203T"}]
[1033,"绵阳","四川圣菲伦食品有限公司",{"$f":"VLOOKUP(C1036,[1]Sheet1!$A$2:$C$4597,2,FALSE)","v":"91510722MA65QMCU6J"}]
[1034,"绵阳","三台县程兴坤泰建材有限公司",{"$f":"VLOOKUP(C1037,[1]Sheet1!$A$2:$C$4597,2,FALSE)","v":"91510722MA624J7R95"}]
[1035,"绵阳","绵阳上策网络科技有限公司",{"$f":"VLOOKUP(C1038,[1]Sheet1!$A$2:$C$4597,2,FALSE)","v":"91510722314592758W"}]
[1036,"绵阳","绵阳市朝育机械有限公司",{"$f":"VLOOKUP(C1039,[1]Sheet1!$A$2:$C$4597,2,FALSE)","v":"91510722555798992F"}]
[1037,"绵阳","绵阳凯特玻璃制品有限公司",{"$f":"VLOOKUP(C1040,[1]Sheet1!$A$2:$C$4597,2,FALSE)","v":"91510725754710578D"}]
[1038,"绵阳","四川圣迪乐村生态食品股份有限公司",{"$f":"VLOOKUP(C1041,[1]Sheet1!$A$2:$C$4597,2,FALSE)","v":"915107007496083093"}]
[1039,"绵阳","四川沃野好土科技有限公司",{"$f":"VLOOKUP(C1042,[1]Sheet1!$A$2:$C$4597,2,FALSE)","v":"91510725326951391J"}]
[1040,"绵阳","四川辉氏生物技术有限公司",{"$f":"VLOOKUP(C1043,[1]Sheet1!$A$2:$C$4597,2,FALSE)","v":"91510725MA65KLG35T"}]
[1041,"绵阳","四川省亿尚农业旅游开发有限公司",{"$f":"VLOOKUP(C1044,[1]Sheet1!$A$2:$C$4597,2,FALSE)","v":"91510723MA6244GJX8"}]
[1042,"绵阳","四川园香园味业有限公司",{"$f":"VLOOKUP(C1045,[1]Sheet1!$A$2:$C$4597,2,FALSE)","v":"91510723073956062E"}]
[1043,"绵阳","四川新川义生物科技有限责任公司",{"$f":"VLOOKUP(C1046,[1]Sheet1!$A$2:$C$4597,2,FALSE)","v":"91510723MA69BCL458"}]
[1044,"绵阳","绵阳力森新材料有限公司",{"$f":"VLOOKUP(C1047,[1]Sheet1!$A$2:$C$4597,2,FALSE)","v":"91510726MA6832YF62"}]
[1045,"绵阳","绵阳晟氏健康科技有限公司",{"$f":"VLOOKUP(C1048,[1]Sheet1!$A$2:$C$4597,2,FALSE)","v":"91510726MA6AJHLB08"}]
[1046,"绵阳","绵阳虹瑞科技有限公司",{"$f":"VLOOKUP(C1049,[1]Sheet1!$A$2:$C$4597,2,FALSE)","v":"91510726078860262X"}]
[1047,"绵阳","四川华恒正合石化科技有限公司",{"$f":"VLOOKUP(C1050,[1]Sheet1!$A$2:$C$4597,2,FALSE)","v":"91510700MA64HE7K04"}]
[1048,"绵阳","绵阳富莱特航空科技有限公司",{"$f":"VLOOKUP(C1051,[1]Sheet1!$A$2:$C$4597,2,FALSE)","v":"91510700592768805C"}]
[1049,"绵阳","四川贝强能源科技有限公司",{"$f":"VLOOKUP(C1052,[1]Sheet1!$A$2:$C$4597,2,FALSE)","v":"91510700MA68XQCY0B"}]
[1050,"绵阳","四川省深度图谱科技有限公司",{"$f":"VLOOKUP(C1053,[1]Sheet1!$A$2:$C$4597,2,FALSE)","v":"91510700MA66W6YB0Y"}]
[1051,"绵阳","绵阳宏源塑胶有限公司",{"$f":"VLOOKUP(C1054,[1]Sheet1!$A$2:$C$4597,2,FALSE)","v":"91510700MA6241GG72"}]
[1052,"绵阳","四川安好众泰科技有限公司",{"$f":"VLOOKUP(C1055,[1]Sheet1!$A$2:$C$4597,2,FALSE)","v":"91510704098032544X"}]
[1053,"绵阳","绵阳九源茂科技有限公司",{"$f":"VLOOKUP(C1056,[1]Sheet1!$A$2:$C$4597,2,FALSE)","v":"91510700MA65AM7365"}]
[1054,"绵阳","绵阳新领程科技有限公司",{"$f":"VLOOKUP(C1057,[1]Sheet1!$A$2:$C$4597,2,FALSE)","v":"91510700MA68RL0XX4"}]
[1055,"绵阳","绵阳高新区道诚电子科技有限公司",{"$f":"VLOOKUP(C1058,[1]Sheet1!$A$2:$C$4597,2,FALSE)","v":"91510700590457368C"}]
[1056,"绵阳","四川科华智汇工程技术有限公司",{"$f":"VLOOKUP(C1059,[1]Sheet1!$A$2:$C$4597,2,FALSE)","v":"91510700MA624DCW58"}]
[1057,"绵阳","绵阳鸿蒙启荣网络科技有限公司",{"$f":"VLOOKUP(C1060,[1]Sheet1!$A$2:$C$4597,2,FALSE)","v":"91510700MA68RH9E08"}]
[1058,"绵阳","绵阳优佳特农业科技有限公司",{"$f":"VLOOKUP(C1061,[1]Sheet1!$A$2:$C$4597,2,FALSE)","v":"91510700MA686XTL4Y"}]
[1059,"绵阳","四川六齐元科技有限公司",{"$f":"VLOOKUP(C1062,[1]Sheet1!$A$2:$C$4597,2,FALSE)","v":"91510700MA627HUU01"}]
[1060,"绵阳","绵阳鑫达盛科技有限公司",{"$f":"VLOOKUP(C1063,[1]Sheet1!$A$2:$C$4597,2,FALSE)","v":"91510700MA66W6Y27B"}]
[1061,"绵阳","绵阳卡力特科技有限公司",{"$f":"VLOOKUP(C1064,[1]Sheet1!$A$2:$C$4597,2,FALSE)","v":"91510700095320559K"}]
[1062,"绵阳","四川小江军科技有限公司",{"$f":"VLOOKUP(C1065,[1]Sheet1!$A$2:$C$4597,2,FALSE)","v":"91510700MA692QR347"}]
[1063,"绵阳","四川安能能源技术有限公司",{"$f":"VLOOKUP(C1066,[1]Sheet1!$A$2:$C$4597,2,FALSE)","v":"915107003233890300"}]
[1064,"绵阳","四川奥生堂生物科技有限公司",{"$f":"VLOOKUP(C1067,[1]Sheet1!$A$2:$C$4597,2,FALSE)","v":"91510700MA69M64Y63"}]
[1065,"绵阳","绵阳汉联软件有限公司",{"$f":"VLOOKUP(C1068,[1]Sheet1!$A$2:$C$4597,2,FALSE)","v":"91510700080706854A"}]
[1066,"绵阳","绵阳华威芯气动设计有限公司",{"$f":"VLOOKUP(C1069,[1]Sheet1!$A$2:$C$4597,2,FALSE)","v":"91510700MA67PA0AX6"}]
[1067,"绵阳","四川军天宸信息科技有限公司",{"$f":"VLOOKUP(C1070,[1]Sheet1!$A$2:$C$4597,2,FALSE)","v":"91510700MA67Y4H174"}]
[1068,"绵阳","绵阳金麦佳科技有限公司",{"$f":"VLOOKUP(C1071,[1]Sheet1!$A$2:$C$4597,2,FALSE)","v":"91510700326954218Q"}]
[1069,"绵阳","绵阳顺鑫达货厢改制有限公司",{"$f":"VLOOKUP(C1072,[1]Sheet1!$A$2:$C$4597,2,FALSE)","v":"91510700MA693JL321"}]
[1070,"绵阳","绵阳伟成科技有限公司",{"$f":"VLOOKUP(C1073,[1]Sheet1!$A$2:$C$4597,2,FALSE)","v":"91510700MA6242T44C"}]
[1071,"绵阳","四川世纪恒微科技有限责任公司",{"$f":"VLOOKUP(C1074,[1]Sheet1!$A$2:$C$4597,2,FALSE)","v":"91510700MA624C4H9L"}]
[1072,"绵阳","绵阳伍零柒机械有限责任公司",{"$f":"VLOOKUP(C1075,[1]Sheet1!$A$2:$C$4597,2,FALSE)","v":"91510700MA687RFU8Y"}]
[1073,"绵阳","四川百诺吉科技有限公司",{"$f":"VLOOKUP(C1076,[1]Sheet1!$A$2:$C$4597,2,FALSE)","v":"91510700396723415M"}]
[1074,"绵阳","四川雏鹰未来航空科技有限公司",{"$f":"VLOOKUP(C1077,[1]Sheet1!$A$2:$C$4597,2,FALSE)","v":"91510700314402651D"}]
[1075,"绵阳","四川依盾机电科技有限公司",{"$f":"VLOOKUP(C1078,[1]Sheet1!$A$2:$C$4597,2,FALSE)","v":"91510700345745649X"}]
[1076,"绵阳","四川简生活信息科技有限责任公司",{"$f":"VLOOKUP(C1079,[1]Sheet1!$A$2:$C$4597,2,FALSE)","v":"91510700MA6BFL0E18"}]
[1077,"绵阳","四川巨子粉体设备有限公司",{"$f":"VLOOKUP(C1080,[1]Sheet1!$A$2:$C$4597,2,FALSE)","v":"91510700746905826P"}]
[1078,"绵阳","绵阳市智源泽泰科技有限公司",{"$f":"VLOOKUP(C1081,[1]Sheet1!$A$2:$C$4597,2,FALSE)","v":"91510700MA686J114X"}]
[1079,"绵阳","绵阳市西源机械制造有限公司",{"$f":"VLOOKUP(C1082,[1]Sheet1!$A$2:$C$4597,2,FALSE)","v":"91510700205450400T"}]
[1080,"绵阳","四川盛鑫新能源有限公司",{"$f":"VLOOKUP(C1083,[1]Sheet1!$A$2:$C$4597,2,FALSE)","v":"91510700791838757X"}]
[1081,"绵阳","四川沃伦贝尔健康科技有限公司",{"$f":"VLOOKUP(C1084,[1]Sheet1!$A$2:$C$4597,2,FALSE)","v":"91510700MA624EJU6K"}]
[1082,"绵阳","四川玖德网络科技有限公司",{"$f":"VLOOKUP(C1085,[1]Sheet1!$A$2:$C$4597,2,FALSE)","v":"91510700MA6248EH1P"}]
[1083,"绵阳","四川松山信息科技有限公司",{"$f":"VLOOKUP(C1086,[1]Sheet1!$A$2:$C$4597,2,FALSE)","v":"91510700309496112F"}]
[1084,"绵阳","四川长虹精密电子科技有限公司",{"$f":"VLOOKUP(C1087,[1]Sheet1!$A$2:$C$4597,2,FALSE)","v":"91510706793998367C"}]
[1085,"绵阳","易生能科技有限公司",{"$f":"VLOOKUP(C1088,[1]Sheet1!$A$2:$C$4597,2,FALSE)","v":"91510700MA68MYND00"}]
[1086,"绵阳","四川环联科技有限公司",{"$f":"VLOOKUP(C1089,[1]Sheet1!$A$2:$C$4597,2,FALSE)","v":"91510706337781017M"}]
[1087,"绵阳","四川智联共创企业管理有限公司",{"$f":"VLOOKUP(C1090,[1]Sheet1!$A$2:$C$4597,2,FALSE)","v":"91510700356263899T"}]
[1088,"绵阳","绵阳惠利电子材料有限公司",{"$f":"VLOOKUP(C1091,[1]Sheet1!$A$2:$C$4597,2,FALSE)","v":"91510700709193858X"}]
[1089,"绵阳","四川三阳激光增材制造技术有限公司",{"$f":"VLOOKUP(C1092,[1]Sheet1!$A$2:$C$4597,2,FALSE)","v":"91510700085827698P"}]
[1090,"绵阳","四川绵阳君正机电科技有限公司",{"$f":"VLOOKUP(C1093,[1]Sheet1!$A$2:$C$4597,2,FALSE)","v":"91510700MA67M98MX8"}]
[1091,"绵阳","四川康斯威科技有限公司",{"$f":"VLOOKUP(C1094,[1]Sheet1!$A$2:$C$4597,2,FALSE)","v":"91510704MA63MDT198"}]
[1092,"绵阳","绵阳市兴和模具有限公司",{"$f":"VLOOKUP(C1095,[1]Sheet1!$A$2:$C$4597,2,FALSE)","v":"915107007958473433"}]
[1093,"绵阳","四川中商升创科技有限公司",{"$f":"VLOOKUP(C1096,[1]Sheet1!$A$2:$C$4597,2,FALSE)","v":"91510703MA624CA168"}]
[1094,"绵阳","中国重汽集团绵阳专用汽车有限公司",{"$f":"VLOOKUP(C1097,[1]Sheet1!$A$2:$C$4597,2,FALSE)","v":"91510700689931154N"}]
[1095,"绵阳","四川省安道速博科技有限公司",{"$f":"VLOOKUP(C1098,[1]Sheet1!$A$2:$C$4597,2,FALSE)","v":"91510706326975721X"}]
[1096,"绵阳","四川酉机科技有限公司",{"$f":"VLOOKUP(C1099,[1]Sheet1!$A$2:$C$4597,2,FALSE)","v":"91510700076149813B"}]
[1097,"绵阳","四川九凤科技有限公司",{"$f":"VLOOKUP(C1100,[1]Sheet1!$A$2:$C$4597,2,FALSE)","v":"91510700MA6ATJ5H8H"}]
[1098,"绵阳","四川康佰思科技有限公司",{"$f":"VLOOKUP(C1101,[1]Sheet1!$A$2:$C$4597,2,FALSE)","v":"91510703MA65QY1Y18"}]
[1099,"绵阳","绵阳雷磁电子科技有限公司",{"$f":"VLOOKUP(C1102,[1]Sheet1!$A$2:$C$4597,2,FALSE)","v":"91510700660296353K"}]
[1100,"绵阳","绵阳淘房科技有限责任公司",{"$f":"VLOOKUP(C1103,[1]Sheet1!$A$2:$C$4597,2,FALSE)","v":"915107003094934721"}]
[1101,"绵阳","东亨信息科技股份有限公司",{"$f":"VLOOKUP(C1104,[1]Sheet1!$A$2:$C$4597,2,FALSE)","v":"915107000761044209"}]
[1102,"绵阳","四川弘博新材科技股份有限公司",{"$f":"VLOOKUP(C1105,[1]Sheet1!$A$2:$C$4597,2,FALSE)","v":"91510700MA65KXD55M"}]
[1103,"绵阳","四川绵阳华元航升环保科技有限公司",{"$f":"VLOOKUP(C1106,[1]Sheet1!$A$2:$C$4597,2,FALSE)","v":"91510700669573070M"}]
[1104,"绵阳","新兴栈（绵阳）建材有限公司",{"$f":"VLOOKUP(C1107,[1]Sheet1!$A$2:$C$4597,2,FALSE)","v":"91510700678399326M"}]
[1105,"绵阳","四川兴宏鑫电气有限公司",{"$f":"VLOOKUP(C1108,[1]Sheet1!$A$2:$C$4597,2,FALSE)","v":"91510700749630389Q"}]
[1106,"绵阳","绵阳深度数控科技有限公司",{"$f":"VLOOKUP(C1109,[1]Sheet1!$A$2:$C$4597,2,FALSE)","v":"915107003378099134"}]
[1107,"绵阳","四川长虹模塑科技有限公司",{"$f":"VLOOKUP(C1110,[1]Sheet1!$A$2:$C$4597,2,FALSE)","v":"91510700782291526W"}]
[1108,"绵阳","四川睿控智芯科技有限公司",{"$f":"VLOOKUP(C1111,[1]Sheet1!$A$2:$C$4597,2,FALSE)","v":"91510700MA650ERN0C"}]
[1109,"绵阳","四川虹信软件股份有限公司",{"$f":"VLOOKUP(C1112,[1]Sheet1!$A$2:$C$4597,2,FALSE)","v":"91510700671440445R"}]
[1110,"绵阳","绵阳南洋科技有限公司",{"$f":"VLOOKUP(C1113,[1]Sheet1!$A$2:$C$4597,2,FALSE)","v":"91510700MA636TTP16"}]
[1111,"绵阳","绵阳市天铭机械有限公司",{"$f":"VLOOKUP(C1114,[1]Sheet1!$A$2:$C$4597,2,FALSE)","v":"9151070068041947XW"}]
[1112,"绵阳","四川禹清源环保科技有限公司",{"$f":"VLOOKUP(C1115,[1]Sheet1!$A$2:$C$4597,2,FALSE)","v":"91510700MA63U0GX6R"}]
[1113,"绵阳","四川五视天下科技有限公司",{"$f":"VLOOKUP(C1116,[1]Sheet1!$A$2:$C$4597,2,FALSE)","v":"91510700MA6ALTPQ2P"}]
[1114,"绵阳","四川力王新能源科技有限公司",{"$f":"VLOOKUP(C1117,[1]Sheet1!$A$2:$C$4597,2,FALSE)","v":"91510704MA62FJHX1C"}]
[1115,"绵阳","四川省中科曙天环保科技有限公司",{"$f":"VLOOKUP(C1118,[1]Sheet1!$A$2:$C$4597,2,FALSE)","v":"91510700MA64DMD80E"}]
[1116,"绵阳","四川千路环保科技有限责任公司",{"$f":"VLOOKUP(C1119,[1]Sheet1!$A$2:$C$4597,2,FALSE)","v":"91510700MA624P2299"}]
[1117,"绵阳","四川拓景科技有限公司",{"$f":"VLOOKUP(C1120,[1]Sheet1!$A$2:$C$4597,2,FALSE)","v":"91510700MA6ATTNT85"}]
[1118,"绵阳","四川长虹云数信息技术有限公司",{"$f":"VLOOKUP(C1121,[1]Sheet1!$A$2:$C$4597,2,FALSE)","v":"91510700MA699FAN87"}]
[1119,"绵阳","绵阳慧视光电技术有限责任公司",{"$f":"VLOOKUP(C1122,[1]Sheet1!$A$2:$C$4597,2,FALSE)","v":"91510700MA668L4Y82"}]
[1120,"绵阳","绵阳新泰晟汽车零部件有限公司",{"$f":"VLOOKUP(C1123,[1]Sheet1!$A$2:$C$4597,2,FALSE)","v":"91510700MA6245MC3T"}]
[1121,"绵阳","四川长虹虹佳科技有限公司",{"$f":"VLOOKUP(C1124,[1]Sheet1!$A$2:$C$4597,2,FALSE)","v":"91510700MA68DJ9EXC"}]
[1122,"绵阳","四川中缝重工股份有限公司",{"$f":"VLOOKUP(C1125,[1]Sheet1!$A$2:$C$4597,2,FALSE)","v":"91510700MA65K7HB90"}]
[1123,"绵阳","四川国豪种业股份有限公司",{"$f":"VLOOKUP(C1126,[1]Sheet1!$A$2:$C$4597,2,FALSE)","v":"915107007274769589"}]
[1124,"绵阳","四川久远化工技术有限公司",{"$f":"VLOOKUP(C1127,[1]Sheet1!$A$2:$C$4597,2,FALSE)","v":"9151070075972491XB"}]
[1125,"绵阳","绵阳凯盟科技有限公司",{"$f":"VLOOKUP(C1128,[1]Sheet1!$A$2:$C$4597,2,FALSE)","v":"91510701MA63XW7K6L"}]
[1126,"绵阳","四川梓冠光电科技有限公司",{"$f":"VLOOKUP(C1129,[1]Sheet1!$A$2:$C$4597,2,FALSE)","v":"91510700327097836A"}]
[1127,"绵阳","绵阳腾昀科技有限公司",{"$f":"VLOOKUP(C1130,[1]Sheet1!$A$2:$C$4597,2,FALSE)","v":"91510700MAACEHN13U"}]
[1128,"绵阳","四川旭虹光电科技有限公司",{"$f":"VLOOKUP(C1131,[1]Sheet1!$A$2:$C$4597,2,FALSE)","v":"91510700553484033L"}]
[1129,"绵阳","四川存信教育科技有限公司",{"$f":"VLOOKUP(C1132,[1]Sheet1!$A$2:$C$4597,2,FALSE)","v":"91510700MA68R7R2X8"}]
[1130,"绵阳","四川宇飞连接电子有限公司",{"$f":"VLOOKUP(C1133,[1]Sheet1!$A$2:$C$4597,2,FALSE)","v":"91510703MA66M2QN2N"}]
[1131,"绵阳","绵阳市凌峰机械制造有限责任公司",{"$f":"VLOOKUP(C1134,[1]Sheet1!$A$2:$C$4597,2,FALSE)","v":"9151070074227713X2"}]
[1132,"绵阳","四川致一智能装备有限公司",{"$f":"VLOOKUP(C1135,[1]Sheet1!$A$2:$C$4597,2,FALSE)","v":"91510700MA66MMGT2B"}]
[1133,"绵阳","绵阳金雨鑫科技有限公司",{"$f":"VLOOKUP(C1136,[1]Sheet1!$A$2:$C$4597,2,FALSE)","v":"915107006879015094"}]
[1134,"绵阳","绵阳宏涂达科技有限责任公司",{"$f":"VLOOKUP(C1137,[1]Sheet1!$A$2:$C$4597,2,FALSE)","v":"91510700MA68RJXN2F"}]
[1135,"绵阳","绵阳优加溯源科技有限公司",{"$f":"VLOOKUP(C1138,[1]Sheet1!$A$2:$C$4597,2,FALSE)","v":"91510700MA6ALT238D"}]
[1136,"绵阳","四川正鸿泰精密电子科技有限公司",{"$f":"VLOOKUP(C1139,[1]Sheet1!$A$2:$C$4597,2,FALSE)","v":"91510700MA62431F9G"}]
[1137,"绵阳","四川房管家信息科技有限公司",{"$f":"VLOOKUP(C1140,[1]Sheet1!$A$2:$C$4597,2,FALSE)","v":"91510700MA64DCLX9N"}]
[1138,"绵阳","四川临界自动化设备有限公司",{"$f":"VLOOKUP(C1141,[1]Sheet1!$A$2:$C$4597,2,FALSE)","v":"91510700MA6248U20Y"}]
[1139,"绵阳","四川聚亘科技有限公司",{"$f":"VLOOKUP(C1142,[1]Sheet1!$A$2:$C$4597,2,FALSE)","v":"91510700MA624H390Y"}]
[1140,"绵阳","四川华铸新材料有限公司",{"$f":"VLOOKUP(C1143,[1]Sheet1!$A$2:$C$4597,2,FALSE)","v":"91510781MA6AF6RE1Q"}]
[1141,"绵阳","四川朗迪塑胶电器有限公司",{"$f":"VLOOKUP(C1144,[1]Sheet1!$A$2:$C$4597,2,FALSE)","v":"9151072474467792XX"}]
[1142,"遂宁","遂宁华能机械有限公司",{"$f":"VLOOKUP(C1145,[1]Sheet1!$A$2:$C$4597,2,FALSE)","v":"91510904767262364E"}]
[1143,"遂宁","四川遂芯微电子股份有限公司",{"$f":"VLOOKUP(C1146,[1]Sheet1!$A$2:$C$4597,2,FALSE)","v":"91510903MA69MUL1XL"}]
[1144,"遂宁","四川美捷森电路技术有限公司",{"$f":"VLOOKUP(C1147,[1]Sheet1!$A$2:$C$4597,2,FALSE)","v":"91510900MA6ANNAE3K"}]
[1145,"遂宁","遂宁利和科技有限公司",{"$f":"VLOOKUP(C1148,[1]Sheet1!$A$2:$C$4597,2,FALSE)","v":"91510903MA6AX3662R"}]
[1146,"遂宁","四川省射洪星升电子有限责任公司",{"$f":"VLOOKUP(C1149,[1]Sheet1!$A$2:$C$4597,2,FALSE)","v":"915109225534636626"}]
[1147,"遂宁","四川恒源通电气设备制造有限公司",{"$f":"VLOOKUP(C1150,[1]Sheet1!$A$2:$C$4597,2,FALSE)","v":"91510922327099241E"}]
[1148,"遂宁","四川联恺照明有限公司",{"$f":"VLOOKUP(C1151,[1]Sheet1!$A$2:$C$4597,2,FALSE)","v":"91510900052190918K"}]
[1149,"遂宁","四川氟锐半导体有限公司",{"$f":"VLOOKUP(C1152,[1]Sheet1!$A$2:$C$4597,2,FALSE)","v":"91330421MA2D05BU1Q"}]
[1150,"遂宁","四川雄固人防工程设备有限公司",{"$f":"VLOOKUP(C1153,[1]Sheet1!$A$2:$C$4597,2,FALSE)","v":"91510600078882090J"}]
[1151,"遂宁","四川宏安兴盛电子科技有限公司",{"$f":"VLOOKUP(C1154,[1]Sheet1!$A$2:$C$4597,2,FALSE)","v":"91510900MA62667548"}]
[1152,"遂宁","四川亨利德新型建筑材料有限公司",{"$f":"VLOOKUP(C1155,[1]Sheet1!$A$2:$C$4597,2,FALSE)","v":"91510923309361541W"}]
[1153,"遂宁","四川福美来新型建筑材料有限公司",{"$f":"VLOOKUP(C1156,[1]Sheet1!$A$2:$C$4597,2,FALSE)","v":"91510923060333528A"}]
[1154,"遂宁","遂宁立讯精密工业有限公司",{"$f":"VLOOKUP(C1157,[1]Sheet1!$A$2:$C$4597,2,FALSE)","v":"91510900060324795Q"}]
[1155,"遂宁","遂宁市天惠印刷包装有限责任公司",{"$f":"VLOOKUP(C1158,[1]Sheet1!$A$2:$C$4597,2,FALSE)","v":"91510900327026624L"}]
[1156,"遂宁","四川省飞帆泰科技有限公司",{"$f":"VLOOKUP(C1159,[1]Sheet1!$A$2:$C$4597,2,FALSE)","v":"91510900MA69148U91"}]
[1157,"内江","内江市水呱呱水业有限公司",{"$f":"VLOOKUP(C1160,[1]Sheet1!$A$2:$C$4597,2,FALSE)","v":"915110023270906501"}]
[1158,"内江","内江金鸿曲轴有限公司",{"$f":"VLOOKUP(C1161,[1]Sheet1!$A$2:$C$4597,2,FALSE)","v":"91511000772999344F"}]
[1159,"内江","四川恒恩新材料科技有限公司",{"$f":"VLOOKUP(C1162,[1]Sheet1!$A$2:$C$4597,2,FALSE)","v":"91511000309385279P"}]
[1160,"内江","四川精创检测技术有限公司",{"$f":"VLOOKUP(C1163,[1]Sheet1!$A$2:$C$4597,2,FALSE)","v":"91511000MA675B9F1U"}]
[1161,"内江","四川大信重工机械制造有限公司",{"$f":"VLOOKUP(C1164,[1]Sheet1!$A$2:$C$4597,2,FALSE)","v":"91511000782271242A"}]
[1162,"内江","四川华川基业建设集团珑威容器制造有限公司",{"$f":"VLOOKUP(C1165,[1]Sheet1!$A$2:$C$4597,2,FALSE)","v":"91511000MA694HYA2R"}]
[1163,"内江","四川万润铝模有限公司",{"$f":"VLOOKUP(C1166,[1]Sheet1!$A$2:$C$4597,2,FALSE)","v":"91511000MA65P3DW1C"}]
[1164,"内江","四川世光宇菲科技有限公司",{"$f":"VLOOKUP(C1167,[1]Sheet1!$A$2:$C$4597,2,FALSE)","v":"91511002056077701M"}]
[1165,"内江","四川富乐德科技发展有限公司",{"$f":"VLOOKUP(C1168,[1]Sheet1!$A$2:$C$4597,2,FALSE)","v":"91511000346860831M"}]
[1166,"内江","四川鼎佳亿新能源技术有限公司",{"$f":"VLOOKUP(C1169,[1]Sheet1!$A$2:$C$4597,2,FALSE)","v":"91511011MA6992YR84"}]
[1167,"内江","内江市井得毛织制衣有限公司",{"$f":"VLOOKUP(C1170,[1]Sheet1!$A$2:$C$4597,2,FALSE)","v":"915110005607293931"}]
[1168,"内江","四川神鸼精工科技有限公司",{"$f":"VLOOKUP(C1171,[1]Sheet1!$A$2:$C$4597,2,FALSE)","v":"91511000MA6273NC08"}]
[1169,"内江","黄老五食品股份有限公司",{"$f":"VLOOKUP(C1172,[1]Sheet1!$A$2:$C$4597,2,FALSE)","v":"91511000621060778A"}]
[1170,"内江","内江凤凰机械有限公司",{"$f":"VLOOKUP(C1173,[1]Sheet1!$A$2:$C$4597,2,FALSE)","v":"91511000729797106K"}]
[1171,"内江","四川大尔电气有限责任公司",{"$f":"VLOOKUP(C1174,[1]Sheet1!$A$2:$C$4597,2,FALSE)","v":"91511000567646240F"}]
[1172,"内江","内江天创网络科技有限公司",{"$f":"VLOOKUP(C1175,[1]Sheet1!$A$2:$C$4597,2,FALSE)","v":"91511000MA6274NT24"}]
[1173,"内江","资中县宏昕和电子有限公司",{"$f":"VLOOKUP(C1176,[1]Sheet1!$A$2:$C$4597,2,FALSE)","v":"91511025MA627Q1N3K"}]
[1174,"内江","内江铭源铝部件制造有限公司",{"$f":"VLOOKUP(C1177,[1]Sheet1!$A$2:$C$4597,2,FALSE)","v":"91511025MA6BBBWD8B"}]
[1175,"内江","内江瀚海智行科技有限公司",{"$f":"VLOOKUP(C1178,[1]Sheet1!$A$2:$C$4597,2,FALSE)","v":"91511000MA691FJ38B"}]
[1176,"内江","内江真力健生物科技有限公司",{"$f":"VLOOKUP(C1179,[1]Sheet1!$A$2:$C$4597,2,FALSE)","v":"91511002MA67W1G624"}]
[1177,"乐山","乐山市前沿油气设备制造有限公司",{"$f":"VLOOKUP(C1180,[1]Sheet1!$A$2:$C$4597,2,FALSE)","v":"915111127090170612"}]
[1178,"乐山","乐山市沙湾区嘉盛造型材料有限公司",{"$f":"VLOOKUP(C1181,[1]Sheet1!$A$2:$C$4597,2,FALSE)","v":"91511111565662773H"}]
[1179,"乐山","四川德顺源食品股份有限公司",{"$f":"VLOOKUP(C1182,[1]Sheet1!$A$2:$C$4597,2,FALSE)","v":"91511100MA64DQK941"}]
[1180,"乐山","四川康贝德木业有限公司",{"$f":"VLOOKUP(C1183,[1]Sheet1!$A$2:$C$4597,2,FALSE)","v":"91511124MA627RU886"}]
[1181,"乐山","乐山市七普饲料有限公司",{"$f":"VLOOKUP(C1184,[1]Sheet1!$A$2:$C$4597,2,FALSE)","v":"91511126696982064J"}]
[1182,"乐山","四川厚全生态农业有限公司",{"$f":"VLOOKUP(C1185,[1]Sheet1!$A$2:$C$4597,2,FALSE)","v":"91511126MA6286C9XE"}]
[1183,"乐山","乐山易通天下网络科技有限公司",{"$f":"VLOOKUP(C1186,[1]Sheet1!$A$2:$C$4597,2,FALSE)","v":"91511123337849472H"}]
[1184,"乐山","四川鑫鑫骄扬生物科技有限公司",{"$f":"VLOOKUP(C1187,[1]Sheet1!$A$2:$C$4597,2,FALSE)","v":"91511100MA6282R00J"}]
[1185,"乐山","四川佳宝科技有限公司",{"$f":"VLOOKUP(C1188,[1]Sheet1!$A$2:$C$4597,2,FALSE)","v":"91511100085826695L"}]
[1186,"乐山","峨眉山市嘉盛建筑材料有限公司",{"$f":"VLOOKUP(C1189,[1]Sheet1!$A$2:$C$4597,2,FALSE)","v":"91511181665377531P"}]
[1187,"乐山","四川川鸿电气设备有限责任公司",{"$f":"VLOOKUP(C1190,[1]Sheet1!$A$2:$C$4597,2,FALSE)","v":"91511102558238376D"}]
[1188,"南充","四川华奥电梯有限公司",{"$f":"VLOOKUP(C1191,[1]Sheet1!$A$2:$C$4597,2,FALSE)","v":"91511300563298920N"}]
[1189,"南充","四川鸿赫通风设备有限公司",{"$f":"VLOOKUP(C1192,[1]Sheet1!$A$2:$C$4597,2,FALSE)","v":"915113023145646851"}]
[1190,"南充","四川南充康达汽车零部件集团有限公司",{"$f":"VLOOKUP(C1193,[1]Sheet1!$A$2:$C$4597,2,FALSE)","v":"91511300720829853R"}]
[1191,"南充","恒信天虹市政工程有限公司",{"$f":"VLOOKUP(C1194,[1]Sheet1!$A$2:$C$4597,2,FALSE)","v":"91511300MA6290025R"}]
[1192,"南充","四川华芯腾科技有限责任公司",{"$f":"VLOOKUP(C1195,[1]Sheet1!$A$2:$C$4597,2,FALSE)","v":"91511300MA62AYCF6Y"}]
[1193,"南充","四川顺生制药有限公司",{"$f":"VLOOKUP(C1196,[1]Sheet1!$A$2:$C$4597,2,FALSE)","v":"91511303720887287J"}]
[1194,"南充","四川晶滢新材料科技有限公司",{"$f":"VLOOKUP(C1197,[1]Sheet1!$A$2:$C$4597,2,FALSE)","v":"91511302MA66XN6G5B"}]
[1195,"南充","四川兰天化工科技有限公司",{"$f":"VLOOKUP(C1198,[1]Sheet1!$A$2:$C$4597,2,FALSE)","v":"91511303MA6291P6XD"}]
[1196,"南充","四川燎原机械有限公司",{"$f":"VLOOKUP(C1199,[1]Sheet1!$A$2:$C$4597,2,FALSE)","v":"91511303759730623Q"}]
[1197,"南充","南充鑫源通讯技术有限公司",{"$f":"VLOOKUP(C1200,[1]Sheet1!$A$2:$C$4597,2,FALSE)","v":"915113037469228881"}]
[1198,"南充","四川南充顺城盐化有限责任公司",{"$f":"VLOOKUP(C1201,[1]Sheet1!$A$2:$C$4597,2,FALSE)","v":"915113037699526847"}]
[1199,"南充","南充市鑫镁新型防火建材有限公司",{"$f":"VLOOKUP(C1202,[1]Sheet1!$A$2:$C$4597,2,FALSE)","v":"915113035775820766"}]
[1200,"南充","四川省玉润木泽农业科技有限公司",{"$f":"VLOOKUP(C1203,[1]Sheet1!$A$2:$C$4597,2,FALSE)","v":"91511323MA629B72XM"}]
[1201,"南充","四川恒一食品有限公司",{"$f":"VLOOKUP(C1204,[1]Sheet1!$A$2:$C$4597,2,FALSE)","v":"9151130375974462XX"}]
[1202,"南充","南充金富春丝绸有限公司",{"$f":"VLOOKUP(C1205,[1]Sheet1!$A$2:$C$4597,2,FALSE)","v":"915113005864915989"}]
[1203,"南充","四川尚非服饰有限公司",{"$f":"VLOOKUP(C1206,[1]Sheet1!$A$2:$C$4597,2,FALSE)","v":"91511300062396573K"}]
[1204,"南充","南充市润宏纸业包装有限公司",{"$f":"VLOOKUP(C1207,[1]Sheet1!$A$2:$C$4597,2,FALSE)","v":"91511304MA691MG89W"}]
[1205,"南充","四川大禹流体科技有限责任公司",{"$f":"VLOOKUP(C1208,[1]Sheet1!$A$2:$C$4597,2,FALSE)","v":"91511304MA6293BX7R"}]
[1206,"南充","四川金树水务科技有限公司",{"$f":"VLOOKUP(C1209,[1]Sheet1!$A$2:$C$4597,2,FALSE)","v":"91511304MA69PP545N"}]
[1207,"南充","四川正东电气有限公司",{"$f":"VLOOKUP(C1210,[1]Sheet1!$A$2:$C$4597,2,FALSE)","v":"915113023094947669"}]
[1208,"南充","四川源维机械科技有限公司",{"$f":"VLOOKUP(C1211,[1]Sheet1!$A$2:$C$4597,2,FALSE)","v":"91511325MA66W53Q34"}]
[1209,"南充","四川诚华鑫建筑装饰工程有限公司",{"$f":"VLOOKUP(C1212,[1]Sheet1!$A$2:$C$4597,2,FALSE)","v":"915113243378603130"}]
[1210,"南充","四川欧亿冠机械有限公司",{"$f":"VLOOKUP(C1213,[1]Sheet1!$A$2:$C$4597,2,FALSE)","v":"91511324MA626CUKX7"}]
[1211,"南充","仪陇县新锐体育用品有限公司",{"$f":"VLOOKUP(C1214,[1]Sheet1!$A$2:$C$4597,2,FALSE)","v":"91511324MA68JDE2XF"}]
[1212,"南充","仪陇县振鑫精密冲压件有限公司",{"$f":"VLOOKUP(C1215,[1]Sheet1!$A$2:$C$4597,2,FALSE)","v":"91511324MA68P6W282"}]
[1213,"南充","四川宸泰新能源科技有限公司",{"$f":"VLOOKUP(C1216,[1]Sheet1!$A$2:$C$4597,2,FALSE)","v":"91511324MA66E28P0M"}]
[1214,"南充","四川同耕纪农业科技有限公司",{"$f":"VLOOKUP(C1217,[1]Sheet1!$A$2:$C$4597,2,FALSE)","v":"915113243270315979"}]
[1215,"南充","四川厚德新材料科技有限公司",{"$f":"VLOOKUP(C1218,[1]Sheet1!$A$2:$C$4597,2,FALSE)","v":"91511324MA65WC4C3Y"}]
[1216,"南充","四川安洁尔铜业有限公司",{"$f":"VLOOKUP(C1219,[1]Sheet1!$A$2:$C$4597,2,FALSE)","v":"91511322MA66F1AM1M"}]
[1217,"南充","四川航电锂能科技有限公司",{"$f":"VLOOKUP(C1220,[1]Sheet1!$A$2:$C$4597,2,FALSE)","v":"91511322MA69XHH274"}]
[1218,"南充","四川义丰亨汽车零部件制造有限公司",{"$f":"VLOOKUP(C1221,[1]Sheet1!$A$2:$C$4597,2,FALSE)","v":"915113226735089417"}]
[1219,"南充","四川金誉达机电科技有限公司",{"$f":"VLOOKUP(C1222,[1]Sheet1!$A$2:$C$4597,2,FALSE)","v":"91511322MA65JE4N8W"}]
[1220,"南充","四川鸿准电子科技有限公司",{"$f":"VLOOKUP(C1223,[1]Sheet1!$A$2:$C$4597,2,FALSE)","v":"91511322MA650RT51N"}]
[1221,"南充","四川亿柏林新能源有限公司",{"$f":"VLOOKUP(C1224,[1]Sheet1!$A$2:$C$4597,2,FALSE)","v":"91511322MA6809WY10"}]
[1222,"南充","四川马扎克智能科技有限公司",{"$f":"VLOOKUP(C1225,[1]Sheet1!$A$2:$C$4597,2,FALSE)","v":"91511322MA68P5Y01H"}]
[1223,"南充","南充永华食品有限公司",{"$f":"VLOOKUP(C1226,[1]Sheet1!$A$2:$C$4597,2,FALSE)","v":"91511322673547975E"}]
[1224,"南充","四川中其盛汽车科技有限公司",{"$f":"VLOOKUP(C1227,[1]Sheet1!$A$2:$C$4597,2,FALSE)","v":"91511300MA6ANT1K1R"}]
[1225,"南充","四川智启贵金属有限公司",{"$f":"VLOOKUP(C1228,[1]Sheet1!$A$2:$C$4597,2,FALSE)","v":"91511323572776357J"}]
[1226,"南充","四川相如制药有限公司",{"$f":"VLOOKUP(C1229,[1]Sheet1!$A$2:$C$4597,2,FALSE)","v":"91511323686112903E"}]
[1227,"宜宾","贝特瑞（四川）新材料科技有限公司",{"$f":"VLOOKUP(C1230,[1]Sheet1!$A$2:$C$4597,2,FALSE)","v":"91511529MA6B71HD3R"}]
[1228,"宜宾","四川普什醋酸纤维素有限责任公司",{"$f":"VLOOKUP(C1231,[1]Sheet1!$A$2:$C$4597,2,FALSE)","v":"915115006653600785"}]
[1229,"宜宾","江安县七彩湖特种水产养殖有限公司",{"$f":"VLOOKUP(C1232,[1]Sheet1!$A$2:$C$4597,2,FALSE)","v":"91511523MA63UXKG2Y"}]
[1230,"宜宾","四川金开电气有限公司",{"$f":"VLOOKUP(C1233,[1]Sheet1!$A$2:$C$4597,2,FALSE)","v":"91511502673529718G"}]
[1231,"宜宾","鑫炜吉建工集团有限公司",{"$f":"VLOOKUP(C1234,[1]Sheet1!$A$2:$C$4597,2,FALSE)","v":"91510000399526855F"}]
[1232,"宜宾","四川省宜宾市长兴酒业集团有限公司",{"$f":"VLOOKUP(C1235,[1]Sheet1!$A$2:$C$4597,2,FALSE)","v":"91511503717514148U"}]
[1233,"宜宾","四川智锂智慧能源科技有限公司",{"$f":"VLOOKUP(C1236,[1]Sheet1!$A$2:$C$4597,2,FALSE)","v":"91511500MA7EEBQP9R"}]
[1234,"宜宾","宜宾市晨然科技有限公司",{"$f":"VLOOKUP(C1237,[1]Sheet1!$A$2:$C$4597,2,FALSE)","v":"91511527MA68WJKN7K"}]
[1235,"宜宾","四川猛犸半导体科技有限公司",{"$f":"VLOOKUP(C1238,[1]Sheet1!$A$2:$C$4597,2,FALSE)","v":"91511500MA69QH4MXR"}]
[1236,"宜宾","宜宾市富康食品有限公司",{"$f":"VLOOKUP(C1239,[1]Sheet1!$A$2:$C$4597,2,FALSE)","v":"91511521553491241C"}]
[1237,"宜宾","宜宾市恒美科技有限公司",{"$f":"VLOOKUP(C1240,[1]Sheet1!$A$2:$C$4597,2,FALSE)","v":"91511500MA67RM7816"}]
[1238,"宜宾","宜宾茂强油脂有限公司",{"$f":"VLOOKUP(C1241,[1]Sheet1!$A$2:$C$4597,2,FALSE)","v":"91511521MA62A6RA4P"}]
[1239,"宜宾","四川省宇庆食品有限责任公司",{"$f":"VLOOKUP(C1242,[1]Sheet1!$A$2:$C$4597,2,FALSE)","v":"915115285975061421"}]
[1240,"宜宾","四川宏辉不锈钢制品有限公司",{"$f":"VLOOKUP(C1243,[1]Sheet1!$A$2:$C$4597,2,FALSE)","v":"91511500066798772P"}]
[1241,"宜宾","宜宾清和环保科技有限责任公司",{"$f":"VLOOKUP(C1244,[1]Sheet1!$A$2:$C$4597,2,FALSE)","v":"91511527052163477L"}]
[1242,"宜宾","宜宾冠英现代农业发展有限责任公司",{"$f":"VLOOKUP(C1245,[1]Sheet1!$A$2:$C$4597,2,FALSE)","v":"91511521399763957D"}]
[1243,"宜宾","宜宾雅艺玻璃技术有限公司",{"$f":"VLOOKUP(C1246,[1]Sheet1!$A$2:$C$4597,2,FALSE)","v":"91511521565694548C"}]
[1244,"宜宾","宜宾明申建筑工程有限公司",{"$f":"VLOOKUP(C1247,[1]Sheet1!$A$2:$C$4597,2,FALSE)","v":"91511521309419029P"}]
[1245,"宜宾","四川新能源汽车创新中心有限公司",{"$f":"VLOOKUP(C1248,[1]Sheet1!$A$2:$C$4597,2,FALSE)","v":"91511500MAAGUQP627"}]
[1246,"宜宾","宜宾天原科创设计有限公司",{"$f":"VLOOKUP(C1249,[1]Sheet1!$A$2:$C$4597,2,FALSE)","v":"91511500696982419J"}]
[1247,"宜宾","宜宾盈泰光电有限公司",{"$f":"VLOOKUP(C1250,[1]Sheet1!$A$2:$C$4597,2,FALSE)","v":"91511500762345806J"}]
[1248,"宜宾","四川巨微集成电路有限公司",{"$f":"VLOOKUP(C1251,[1]Sheet1!$A$2:$C$4597,2,FALSE)","v":"91310115398780093H"}]
[1249,"宜宾","宜宾市天珑通讯有限公司",{"$f":"VLOOKUP(C1252,[1]Sheet1!$A$2:$C$4597,2,FALSE)","v":"91511500MA63JP5H38"}]
[1250,"宜宾","宜宾宝升电子科技有限公司",{"$f":"VLOOKUP(C1253,[1]Sheet1!$A$2:$C$4597,2,FALSE)","v":"91511521MA683GF437"}]
[1251,"宜宾","四川祥承智能科技有限公司",{"$f":"VLOOKUP(C1254,[1]Sheet1!$A$2:$C$4597,2,FALSE)","v":"91511500MAACFJLE8E"}]
[1252,"宜宾","宜宾华福双三水泥建材有限责任公司",{"$f":"VLOOKUP(C1255,[1]Sheet1!$A$2:$C$4597,2,FALSE)","v":"915115006991509764"}]
[1253,"宜宾","四川省长江华云电子技术有限公司",{"$f":"VLOOKUP(C1256,[1]Sheet1!$A$2:$C$4597,2,FALSE)","v":"91511500MA625M584C"}]
[1254,"宜宾","宜宾市筠山石材有限公司",{"$f":"VLOOKUP(C1257,[1]Sheet1!$A$2:$C$4597,2,FALSE)","v":"91511527MA62A9RB0Q"}]
[1255,"宜宾","四川红山果电子商务有限公司",{"$f":"VLOOKUP(C1258,[1]Sheet1!$A$2:$C$4597,2,FALSE)","v":"91511528MA64XAD1X2"}]
[1256,"宜宾","四川聚美惠电子商务有限公司",{"$f":"VLOOKUP(C1259,[1]Sheet1!$A$2:$C$4597,2,FALSE)","v":"91511528MA67A4LDXF"}]
[1257,"宜宾","四川省宜宾普什驱动有限责任公司",{"$f":"VLOOKUP(C1260,[1]Sheet1!$A$2:$C$4597,2,FALSE)","v":"915115007798348840"}]
[1258,"宜宾","四川骏畅智能科技有限公司",{"$f":"VLOOKUP(C1261,[1]Sheet1!$A$2:$C$4597,2,FALSE)","v":"91511500MA63N55P6L"}]
[1259,"宜宾","宜宾盈通智能技术有限公司",{"$f":"VLOOKUP(C1262,[1]Sheet1!$A$2:$C$4597,2,FALSE)","v":"91511500MAAGUY3T2M"}]
[1260,"宜宾","筠连茶业有限责任公司",{"$f":"VLOOKUP(C1263,[1]Sheet1!$A$2:$C$4597,2,FALSE)","v":"91511527MA65W7JM7M"}]
[1261,"宜宾","宜宾似锦园林有限公司",{"$f":"VLOOKUP(C1264,[1]Sheet1!$A$2:$C$4597,2,FALSE)","v":"91511502MA64HJ4K5E"}]
[1262,"宜宾","宜宾市德盛机械有限责任公司",{"$f":"VLOOKUP(C1265,[1]Sheet1!$A$2:$C$4597,2,FALSE)","v":"915115213144675947"}]
[1263,"宜宾","四川曙安建设工程有限公司",{"$f":"VLOOKUP(C1266,[1]Sheet1!$A$2:$C$4597,2,FALSE)","v":"91511529MA63NCB33C"}]
[1264,"宜宾","宜宾市谊冰食品有限公司",{"$f":"VLOOKUP(C1267,[1]Sheet1!$A$2:$C$4597,2,FALSE)","v":"91511521MA62A5A28F"}]
[1265,"宜宾","屏山原林茶业有限公司",{"$f":"VLOOKUP(C1268,[1]Sheet1!$A$2:$C$4597,2,FALSE)","v":"91511529MA66X73P6N"}]
[1266,"宜宾","四川亿胜建设集团有限公司",{"$f":"VLOOKUP(C1269,[1]Sheet1!$A$2:$C$4597,2,FALSE)","v":"91511500717510964N"}]
[1267,"宜宾","宜宾帛洋纺织科技有限公司",{"$f":"VLOOKUP(C1270,[1]Sheet1!$A$2:$C$4597,2,FALSE)","v":"91511529MA63MJY769"}]
[1268,"宜宾","宜宾时代新能源有限公司",{"$f":"VLOOKUP(C1271,[1]Sheet1!$A$2:$C$4597,2,FALSE)","v":"91511500MA6BF0KQXN"}]
[1269,"宜宾","四川南山射钉紧固器材有限公司",{"$f":"VLOOKUP(C1272,[1]Sheet1!$A$2:$C$4597,2,FALSE)","v":"91511500621607323C"}]
[1270,"宜宾","宜宾梦想农旅发展有限公司",{"$f":"VLOOKUP(C1273,[1]Sheet1!$A$2:$C$4597,2,FALSE)","v":"91511521MA65PWPA71"}]
[1271,"宜宾","高县森沐民用爆破服务有限公司",{"$f":"VLOOKUP(C1274,[1]Sheet1!$A$2:$C$4597,2,FALSE)","v":"915115255975295989"}]
[1272,"广安","四川省华蓥市辽望实业有限公司",{"$f":"VLOOKUP(C1275,[1]Sheet1!$A$2:$C$4597,2,FALSE)","v":"91511681629563038U"}]
[1273,"广安","四川力泓电子科技有限公司",{"$f":"VLOOKUP(C1276,[1]Sheet1!$A$2:$C$4597,2,FALSE)","v":"91511681MA696ECL5A"}]
[1274,"广安","四川大千电子科技有限公司",{"$f":"VLOOKUP(C1277,[1]Sheet1!$A$2:$C$4597,2,FALSE)","v":"91511681MA627D126T"}]
[1275,"广安","四川领先微晶玻璃有限公司",{"$f":"VLOOKUP(C1278,[1]Sheet1!$A$2:$C$4597,2,FALSE)","v":"91511681MA62FHEY59"}]
[1276,"广安","四川普莱斯德绝热材料有限公司",{"$f":"VLOOKUP(C1279,[1]Sheet1!$A$2:$C$4597,2,FALSE)","v":"91511622MA662WFW90"}]
[1277,"广安","四川百誉登科技有限公司",{"$f":"VLOOKUP(C1280,[1]Sheet1!$A$2:$C$4597,2,FALSE)","v":"91511622MAACEFB624"}]
[1278,"广安","四川武胜春瑞医药化工有限公司",{"$f":"VLOOKUP(C1281,[1]Sheet1!$A$2:$C$4597,2,FALSE)","v":"91511622665394681P"}]
[1279,"广安","四川皓速科技有限公司",{"$f":"VLOOKUP(C1282,[1]Sheet1!$A$2:$C$4597,2,FALSE)","v":"91511622MA67R46R18"}]
[1280,"广安","四川英明机械工业有限公司",{"$f":"VLOOKUP(C1283,[1]Sheet1!$A$2:$C$4597,2,FALSE)","v":"91511622595083182J"}]
[1281,"达州","四川中蓝农业科技发展有限公司",{"$f":"VLOOKUP(C1284,[1]Sheet1!$A$2:$C$4597,2,FALSE)","v":"91511702MA62E7RC5W"}]
[1282,"达州","达州远大电气设备有限公司",{"$f":"VLOOKUP(C1285,[1]Sheet1!$A$2:$C$4597,2,FALSE)","v":"91511700567630599J"}]
[1283,"达州","四川千滋百汇食品有限公司",{"$f":"VLOOKUP(C1286,[1]Sheet1!$A$2:$C$4597,2,FALSE)","v":"91511702MA66N1UE7D"}]
[1284,"达州","万源市安科实业有限公司",{"$f":"VLOOKUP(C1287,[1]Sheet1!$A$2:$C$4597,2,FALSE)","v":"91511781592781495J"}]
[1285,"达州","万源市恒康农业开发有限公司",{"$f":"VLOOKUP(C1288,[1]Sheet1!$A$2:$C$4597,2,FALSE)","v":"91511781567603451Q"}]
[1286,"达州","万源市红河水电有限责任公司",{"$f":"VLOOKUP(C1289,[1]Sheet1!$A$2:$C$4597,2,FALSE)","v":"91511781765062609R"}]
[1287,"达州","四川省万源市欣绿茶品有限公司",{"$f":"VLOOKUP(C1290,[1]Sheet1!$A$2:$C$4597,2,FALSE)","v":"91511781709073493G"}]
[1288,"达州","四川嘉豪达包装制造有限公司",{"$f":"VLOOKUP(C1291,[1]Sheet1!$A$2:$C$4597,2,FALSE)","v":"91511722MA64CGE26W"}]
[1289,"达州","四川旭阳顺纸制品有限公司",{"$f":"VLOOKUP(C1292,[1]Sheet1!$A$2:$C$4597,2,FALSE)","v":"91511724MA65H7L088"}]
[1290,"达州","四川玺昌金属制品有限责任公司",{"$f":"VLOOKUP(C1293,[1]Sheet1!$A$2:$C$4597,2,FALSE)","v":"91511724MA67Q9PXX2"}]
[1291,"达州","四川聚豪锦悦农林科技有限公司",{"$f":"VLOOKUP(C1294,[1]Sheet1!$A$2:$C$4597,2,FALSE)","v":"91511724052153949B"}]
[1292,"达州","达州润康食品科技有限公司",{"$f":"VLOOKUP(C1295,[1]Sheet1!$A$2:$C$4597,2,FALSE)","v":"91511724MA67MACC6T"}]
[1293,"达州","四川光亚新材料科技有限公司",{"$f":"VLOOKUP(C1296,[1]Sheet1!$A$2:$C$4597,2,FALSE)","v":"91511725595050778R"}]
[1294,"达州","四川省胜发电子科技有限公司",{"$f":"VLOOKUP(C1297,[1]Sheet1!$A$2:$C$4597,2,FALSE)","v":"915117233991372008"}]
[1295,"达州","达州市千千食品有限公司",{"$f":"VLOOKUP(C1298,[1]Sheet1!$A$2:$C$4597,2,FALSE)","v":"91511723791818617B"}]
[1296,"达州","四川信连电子科技有限公司",{"$f":"VLOOKUP(C1299,[1]Sheet1!$A$2:$C$4597,2,FALSE)","v":"91511723MA6BLW9D3P"}]
[1297,"达州","四川润物供水系统有限公司",{"$f":"VLOOKUP(C1300,[1]Sheet1!$A$2:$C$4597,2,FALSE)","v":"915117000962374585"}]
[1298,"达州","达州市雅森环保建材有限公司",{"$f":"VLOOKUP(C1301,[1]Sheet1!$A$2:$C$4597,2,FALSE)","v":"91511700314412614N"}]
[1299,"达州","达州玖源新材料有限公司",{"$f":"VLOOKUP(C1302,[1]Sheet1!$A$2:$C$4597,2,FALSE)","v":"91511700MA651KR718"}]
[1300,"达州","四川绿大地石膏制品有限公司",{"$f":"VLOOKUP(C1303,[1]Sheet1!$A$2:$C$4597,2,FALSE)","v":"91511703MA64J6DF7D"}]
[1301,"眉山","幺麻子食品股份有限公司",{"$f":"VLOOKUP(C1304,[1]Sheet1!$A$2:$C$4597,2,FALSE)","v":"915114237400178797"}]
[1302,"眉山","四川兴正源环保材料有限责任公司",{"$f":"VLOOKUP(C1305,[1]Sheet1!$A$2:$C$4597,2,FALSE)","v":"91511421678380131D"}]
[1303,"眉山","四川邦尼德织物有限公司",{"$f":"VLOOKUP(C1306,[1]Sheet1!$A$2:$C$4597,2,FALSE)","v":"91511402575291734N"}]
[1304,"眉山","四川品轩酒业有限公司",{"$f":"VLOOKUP(C1307,[1]Sheet1!$A$2:$C$4597,2,FALSE)","v":"915114210667573055"}]
[1305,"眉山","四川金新农饲料有限公司",{"$f":"VLOOKUP(C1308,[1]Sheet1!$A$2:$C$4597,2,FALSE)","v":"91511425674309311T"}]
[1306,"眉山","四川森科制药有限公司",{"$f":"VLOOKUP(C1309,[1]Sheet1!$A$2:$C$4597,2,FALSE)","v":"91511402MA62J84HXU"}]
[1307,"眉山","四川永诺生物科技有限公司",{"$f":"VLOOKUP(C1310,[1]Sheet1!$A$2:$C$4597,2,FALSE)","v":"91511402056079096R"}]
[1308,"眉山","四川金素环保科技有限公司",{"$f":"VLOOKUP(C1311,[1]Sheet1!$A$2:$C$4597,2,FALSE)","v":"91511400MA62J5E30R"}]
[1309,"眉山","眉山艾德尔科技有限公司",{"$f":"VLOOKUP(C1312,[1]Sheet1!$A$2:$C$4597,2,FALSE)","v":"91511400083397743J"}]
[1310,"眉山","眉山宇砼新材料有限公司",{"$f":"VLOOKUP(C1313,[1]Sheet1!$A$2:$C$4597,2,FALSE)","v":"91511400MA68G6YD19"}]
[1311,"眉山","四川兴荣科科技有限公司",{"$f":"VLOOKUP(C1314,[1]Sheet1!$A$2:$C$4597,2,FALSE)","v":"91511400MA68XP8550"}]
[1312,"眉山","四川瑞泽科技有限责任公司",{"$f":"VLOOKUP(C1315,[1]Sheet1!$A$2:$C$4597,2,FALSE)","v":"91511421743636616R"}]
[1313,"眉山","四川九鼎涂泰仕科技有限公司",{"$f":"VLOOKUP(C1316,[1]Sheet1!$A$2:$C$4597,2,FALSE)","v":"91511421MA67Q16B76"}]
[1314,"眉山","四川睿恒化工有限公司",{"$f":"VLOOKUP(C1317,[1]Sheet1!$A$2:$C$4597,2,FALSE)","v":"91511403MA63UG649C"}]
[1315,"眉山","四川精事达科技有限公司",{"$f":"VLOOKUP(C1318,[1]Sheet1!$A$2:$C$4597,2,FALSE)","v":"91511403MA694XPX7U"}]
[1316,"眉山","四川立顿洗涤用品有限公司",{"$f":"VLOOKUP(C1319,[1]Sheet1!$A$2:$C$4597,2,FALSE)","v":"915114226948200020"}]
[1317,"眉山","四川同庆南风有限责任公司",{"$f":"VLOOKUP(C1320,[1]Sheet1!$A$2:$C$4597,2,FALSE)","v":"91511422207646271P"}]
[1318,"眉山","眉山国星炭素材料股份有限公司",{"$f":"VLOOKUP(C1321,[1]Sheet1!$A$2:$C$4597,2,FALSE)","v":"915114005999514776"}]
[1319,"眉山","四川晟锟电子材料有限公司",{"$f":"VLOOKUP(C1322,[1]Sheet1!$A$2:$C$4597,2,FALSE)","v":"91511422MA621UN387"}]
[1320,"眉山","四川有色金澳铝业有限责任公司",{"$f":"VLOOKUP(C1323,[1]Sheet1!$A$2:$C$4597,2,FALSE)","v":"91511400MA697R5G0H"}]
[1321,"眉山","四川华玉铝业有限公司",{"$f":"VLOOKUP(C1324,[1]Sheet1!$A$2:$C$4597,2,FALSE)","v":"91511400MA62J04M9B"}]
[1322,"眉山","四川杭加坤正新型材料有限公司",{"$f":"VLOOKUP(C1325,[1]Sheet1!$A$2:$C$4597,2,FALSE)","v":"915114215999576099"}]
[1323,"眉山","四川能投川化新材料科技有限公司",{"$f":"VLOOKUP(C1326,[1]Sheet1!$A$2:$C$4597,2,FALSE)","v":"91511403MA659PKK06"}]
[1324,"眉山","四川阳光坚端铝业有限公司",{"$f":"VLOOKUP(C1327,[1]Sheet1!$A$2:$C$4597,2,FALSE)","v":"915114000833891538"}]
[1325,"眉山","四川省彭山宏源机电科技开发有限公司",{"$f":"VLOOKUP(C1328,[1]Sheet1!$A$2:$C$4597,2,FALSE)","v":"9151142274961184XF"}]
[1326,"眉山","四川川运重工机械有限公司",{"$f":"VLOOKUP(C1329,[1]Sheet1!$A$2:$C$4597,2,FALSE)","v":"91511424MA65RL2Y8D"}]
[1327,"眉山","四川万通输配设备有限公司",{"$f":"VLOOKUP(C1330,[1]Sheet1!$A$2:$C$4597,2,FALSE)","v":"91511422730225105R"}]
[1328,"眉山","四川金杠杆机械有限公司",{"$f":"VLOOKUP(C1331,[1]Sheet1!$A$2:$C$4597,2,FALSE)","v":"91511402MA65UQN46E"}]
[1329,"眉山","四川中翼机电科技有限公司",{"$f":"VLOOKUP(C1332,[1]Sheet1!$A$2:$C$4597,2,FALSE)","v":"91511425696994014L"}]
[1330,"眉山","四川巴斯迪科新技术发展有限公司",{"$f":"VLOOKUP(C1333,[1]Sheet1!$A$2:$C$4597,2,FALSE)","v":"91511425772976038G"}]
[1331,"眉山","四川华气动力有限责任公司",{"$f":"VLOOKUP(C1334,[1]Sheet1!$A$2:$C$4597,2,FALSE)","v":"91511421MA647D9P7Y"}]
[1332,"眉山","四川爱普康新能源科技有限公司",{"$f":"VLOOKUP(C1335,[1]Sheet1!$A$2:$C$4597,2,FALSE)","v":"91511421MA6767R67W"}]
[1333,"眉山","眉山市科跃工业自动化设备有限公司",{"$f":"VLOOKUP(C1336,[1]Sheet1!$A$2:$C$4597,2,FALSE)","v":"91511402560712065A"}]
[1334,"眉山","眉山车辆工业股份有限公司",{"$f":"VLOOKUP(C1337,[1]Sheet1!$A$2:$C$4597,2,FALSE)","v":"91511400207308758K"}]
[1335,"眉山","洪雅力达水力发电设备有限责任公司",{"$f":"VLOOKUP(C1338,[1]Sheet1!$A$2:$C$4597,2,FALSE)","v":"91511423749622135R"}]
[1336,"眉山","四川亿鸿电子科技有限公司",{"$f":"VLOOKUP(C1339,[1]Sheet1!$A$2:$C$4597,2,FALSE)","v":"91511424309480559J"}]
[1337,"眉山","四川飞普科技有限公司",{"$f":"VLOOKUP(C1340,[1]Sheet1!$A$2:$C$4597,2,FALSE)","v":"9151140266029370XR"}]
[1338,"眉山","四川省丹棱明宏光学有限责任公司",{"$f":"VLOOKUP(C1341,[1]Sheet1!$A$2:$C$4597,2,FALSE)","v":"91511424754736508F"}]
[1339,"眉山","四川润祥辐照技术有限公司",{"$f":"VLOOKUP(C1342,[1]Sheet1!$A$2:$C$4597,2,FALSE)","v":"91511422597515401F"}]
[1340,"眉山","中铁四川生态城投资有限公司",{"$f":"VLOOKUP(C1343,[1]Sheet1!$A$2:$C$4597,2,FALSE)","v":"91511421MA62J61G7P"}]
[1341,"眉山","中机眉山再生能源有限公司",{"$f":"VLOOKUP(C1344,[1]Sheet1!$A$2:$C$4597,2,FALSE)","v":"915114003234149106"}]
[1342,"眉山","四川橙科规划设计咨询有限责任公司",{"$f":"VLOOKUP(C1345,[1]Sheet1!$A$2:$C$4597,2,FALSE)","v":"91511400MA6B5LFN6L"}]
[1343,"眉山","四川牧马山科技有限公司",{"$f":"VLOOKUP(C1346,[1]Sheet1!$A$2:$C$4597,2,FALSE)","v":"91511400MA64W6WX6G"}]
[1344,"眉山","四川神通教育科技有限公司",{"$f":"VLOOKUP(C1347,[1]Sheet1!$A$2:$C$4597,2,FALSE)","v":"91511400595096274L"}]
[1345,"眉山","四川仁寿晟兴商砼有限公司",{"$f":"VLOOKUP(C1348,[1]Sheet1!$A$2:$C$4597,2,FALSE)","v":"91511421MA64K4EQ3U"}]
[1346,"眉山","四川恒卓玻璃有限公司",{"$f":"VLOOKUP(C1349,[1]Sheet1!$A$2:$C$4597,2,FALSE)","v":"91511422572775784J"}]
[1347,"眉山","四川统揽建设集团有限公司",{"$f":"VLOOKUP(C1350,[1]Sheet1!$A$2:$C$4597,2,FALSE)","v":"91511402MA66F3DKX0"}]
[1348,"雅安","雅安市利增橡塑制品有限公司",{"$f":"VLOOKUP(C1351,[1]Sheet1!$A$2:$C$4597,2,FALSE)","v":"91511800MA64KRKYXX"}]
[1349,"雅安","四川汉唐云分布式存储技术有限公司",{"$f":"VLOOKUP(C1352,[1]Sheet1!$A$2:$C$4597,2,FALSE)","v":"91511800MA673D2W0N"}]
[1350,"雅安","四川川西数据产业有限公司",{"$f":"VLOOKUP(C1353,[1]Sheet1!$A$2:$C$4597,2,FALSE)","v":"91511800MA66GHJJ3F"}]
[1351,"雅安","雅化集团雅安实业有限公司",{"$f":"VLOOKUP(C1354,[1]Sheet1!$A$2:$C$4597,2,FALSE)","v":"91511800MA65E3YDXP"}]
[1352,"雅安","四川汉源县昊月食品有限责任公司",{"$f":"VLOOKUP(C1355,[1]Sheet1!$A$2:$C$4597,2,FALSE)","v":"91511823094622328X"}]
[1353,"雅安","四川万邦电子科技有限公司",{"$f":"VLOOKUP(C1356,[1]Sheet1!$A$2:$C$4597,2,FALSE)","v":"91511826MA68JA92X4"}]
[1354,"雅安","四川瑞鞍新材料科技有限公司",{"$f":"VLOOKUP(C1357,[1]Sheet1!$A$2:$C$4597,2,FALSE)","v":"91511826MA6BL1UKX2"}]
[1355,"雅安","芦山县青衣江纺织有限公司",{"$f":"VLOOKUP(C1358,[1]Sheet1!$A$2:$C$4597,2,FALSE)","v":"9151182669482576X4"}]
[1356,"雅安","四川省雅安市羌江机械有限责任公司",{"$f":"VLOOKUP(C1359,[1]Sheet1!$A$2:$C$4597,2,FALSE)","v":"91511803210951541U"}]
[1357,"资阳","四川嘉承食品有限公司",{"$f":"VLOOKUP(C1360,[1]Sheet1!$A$2:$C$4597,2,FALSE)","v":"91512002MA66E1X618"}]
[1358,"资阳","四川旺鹭食品有限公司",{"$f":"VLOOKUP(C1361,[1]Sheet1!$A$2:$C$4597,2,FALSE)","v":"91512000080718599P"}]
[1359,"资阳","资阳市瑞欣计算机网络服务有限公司",{"$f":"VLOOKUP(C1362,[1]Sheet1!$A$2:$C$4597,2,FALSE)","v":"91512002085832075F"}]
[1360,"资阳","四川金辉药业有限公司",{"$f":"VLOOKUP(C1363,[1]Sheet1!$A$2:$C$4597,2,FALSE)","v":"915120002068121869"}]
[1361,"资阳","四川丰源钢结构有限公司",{"$f":"VLOOKUP(C1364,[1]Sheet1!$A$2:$C$4597,2,FALSE)","v":"91512002MA68434D7A"}]
[1362,"资阳","资阳市城投检测科技有限公司",{"$f":"VLOOKUP(C1365,[1]Sheet1!$A$2:$C$4597,2,FALSE)","v":"91512002714439859A"}]
[1363,"资阳","安岳瑞鑫橡塑制品有限公司",{"$f":"VLOOKUP(C1366,[1]Sheet1!$A$2:$C$4597,2,FALSE)","v":"91512021MA65EKYC8R"}]
[1364,"资阳","四川东普建设工程有限公司",{"$f":"VLOOKUP(C1367,[1]Sheet1!$A$2:$C$4597,2,FALSE)","v":"915120215727682423"}]
[1365,"资阳","四川君安盈创科技有限公司",{"$f":"VLOOKUP(C1368,[1]Sheet1!$A$2:$C$4597,2,FALSE)","v":"91512021MA67YDLP3J"}]
[1366,"资阳","四川省天翔食品有限公司",{"$f":"VLOOKUP(C1369,[1]Sheet1!$A$2:$C$4597,2,FALSE)","v":"91512022MA62K7DQ3W"}]
[1367,"资阳","四川默森药业有限公司",{"$f":"VLOOKUP(C1370,[1]Sheet1!$A$2:$C$4597,2,FALSE)","v":"91512022696974435D"}]
[1368,"资阳","资阳众诺诚塑料制品有限责任公司",{"$f":"VLOOKUP(C1371,[1]Sheet1!$A$2:$C$4597,2,FALSE)","v":"91512022MA66DK1B54"}]
[1369,"资阳","四川子茂电气有限责任公司",{"$f":"VLOOKUP(C1372,[1]Sheet1!$A$2:$C$4597,2,FALSE)","v":"91512022MA6865F23X"}]
[1370,"资阳","四川龙乐电器有限公司",{"$f":"VLOOKUP(C1373,[1]Sheet1!$A$2:$C$4597,2,FALSE)","v":"91512022099387304X"}]
[1371,"资阳","四川星马重工机械有限公司",{"$f":"VLOOKUP(C1374,[1]Sheet1!$A$2:$C$4597,2,FALSE)","v":"91512022MA6ALGW099"}]
[1372,"资阳","四川福兴杭萧建设有限公司",{"$f":"VLOOKUP(C1375,[1]Sheet1!$A$2:$C$4597,2,FALSE)","v":"91512022MA6934WD37"}]
[1373,"资阳","四川华柚医疗器械有限公司",{"$f":"VLOOKUP(C1376,[1]Sheet1!$A$2:$C$4597,2,FALSE)","v":"91512000MA692RTY3H"}]
[1374,"资阳","四川储仁教育科技有限公司",{"$f":"VLOOKUP(C1377,[1]Sheet1!$A$2:$C$4597,2,FALSE)","v":"91512002MA67D03W6E"}]
[1375,"资阳","四川启源药业有限公司",{"$f":"VLOOKUP(C1378,[1]Sheet1!$A$2:$C$4597,2,FALSE)","v":"91512002327093544Q"}]
[1376,"资阳","四川护家卫士生物医药科技有限公司",{"$f":"VLOOKUP(C1379,[1]Sheet1!$A$2:$C$4597,2,FALSE)","v":"91512000MA6A5KU42P"}]
[1377,"资阳","资阳联耀医疗器械有限责任公司",{"$f":"VLOOKUP(C1380,[1]Sheet1!$A$2:$C$4597,2,FALSE)","v":"91512000MA67YD4L24"}]
[1378,"资阳","资阳市金旺达农牧有限公司",{"$f":"VLOOKUP(C1381,[1]Sheet1!$A$2:$C$4597,2,FALSE)","v":"91512000665367165M"}]
[1379,"资阳","四川省四通车辆制造有限公司",{"$f":"VLOOKUP(C1382,[1]Sheet1!$A$2:$C$4597,2,FALSE)","v":"91512000694843159H"}]
[1380,"资阳","四川起光汽车配件有限公司",{"$f":"VLOOKUP(C1383,[1]Sheet1!$A$2:$C$4597,2,FALSE)","v":"91512000089872023Y"}]
[1381,"资阳","四川翼源通用设备有限公司",{"$f":"VLOOKUP(C1384,[1]Sheet1!$A$2:$C$4597,2,FALSE)","v":"91512000582198669X"}]
[1382,"资阳","资阳市建彬机械有限责任公司",{"$f":"VLOOKUP(C1385,[1]Sheet1!$A$2:$C$4597,2,FALSE)","v":"91512002671420639J"}]
[1383,"资阳","四川贝纳吉液氮生物容器有限公司",{"$f":"VLOOKUP(C1386,[1]Sheet1!$A$2:$C$4597,2,FALSE)","v":"91512000MA632MLK9A"}]
[1384,"资阳","资阳中车电气科技有限公司",{"$f":"VLOOKUP(C1387,[1]Sheet1!$A$2:$C$4597,2,FALSE)","v":"91512000775843839L"}]
[1385,"资阳","四川民基森威玻璃有限公司",{"$f":"VLOOKUP(C1388,[1]Sheet1!$A$2:$C$4597,2,FALSE)","v":"91512002098333144X"}]
[1386,"资阳","四川旺刚金属制品有限公司",{"$f":"VLOOKUP(C1389,[1]Sheet1!$A$2:$C$4597,2,FALSE)","v":"91512000MA6BA2K566"}]
[1387,"资阳","四川翰锐捷流体控制设备有限公司",{"$f":"VLOOKUP(C1390,[1]Sheet1!$A$2:$C$4597,2,FALSE)","v":"91512000MAACH2XE93"}]
[1388,"资阳","资阳大正东智车用管路有限公司",{"$f":"VLOOKUP(C1391,[1]Sheet1!$A$2:$C$4597,2,FALSE)","v":"915120025842239364"}]
[1389,"资阳","资阳石油钢管有限公司",{"$f":"VLOOKUP(C1392,[1]Sheet1!$A$2:$C$4597,2,FALSE)","v":"9151200290681369XH"}]
[1390,"资阳","四川华资口腔护理用品有限公司",{"$f":"VLOOKUP(C1393,[1]Sheet1!$A$2:$C$4597,2,FALSE)","v":"91512000MA63QPK327"}]
[1391,"资阳","四川雅齐医疗科技有限公司",{"$f":"VLOOKUP(C1394,[1]Sheet1!$A$2:$C$4597,2,FALSE)","v":"91512000MA691Q686K"}]
[1392,"资阳","四川正美齿科科技有限公司",{"$f":"VLOOKUP(C1395,[1]Sheet1!$A$2:$C$4597,2,FALSE)","v":"91512000MA691N2079"}]
[1393,"资阳","资阳市广鑫机械制造有限责任公司",{"$f":"VLOOKUP(C1396,[1]Sheet1!$A$2:$C$4597,2,FALSE)","v":"91512000MA685PR613"}]
[1394,"资阳","四川涑爽医疗用品股份有限公司",{"$f":"VLOOKUP(C1397,[1]Sheet1!$A$2:$C$4597,2,FALSE)","v":"91512000MA64862P9W"}]
[1395,"资阳","四川省风和日丽门窗有限公司",{"$f":"VLOOKUP(C1398,[1]Sheet1!$A$2:$C$4597,2,FALSE)","v":"91512002353623609G"}]
[1396,"资阳","资阳蜀达科技有限公司",{"$f":"VLOOKUP(C1399,[1]Sheet1!$A$2:$C$4597,2,FALSE)","v":"91512000687908540K"}]
[1397,"资阳","四川星光熠机电设备有限公司",{"$f":"VLOOKUP(C1400,[1]Sheet1!$A$2:$C$4597,2,FALSE)","v":"91512002MA62K4RX1B"}]
[1398,"阿坝","四川国理锂材料有限公司",{"$f":"VLOOKUP(C1401,[1]Sheet1!$A$2:$C$4597,2,FALSE)","v":"91513200797856972D"}]
[1399,"甘孜","炉霍康巴圣德牦牛产业有限公司",{"$f":"VLOOKUP(C1402,[1]Sheet1!$A$2:$C$4597,2,FALSE)","v":"91513327584239524C"}]
[1400,"甘孜","四川省永忠工程管理有限公司",{"$f":"VLOOKUP(C1403,[1]Sheet1!$A$2:$C$4597,2,FALSE)","v":"91510105MA61R7W68K"}]
[1401,"凉山","西昌三峰环保发电有限公司",{"$f":"VLOOKUP(C1404,[1]Sheet1!$A$2:$C$4597,2,FALSE)","v":"91513401MA62H9TP6H"}]
[1402,"凉山","西昌积微再生资源有限公司",{"$f":"VLOOKUP(C1405,[1]Sheet1!$A$2:$C$4597,2,FALSE)","v":"91513401MAACM14C2L"}]
[1403,"凉山","西昌新希望三牧乳业有限公司",{"$f":"VLOOKUP(C1406,[1]Sheet1!$A$2:$C$4597,2,FALSE)","v":"91513401MA62H00TX7"}]
[1404,"凉山","西昌思奇香食品有限责任公司",{"$f":"VLOOKUP(C1407,[1]Sheet1!$A$2:$C$4597,2,FALSE)","v":"91513400MA62H9533X"}]
[1405,"凉山","凉山州福银苦荞食品有限公司",{"$f":"VLOOKUP(C1408,[1]Sheet1!$A$2:$C$4597,2,FALSE)","v":"91513434097070610J"}]
[1406,"凉山","会理村娇食品有限责任公司",{"$f":"VLOOKUP(C1409,[1]Sheet1!$A$2:$C$4597,2,FALSE)","v":"9151342506031655XW"}]
[1407,"泸州","泸州泰丰种业有限公司",{"$f":"VLOOKUP(C1410,[1]Sheet1!$A$2:$C$4597,2,FALSE)","v":"915105027334110341"}]
[1408,"泸州","四川志文网络工程有限公司",{"$f":"VLOOKUP(C1411,[1]Sheet1!$A$2:$C$4597,2,FALSE)","v":"91510502572768226X"}]
[1409,"泸州","四川宏劲科技有限公司",{"$f":"VLOOKUP(C1412,[1]Sheet1!$A$2:$C$4597,2,FALSE)","v":"91510502752304402P"}]
[1410,"泸州","四川孔校科技有限公司",{"$f":"VLOOKUP(C1413,[1]Sheet1!$A$2:$C$4597,2,FALSE)","v":"91510502575287831F"}]
[1411,"泸州","泸州讯业计算机网络工程有限公司",{"$f":"VLOOKUP(C1414,[1]Sheet1!$A$2:$C$4597,2,FALSE)","v":"91510500708928699U"}]
[1412,"泸州","四川持恒环保设备有限公司",{"$f":"VLOOKUP(C1415,[1]Sheet1!$A$2:$C$4597,2,FALSE)","v":"91510502MA66UUA96G"}]
[1413,"泸州","泸州长江工程机械股份有限公司",{"$f":"VLOOKUP(C1416,[1]Sheet1!$A$2:$C$4597,2,FALSE)","v":"91510500797859401N"}]
[1414,"泸州","泸州天灵开关有限公司",{"$f":"VLOOKUP(C1417,[1]Sheet1!$A$2:$C$4597,2,FALSE)","v":"91510500720838776X"}]
[1415,"泸州","万基泰科工集团西南科技有限公司",{"$f":"VLOOKUP(C1418,[1]Sheet1!$A$2:$C$4597,2,FALSE)","v":"91510500MA6226HA7U"}]
[1416,"泸州","泸州中昊建筑工程有限公司",{"$f":"VLOOKUP(C1419,[1]Sheet1!$A$2:$C$4597,2,FALSE)","v":"91510500314521132J"}]
[1417,"泸州","四川立合微航金属材料有限公司",{"$f":"VLOOKUP(C1420,[1]Sheet1!$A$2:$C$4597,2,FALSE)","v":"91510502MA6224HXX2"}]
[1418,"泸州","四川天圳科技有限公司",{"$f":"VLOOKUP(C1421,[1]Sheet1!$A$2:$C$4597,2,FALSE)","v":"915105023094120461"}]
[1419,"泸州","四川创恒智汇信息技术有限公司",{"$f":"VLOOKUP(C1422,[1]Sheet1!$A$2:$C$4597,2,FALSE)","v":"91510502665353150E"}]
[1420,"泸州","泸州赛恩斯生物科技有限公司",{"$f":"VLOOKUP(C1423,[1]Sheet1!$A$2:$C$4597,2,FALSE)","v":"91510502MA657LWB19"}]
[1421,"泸州","泸州市鑫景顺光电有限公司",{"$f":"VLOOKUP(C1424,[1]Sheet1!$A$2:$C$4597,2,FALSE)","v":"91510500MA65ANEU4C"}]
[1422,"泸州","泸州浪淘科技有限公司",{"$f":"VLOOKUP(C1425,[1]Sheet1!$A$2:$C$4597,2,FALSE)","v":"91510502MA6227CL81"}]
[1423,"泸州","时间好物数字科技有限公司",{"$f":"VLOOKUP(C1426,[1]Sheet1!$A$2:$C$4597,2,FALSE)","v":"91510500078864175F"}]
[1424,"泸州","泸州市龙马潭区长江液压件有限公司",{"$f":"VLOOKUP(C1427,[1]Sheet1!$A$2:$C$4597,2,FALSE)","v":"915105047208518151"}]
[1425,"泸州","泸州临港工业化建筑科技有限公司",{"$f":"VLOOKUP(C1428,[1]Sheet1!$A$2:$C$4597,2,FALSE)","v":"91510504MA691CR57K"}]
[1426,"泸州","泸州北方纤维素有限公司",{"$f":"VLOOKUP(C1429,[1]Sheet1!$A$2:$C$4597,2,FALSE)","v":"9151050073339158XE"}]
[1427,"泸州","四川中环检测有限公司",{"$f":"VLOOKUP(C1430,[1]Sheet1!$A$2:$C$4597,2,FALSE)","v":"91510504592750920J"}]
[1428,"泸州","四川锐明电力工程有限公司",{"$f":"VLOOKUP(C1431,[1]Sheet1!$A$2:$C$4597,2,FALSE)","v":"915105043536101032"}]
[1429,"泸州","泸州发展机械有限公司",{"$f":"VLOOKUP(C1432,[1]Sheet1!$A$2:$C$4597,2,FALSE)","v":"915105007779370389"}]
[1430,"泸州","四川博逸达网络科技有限公司",{"$f":"VLOOKUP(C1433,[1]Sheet1!$A$2:$C$4597,2,FALSE)","v":"91510504MA622BR02D"}]
[1431,"泸州","四川斯宇信息技术有限公司",{"$f":"VLOOKUP(C1434,[1]Sheet1!$A$2:$C$4597,2,FALSE)","v":"91510504584972355G"}]
[1432,"泸州","四川天沛水利水电建设工程有限公司",{"$f":"VLOOKUP(C1435,[1]Sheet1!$A$2:$C$4597,2,FALSE)","v":"915105047716701766"}]
[1433,"泸州","四川中玺工程管理有限公司",{"$f":"VLOOKUP(C1436,[1]Sheet1!$A$2:$C$4597,2,FALSE)","v":"91510504309425402H"}]
[1434,"泸州","四川齐博科技有限公司",{"$f":"VLOOKUP(C1437,[1]Sheet1!$A$2:$C$4597,2,FALSE)","v":"91510503MA62UNRH71"}]
[1435,"泸州","中重（泸州）特种机器人有限公司",{"$f":"VLOOKUP(C1438,[1]Sheet1!$A$2:$C$4597,2,FALSE)","v":"91510503MA69B4410P"}]
[1436,"泸州","泸州市胜科模具制造有限公司",{"$f":"VLOOKUP(C1439,[1]Sheet1!$A$2:$C$4597,2,FALSE)","v":"91510521MA6224LEX4"}]
[1437,"泸州","泸州晶沣印务有限责任公司",{"$f":"VLOOKUP(C1440,[1]Sheet1!$A$2:$C$4597,2,FALSE)","v":"91510521MA68XUXT4W"}]
[1438,"泸州","泸县德森玻璃有限公司",{"$f":"VLOOKUP(C1441,[1]Sheet1!$A$2:$C$4597,2,FALSE)","v":"91510521680431479P"}]
[1439,"泸州","泸州道可名康医学检验实验室有限公司",{"$f":"VLOOKUP(C1442,[1]Sheet1!$A$2:$C$4597,2,FALSE)","v":"91510521MA665CAP19"}]
[1440,"泸州","泸州拓力源塑胶制品有限公司",{"$f":"VLOOKUP(C1443,[1]Sheet1!$A$2:$C$4597,2,FALSE)","v":"915105215883720233"}]
[1441,"泸州","泸州科瑞德制药有限公司",{"$f":"VLOOKUP(C1444,[1]Sheet1!$A$2:$C$4597,2,FALSE)","v":"91510500660250013R"}]
[1442,"泸州","四川国科中农生物科技有限公司",{"$f":"VLOOKUP(C1445,[1]Sheet1!$A$2:$C$4597,2,FALSE)","v":"915105035534591022"}]
[1443,"泸州","四川德睿水电工程有限公司",{"$f":"VLOOKUP(C1446,[1]Sheet1!$A$2:$C$4597,2,FALSE)","v":"915105215656973350"}]
[1444,"泸州","四川西蜀九锦现代中药有限公司",{"$f":"VLOOKUP(C1447,[1]Sheet1!$A$2:$C$4597,2,FALSE)","v":"91510521399359997E"}]
[1445,"泸州","四川华南无机盐有限公司",{"$f":"VLOOKUP(C1448,[1]Sheet1!$A$2:$C$4597,2,FALSE)","v":"91510522555750438C"}]
[1446,"泸州","合江妙灵中药材开发有限公司",{"$f":"VLOOKUP(C1449,[1]Sheet1!$A$2:$C$4597,2,FALSE)","v":"915105223144824952"}]
[1447,"泸州","四川亿志建筑工程有限公司",{"$f":"VLOOKUP(C1450,[1]Sheet1!$A$2:$C$4597,2,FALSE)","v":"91510522054912726U"}]
[1448,"泸州","叙永县鸿艺粉业有限公司",{"$f":"VLOOKUP(C1451,[1]Sheet1!$A$2:$C$4597,2,FALSE)","v":"915105240582095360"}]
[1449,"泸州","沈酒集团有限公司",{"$f":"VLOOKUP(C1452,[1]Sheet1!$A$2:$C$4597,2,FALSE)","v":"91510524MA6226EN4N"}]
[1450,"泸州","四川叙永一矿煤业有限责任公司",{"$f":"VLOOKUP(C1453,[1]Sheet1!$A$2:$C$4597,2,FALSE)","v":"91510524708940671F"}]
[1451,"泸州","四川长城计算机系统有限公司",{"$f":"VLOOKUP(C1454,[1]Sheet1!$A$2:$C$4597,2,FALSE)","v":"91510500MA66RDKL5A"}]
[1452,"泸州","泸州市鑫锐迪科技有限公司",{"$f":"VLOOKUP(C1455,[1]Sheet1!$A$2:$C$4597,2,FALSE)","v":"91510500MA637T3FXF"}]
[1453,"泸州","四川鼎盛无际网络科技有限公司",{"$f":"VLOOKUP(C1456,[1]Sheet1!$A$2:$C$4597,2,FALSE)","v":"91510504MA62WLDK8R"}]
[1454,"泸州","四川金鼎印业股份有限公司",{"$f":"VLOOKUP(C1457,[1]Sheet1!$A$2:$C$4597,2,FALSE)","v":"9151050468794914XP"}]
[1455,"泸州","泸州市聚源电力设备有限公司",{"$f":"VLOOKUP(C1458,[1]Sheet1!$A$2:$C$4597,2,FALSE)","v":"91510504MA6223D877"}]
[1456,"泸州","泸州临港思源混凝土有限公司",{"$f":"VLOOKUP(C1459,[1]Sheet1!$A$2:$C$4597,2,FALSE)","v":"915105043991319767"}]
[1457,"泸州","四川临港物流信息科技有限公司",{"$f":"VLOOKUP(C1460,[1]Sheet1!$A$2:$C$4597,2,FALSE)","v":"91510500MA6226904T"}]
[1458,"泸州","四川金佳钲医疗器械有限公司",{"$f":"VLOOKUP(C1461,[1]Sheet1!$A$2:$C$4597,2,FALSE)","v":"91510502MA622C046A"}]
[1459,"泸州","四川中菁智慧软件技术有限公司",{"$f":"VLOOKUP(C1462,[1]Sheet1!$A$2:$C$4597,2,FALSE)","v":"91510500MA65PG1F16"}]
[1460,"泸州","海普智联科技股份有限公司",{"$f":"VLOOKUP(C1463,[1]Sheet1!$A$2:$C$4597,2,FALSE)","v":"91510500662797629A"}]
[1461,"泸州","四川乌蒙山雨阳油茶科技有限公司",{"$f":"VLOOKUP(C1464,[1]Sheet1!$A$2:$C$4597,2,FALSE)","v":"91510524MA679M3W4X"}]
[1462,"泸州","泸州豪能传动技术有限公司",{"$f":"VLOOKUP(C1465,[1]Sheet1!$A$2:$C$4597,2,FALSE)","v":"91510500MA66RW0Q0F"}]
[1463,"泸州","泸州欧腾电子科技有限公司",{"$f":"VLOOKUP(C1466,[1]Sheet1!$A$2:$C$4597,2,FALSE)","v":"91510503MA66TU8R59"}]
[1464,"泸州","泸州羽丰酒业有限责任公司",{"$f":"VLOOKUP(C1467,[1]Sheet1!$A$2:$C$4597,2,FALSE)","v":"915105227978848776"}]
[1465,"泸州","合江县先市酿造食品有限公司",{"$f":"VLOOKUP(C1468,[1]Sheet1!$A$2:$C$4597,2,FALSE)","v":"9151052272322944XF"}]
[1466,"泸州","泸州宏德科技材料有限公司",{"$f":"VLOOKUP(C1469,[1]Sheet1!$A$2:$C$4597,2,FALSE)","v":"91510522MA6830PC9X"}]
[1467,"巴中","四川省通江县翰林茶业有限公司",{"$f":"VLOOKUP(C1470,[1]Sheet1!$A$2:$C$4597,2,FALSE)","v":"91511921771682089M"}]
[1468,"巴中","通江品冠银耳科技有限公司",{"$f":"VLOOKUP(C1471,[1]Sheet1!$A$2:$C$4597,2,FALSE)","v":"91511921MA68XJYW5P"}]
[1469,"巴中","四川芊菇生物科技有限公司",{"$f":"VLOOKUP(C1472,[1]Sheet1!$A$2:$C$4597,2,FALSE)","v":"91511921MA63PBXP1J"}]
[1470,"巴中","通江县文峰金山茶业有限责任公司",{"$f":"VLOOKUP(C1473,[1]Sheet1!$A$2:$C$4597,2,FALSE)","v":"91511921696960420U"}]
[1471,"巴中","平昌港华燃气有限公司",{"$f":"VLOOKUP(C1474,[1]Sheet1!$A$2:$C$4597,2,FALSE)","v":"91511923714490224J"}]
[1472,"巴中","四川省通江县罗村茶业有限责任公司",{"$f":"VLOOKUP(C1475,[1]Sheet1!$A$2:$C$4597,2,FALSE)","v":"915119217729666227"}]
[1473,"巴中","四川深恒科技有限公司",{"$f":"VLOOKUP(C1476,[1]Sheet1!$A$2:$C$4597,2,FALSE)","v":"91511902MA66NJ2T0B"}]
[1474,"巴中","四川德健南江黄羊食品有限责任公司",{"$f":"VLOOKUP(C1477,[1]Sheet1!$A$2:$C$4597,2,FALSE)","v":"91511922MA62D6576K"}]
[1475,"巴中","四川深山农业科技开发有限公司",{"$f":"VLOOKUP(C1478,[1]Sheet1!$A$2:$C$4597,2,FALSE)","v":"915119215775563960"}]
[1476,"巴中","四川省南江县长赤翡翠米业有限公司",{"$f":"VLOOKUP(C1479,[1]Sheet1!$A$2:$C$4597,2,FALSE)","v":"91511922729813081Q"}]
[1477,"巴中","四川全丰酒业有限责任公司",{"$f":"VLOOKUP(C1480,[1]Sheet1!$A$2:$C$4597,2,FALSE)","v":"91511900699162467L"}]
[1478,"巴中","南江宏信生物科技有限公司",{"$f":"VLOOKUP(C1481,[1]Sheet1!$A$2:$C$4597,2,FALSE)","v":"91511922MA62D2TN9N"}]
[1479,"巴中","四川裕德源生态农业科技有限公司",{"$f":"VLOOKUP(C1482,[1]Sheet1!$A$2:$C$4597,2,FALSE)","v":"91511921590475857R"}]
[1480,"巴中","四川爱吃兔食品有限公司",{"$f":"VLOOKUP(C1483,[1]Sheet1!$A$2:$C$4597,2,FALSE)","v":"91511921MA64YMF61J"}]
[1481,"巴中","四川仟米山上农业开发有限公司",{"$f":"VLOOKUP(C1484,[1]Sheet1!$A$2:$C$4597,2,FALSE)","v":"91511922MA69B69T7K"}]
[1482,"巴中","巴中叠麓农业有限公司",{"$f":"VLOOKUP(C1485,[1]Sheet1!$A$2:$C$4597,2,FALSE)","v":"91511922MA671H4YXC"}]
[1483,"巴中","巴中秦岭药业有限公司",{"$f":"VLOOKUP(C1486,[1]Sheet1!$A$2:$C$4597,2,FALSE)","v":"91511902MA67DTMF78"}]
[1484,"巴中","巴中建丰新材料有限公司",{"$f":"VLOOKUP(C1487,[1]Sheet1!$A$2:$C$4597,2,FALSE)","v":"915119005842495031"}]
[1485,"广元","四川苍药中药材有限公司",{"$f":"VLOOKUP(C1488,[1]Sheet1!$A$2:$C$4597,2,FALSE)","v":"91510824MA65KA2X18"}]
[1486,"广元","四川新通鑫金属铸造有限公司",{"$f":"VLOOKUP(C1489,[1]Sheet1!$A$2:$C$4597,2,FALSE)","v":"91510822MA65KG5W9F"}]
[1487,"广元","青川县天运金属开发有限公司",{"$f":"VLOOKUP(C1490,[1]Sheet1!$A$2:$C$4597,2,FALSE)","v":"915108227978988653"}]
[1488,"广元","四川中哲新材料科技有限公司",{"$f":"VLOOKUP(C1491,[1]Sheet1!$A$2:$C$4597,2,FALSE)","v":"91510822206000639B"}]
[1489,"广元","四川省青川县富乐蜂产品开发有限公司",{"$f":"VLOOKUP(C1492,[1]Sheet1!$A$2:$C$4597,2,FALSE)","v":"91510822767269259N"}]
[1490,"广元","广元天英精密传动系统有限公司",{"$f":"VLOOKUP(C1493,[1]Sheet1!$A$2:$C$4597,2,FALSE)","v":"91510802731603913X"}]
[1491,"广元","广元市国盛环保科技有限公司",{"$f":"VLOOKUP(C1494,[1]Sheet1!$A$2:$C$4597,2,FALSE)","v":"91510800MA62R8G786"}]
[1492,"广元","四川久达新材料科技有限公司",{"$f":"VLOOKUP(C1495,[1]Sheet1!$A$2:$C$4597,2,FALSE)","v":"91510800MA62KWMC4D"}]
[1493,"广元","广元市恒太铝业有限公司",{"$f":"VLOOKUP(C1496,[1]Sheet1!$A$2:$C$4597,2,FALSE)","v":"91510800MA6250NQ6Y"}]
[1494,"广元","四川中鑫复合材料有限公司",{"$f":"VLOOKUP(C1497,[1]Sheet1!$A$2:$C$4597,2,FALSE)","v":"91510800MA625303X9"}]
[1495,"广元","广元中孚高精铝材有限公司",{"$f":"VLOOKUP(C1498,[1]Sheet1!$A$2:$C$4597,2,FALSE)","v":"91510800MA68AA9W6P"}]
[1496,"广元","广元市林丰铝电有限公司",{"$f":"VLOOKUP(C1499,[1]Sheet1!$A$2:$C$4597,2,FALSE)","v":"91510800MA686CT21D"}]
[1497,"广元","四川广融紧固器材有限公司",{"$f":"VLOOKUP(C1500,[1]Sheet1!$A$2:$C$4597,2,FALSE)","v":"91510800584221834D"}]
[1498,"广元","四川白龙湖饮品有限公司",{"$f":"VLOOKUP(C1501,[1]Sheet1!$A$2:$C$4597,2,FALSE)","v":"91510800MA62CMUJ1K"}]
[1499,"广元","广元市安驭铝合金车轮有限公司",{"$f":"VLOOKUP(C1502,[1]Sheet1!$A$2:$C$4597,2,FALSE)","v":"915108006602957059"}]
[1500,"广元","广元元亨科技有限公司",{"$f":"VLOOKUP(C1503,[1]Sheet1!$A$2:$C$4597,2,FALSE)","v":"91510800MA68X6WEXJ"}]
[1501,"广元","四川涵杰新材料科技有限公司",{"$f":"VLOOKUP(C1504,[1]Sheet1!$A$2:$C$4597,2,FALSE)","v":"91510800MA6252X37J"}]
[1502,"广元","四川伟跃铝业有限公司",{"$f":"VLOOKUP(C1505,[1]Sheet1!$A$2:$C$4597,2,FALSE)","v":"91510800MA68HQWL4G"}]
[1503,"广元","四川晟合鸿科技有限公司",{"$f":"VLOOKUP(C1506,[1]Sheet1!$A$2:$C$4597,2,FALSE)","v":"91510800MA676UHJ2P"}]
[1504,"广元","广元水木新材料科技有限公司",{"$f":"VLOOKUP(C1507,[1]Sheet1!$A$2:$C$4597,2,FALSE)","v":"91510800MA6BA7NJ30"}]
["备注：企业排名不分先后，有效期至2026年3月。"]